BEGIN:VCALENDAR
VERSION:2.0
PRODID:-//Diocese of Southern Ohio - ECPv6.15.20//NONSGML v1.0//EN
CALSCALE:GREGORIAN
METHOD:PUBLISH
X-ORIGINAL-URL:https://diosohio.org
X-WR-CALDESC:Events for Diocese of Southern Ohio
REFRESH-INTERVAL;VALUE=DURATION:PT1H
X-Robots-Tag:noindex
X-PUBLISHED-TTL:PT1H
BEGIN:VTIMEZONE
TZID:America/New_York
BEGIN:DAYLIGHT
TZOFFSETFROM:-0500
TZOFFSETTO:-0400
TZNAME:EDT
DTSTART:20240310T070000
END:DAYLIGHT
BEGIN:STANDARD
TZOFFSETFROM:-0400
TZOFFSETTO:-0500
TZNAME:EST
DTSTART:20241103T060000
END:STANDARD
BEGIN:DAYLIGHT
TZOFFSETFROM:-0500
TZOFFSETTO:-0400
TZNAME:EDT
DTSTART:20250309T070000
END:DAYLIGHT
BEGIN:STANDARD
TZOFFSETFROM:-0400
TZOFFSETTO:-0500
TZNAME:EST
DTSTART:20251102T060000
END:STANDARD
BEGIN:DAYLIGHT
TZOFFSETFROM:-0500
TZOFFSETTO:-0400
TZNAME:EDT
DTSTART:20260308T070000
END:DAYLIGHT
BEGIN:STANDARD
TZOFFSETFROM:-0400
TZOFFSETTO:-0500
TZNAME:EST
DTSTART:20261101T060000
END:STANDARD
END:VTIMEZONE
BEGIN:VEVENT
DTSTART;VALUE=DATE:20251001
DTEND;VALUE=DATE:20251002
DTSTAMP:20260425T095821
CREATED:20240923T163610Z
LAST-MODIFIED:20240923T163610Z
UID:10001661-1759276800-1759363199@diosohio.org
SUMMARY:Red Door Bakes - new monthly menu
DESCRIPTION:Red Door Bakes\, an online monthly bake sale fundraiser organized by St. Mary’s\, Hillsboro\, posts new monthly selections at the beginning of each month. \nVisitors can visit the sale’s website\, choose the items they would like to purchase and make the donation of their choice. The pickup date and time is listed on the home page.
URL:https://diosohio.org/event/red-door-bakes-new-monthly-menu/2025-10-01/
LOCATION:OH
CATEGORIES:Community
ATTACH;FMTTYPE=image/png:https://diosohio.org/wp-content/uploads/2023/03/default-featured-image.png
END:VEVENT
BEGIN:VEVENT
DTSTART;TZID=America/New_York:20251004T170000
DTEND;TZID=America/New_York:20251004T200000
DTSTAMP:20260425T095821
CREATED:20250930T155203Z
LAST-MODIFIED:20250930T155203Z
UID:10002565-1759597200-1759608000@diosohio.org
SUMMARY:Jazz on the Lawn
DESCRIPTION:Annual Jazz on the Lawn at St. Simon of Cyrene\, Lincoln Heights\, featuring the Mojo Blues Cats. Free admission\, refreshments will be sold. Bring a lawn chair!
URL:https://diosohio.org/event/jazz-on-the-lawn/
LOCATION:St Simon of Cyrene Cincinnati\, 810 Matthews Dr\, Cincinnati\, OH\, 45215-1837
CATEGORIES:Community
ATTACH;FMTTYPE=image/png:https://diosohio.org/wp-content/uploads/2025/09/jazz.png
END:VEVENT
BEGIN:VEVENT
DTSTART;TZID=America/New_York:20251005T150000
DTEND;TZID=America/New_York:20251005T170000
DTSTAMP:20260425T095821
CREATED:20250805T151949Z
LAST-MODIFIED:20250819T153347Z
UID:10002490-1759676400-1759683600@diosohio.org
SUMMARY:Episcopup Meetup and Dog Blessing
DESCRIPTION:Ascension and Holy Trinity\, Wyoming\, will host an Episcopup meetup at Otto Armleder Dog Park on Sunday\, October 5 from 3 to 5 pm. (Weather permitting). Bishop White will join for a dog blessing at 4 pm.
URL:https://diosohio.org/event/episcopup-meetup-and-dog-blessing/
LOCATION:Otto Armleder Memorial Park\, 5057 Wooster Pike\, Cincinnati\, United States
CATEGORIES:Community
ATTACH;FMTTYPE=image/jpeg:https://diosohio.org/wp-content/uploads/2025/08/dogs-7320741_1280-e1755617606363.jpeg
END:VEVENT
BEGIN:VEVENT
DTSTART;TZID=America/New_York:20251005T163000
DTEND;TZID=America/New_York:20251005T180000
DTSTAMP:20260425T095821
CREATED:20250930T160008Z
LAST-MODIFIED:20250930T160213Z
UID:10002567-1759681800-1759687200@diosohio.org
SUMMARY:Choral Evensong
DESCRIPTION:Begin your week with a time of reflection as you hear ancient texts of prayer and praise sung by the Christ Church Cathedral Choir. Music will include former cathedral organ scholar Daniel Grotz’s “O Gracious Light\,” Herbert Sumsion’s Magnificat and Nunc dimittis in G\, Responses for Evening Prayer by Stephan Casurella\, and Felix Mendelssohn’s “I Waited for the Lord.” The service will also be available via live stream at https://cincinnaticathedral.com/livestream/ and is preceded by an organ recital featuring Jason Gunnell. Reception following. \n4:30-5:00 pm | Pre-Service Organ Recital\n5:00-6:00 pm | Choral Evensong
URL:https://diosohio.org/event/choral-evensong-9/
LOCATION:Christ Church Cathedral Cincinnati\, 318 E 4th St\, Cincinnati\, OH\, 45202-4202\, US
CATEGORIES:Cathedral
ATTACH;FMTTYPE=image/png:https://diosohio.org/wp-content/uploads/2024/12/CCC-logo-w-bkg.png
END:VEVENT
BEGIN:VEVENT
DTSTART;TZID=America/New_York:20251007T121000
DTEND;TZID=America/New_York:20251007T130000
DTSTAMP:20260425T095821
CREATED:20250930T160607Z
LAST-MODIFIED:20250930T160607Z
UID:10002569-1759839000-1759842000@diosohio.org
SUMMARY:Music Live at Lunch
DESCRIPTION:Music Live at Lunch Performances at Christ Church Cathedral in October  \nMusic Live at Lunch\, Christ Church Cathedral’s weekly concert series\, will feature the performers listed below in October. These free concerts are presented on Tuesdays at 12:10 p.m. Patrons are welcome to bring their own lunches. \nOCTOBER SCHEDULE \nOctober 7: Danielle Hundley (flute)\nOctober 14: James Meade (guitar)\nOctober 21: In Vista Winds\nOctober 28: Walnut Hills High School Choir
URL:https://diosohio.org/event/music-live-at-lunch-october-25/2025-10-07/
LOCATION:Christ Church Cathedral Cincinnati\, 318 E 4th St\, Cincinnati\, OH\, 45202-4202\, US
CATEGORIES:Cathedral
ATTACH;FMTTYPE=image/png:https://diosohio.org/wp-content/uploads/2024/12/CCC-logo-w-bkg.png
END:VEVENT
BEGIN:VEVENT
DTSTART;TZID=America/New_York:20251007T200500
DTEND;TZID=America/New_York:20251007T210000
DTSTAMP:20260425T095821
CREATED:20250930T161043Z
LAST-MODIFIED:20250930T161043Z
UID:10002573-1759867500-1759870800@diosohio.org
SUMMARY:Compline for Peace & Deliverance
DESCRIPTION:Join Trinity on Capitol Square in-person or online for Compline for Peace & Deliverance\nTuesday\, October 7 at 8:05pm (Doors at 7:45pm)\nWe remember the dead on the solemn two-year anniversaries of the Israel and Gaza attacks\, pray for an end to the Genocide in Gaza\, and for freedom\, healing and peace for all throughout Israel & Palestine.\nZOOM LINK: https://us02web.zoom.us/j/83274644832
URL:https://diosohio.org/event/compline-for-peace-deliverance/
LOCATION:Trinity Capitol Square\, 125 E Broad St\, Columbus\, OH\, 43215-3605\, US
CATEGORIES:Community
ATTACH;FMTTYPE=image/png:https://diosohio.org/wp-content/uploads/2025/09/Unknown.png
END:VEVENT
BEGIN:VEVENT
DTSTART;TZID=America/New_York:20251011T100000
DTEND;TZID=America/New_York:20251011T140000
DTSTAMP:20260425T095821
CREATED:20250903T182735Z
LAST-MODIFIED:20250903T182814Z
UID:10002557-1760176800-1760191200@diosohio.org
SUMMARY:Indigenous Peoples Day celebration
DESCRIPTION:Christ Church Cathedral’s Native American Council will offer a weekend of programming and worship that explores the nexus between Native American spirituality and Christianity. It begins on Saturday\, October 11\, with a workshop that will focus on “The Journey to a Missionary Diocese and Living the Beauty Way.” Worship Services on Sunday will include Indigenous themes. The weekend will also include activities sponsored by the Urban Native Collective. All of the events are free and open to the public. \nSATURDAY\, OCTOBER 11\, 10 am to 2 pm\nThe Journey to a Missionary Diocese and Living the Beauty Way \nThe Rev. Canon Cornelia Eaton (Navajo) has served many roles in the Episcopal Church as a laity before being ordained to the priesthood in 2015. She has served the Episcopal Church in Navajoland as a youth minister\, lay leader and assistant to the Bishop\, and is currently the Canon to the Ordinary. She is a storyteller and a writer of poetry with a particular focus on the Navajo way of life known as Iina Biké Hozhó–being in harmony with divine creation through spirituality\, culture\, tradition\, and relationship. \nThe Rt. Rev. Barry L. Beisner was elected Bishop Provisional of the Missionary Diocese of Navajoland in 2023. Beginning in 2019\, at the invitation of Bishop David Bailey\, + Barry served as an assisting bishop for Navajoland. He served thirteen years as the Bishop of the Diocese of Northern California. Previous ministries include diocesan staff\, a variety of parishes\, and campus ministries\, in California and in Ohio. \nTo register\, contact Tom Cecil\, chair\, Native American Ministry Council\, blue1619.tc@gmail.com \nSUNDAY\, OCTOBER 12\, 10 am \nThe Rev. Canon Cornelia Eaton will preach at the Sunday liturgy.  The Service will also include Guy Jones (Hunkpapa Lakota) and Sonny Hensley of the Miami Valley Council for Native Americans; Copper Face United\, Drum Group; Josh Gibbs \, Native Flute Player; and the Christ Church Cathedral Choir \nOTHER EVENTS SUPPORTED BY THE COUNCIL \nUrban Native Collective Art Opening – 21C Museum Hotel\, Saturday evening October 11. More information at https://urbannativecollective.org. \nEvents are open to all who are interested in Native American culture.
URL:https://diosohio.org/event/indigenous-peoples-day-celebration/
LOCATION:Christ Church Cathedral Cincinnati\, 318 E 4th St\, Cincinnati\, OH\, 45202-4202\, US
CATEGORIES:Cathedral
ATTACH;FMTTYPE=image/png:https://diosohio.org/wp-content/uploads/2024/12/CCC-logo-w-bkg.png
END:VEVENT
BEGIN:VEVENT
DTSTART;TZID=America/New_York:20251014T121000
DTEND;TZID=America/New_York:20251014T130000
DTSTAMP:20260425T095821
CREATED:20250930T160607Z
LAST-MODIFIED:20250930T160607Z
UID:10002570-1760443800-1760446800@diosohio.org
SUMMARY:Music Live at Lunch
DESCRIPTION:Music Live at Lunch Performances at Christ Church Cathedral in October  \nMusic Live at Lunch\, Christ Church Cathedral’s weekly concert series\, will feature the performers listed below in October. These free concerts are presented on Tuesdays at 12:10 p.m. Patrons are welcome to bring their own lunches. \nOCTOBER SCHEDULE \nOctober 7: Danielle Hundley (flute)\nOctober 14: James Meade (guitar)\nOctober 21: In Vista Winds\nOctober 28: Walnut Hills High School Choir
URL:https://diosohio.org/event/music-live-at-lunch-october-25/2025-10-14/
LOCATION:Christ Church Cathedral Cincinnati\, 318 E 4th St\, Cincinnati\, OH\, 45202-4202\, US
CATEGORIES:Cathedral
ATTACH;FMTTYPE=image/png:https://diosohio.org/wp-content/uploads/2024/12/CCC-logo-w-bkg.png
END:VEVENT
BEGIN:VEVENT
DTSTART;VALUE=DATE:20251019
DTEND;VALUE=DATE:20251020
DTSTAMP:20260425T095821
CREATED:20251007T205928Z
LAST-MODIFIED:20251014T165653Z
UID:10002596-1760832000-1760918399@diosohio.org
SUMMARY:Anti-Racism Sunday
DESCRIPTION:The Ohio Council of Churches\, its partners and allies are asking Christian congregations and other faith communities around the state to publicly declare racism to be a sin\, an offense to God that is incompatible with God’s loving and just vision for humanity. Sermons and other anti-racism messages are sought on or near Oct. 19. \nAccording to the Rev. Dr. Jack Sullivan\, Jr.\, the council’s Executive Director\, racism contradicts the clear teachings of Jesus Christ. Sullivan cited Luke 10:25-37; John 4:1-26; Matthew 28:19; Matthew 22:37-39. Racism and oppression of the stranger are also condemned in the Hebrew Scriptures\, in passages such as Leviticus 19: 33\, and in the Holy Koran\, noted others on the Ohio Council of Churches’ Anti-Racism Team. \nFor congregations\, the council said\, Anti-Racism Sunday on Oct. 19 could begin a 13-week emphasis on detecting\, disrupting\, and dismantling racism in all of its forms and disguises\, culminating in the nation’s celebration of the birthday of the Rev. Dr. Martin Luther King Jr. The council is also offering curricula on its website to support deeper congregational and community discussions about how to address and overcome racism. \n“In an era where hard-fought racial justice and diversity firewalls have been attacked and voided\,” commented Sullivan\, “and as faith is being weaponized to give the scandalous appearance of divine endorsement of racialized hate\, Anti-Racism Sunday is an opportunity for Christians and their neighbors of different faiths to clearly and publicly set the record straight: God does not support racism\, and neither do we!” \nAmerican racism not only hurts Black people\, it specifically hurts working-class Whites and other groups as well\, members of the council’s Anti-Racism Team asserted. And in a policy briefing on economic jeopardy written for the AFL-CIO\, scholar Haney Lopez reported\, “When racism triumphs\, all workers lose.” \n“On Anti-Racism Sunday\,” said Sullivan\, “people of faith will continue … to confront racial disinformation with truth; to counter racial misinformation with facts; and to challenge racial fear with love.” \nParticipating congregations and faith leaders are urged to let the council know about their plans. Emails can be directed to info@ohcouncilchs.org. Anti-racism resources are offered on the council’s website. \nThe council\, now marking 105 years\, is a Jesus Christ movement for unity\, justice and peace. Its ministry represents 17 Christian denominations and is the largest and most diverse group of Christians in Ohio. The council has connections to both the National Council of Churches and the World Council of Churches.
URL:https://diosohio.org/event/anti-racism-sunday/
LOCATION:OH
CATEGORIES:Becoming Beloved Community,Community
ATTACH;FMTTYPE=image/png:https://diosohio.org/wp-content/uploads/2025/10/OCC-News-Release-Concerning-Anti-Racism-Sunday-October-19_J-2025.png
END:VEVENT
BEGIN:VEVENT
DTSTART;TZID=America/New_York:20251019T150000
DTEND;TZID=America/New_York:20251019T163000
DTSTAMP:20260425T095821
CREATED:20250930T160145Z
LAST-MODIFIED:20250930T160145Z
UID:10002568-1760886000-1760891400@diosohio.org
SUMMARY:Collegium Cincinnati Concert: Michael Unger (organ) and Manami White (violin)
DESCRIPTION:Collegium Cincinnati members Michael Unger (organ) and Manami White (violin) perform a concert in Centennial Chapel featuring music by Antonio Bertali\, Arcangelo Corelli\, Isabella Leonarda\, Johann Pachelbel\, and others. Ticket information: collegiumcincinnati.org. \nFor more information\, visit www.cincinnaticathedral.com or call 513-621-1817.
URL:https://diosohio.org/event/collegium-cincinnati-concert-michael-unger-organ-and-manami-white-violin/
LOCATION:Christ Church Cathedral Cincinnati\, 318 E 4th St\, Cincinnati\, OH\, 45202-4202\, US
CATEGORIES:Cathedral
ATTACH;FMTTYPE=image/png:https://diosohio.org/wp-content/uploads/2023/03/default-featured-image.png
END:VEVENT
BEGIN:VEVENT
DTSTART;TZID=America/New_York:20251019T150000
DTEND;TZID=America/New_York:20251019T170000
DTSTAMP:20260425T095821
CREATED:20251007T205604Z
LAST-MODIFIED:20251017T203938Z
UID:10002595-1760886000-1760893200@diosohio.org
SUMMARY:Joy as Resistance Block Party - CANCELLED
DESCRIPTION:THIS EVENT HAS BEEN CANCELLED DUE TO POOR WEATHER FORECAST.\n\nCome practice Joy as Resistance at the JOY BLOCK PARTY event on SUNDAY\, OCTOBER 19\, 3 to 5 pm\, in downtown Cincinnati on the Court St. Plaza.\n\nThis free community gathering is all about finding strength and connection through joy. We’ll celebrate with drumming\, dancing\, singing\, and storytelling\, featuring live music by April Mann and reflections from April Roush on “Why Joy.” You’ll also get the chance to make music together and close with a beautiful group song before 5 pm.\n\nBring your spirit of curiosity\, kindness\, and rhythm — and stay after to grab a bite at one of the local restaurants nearby to keep the joy going while supporting downtown businesses. \n 
URL:https://diosohio.org/event/joy-as-resistance-block-party/
LOCATION:Court Street Plaza\, Court Street\, Cincinnati\, OH\, 45202\, United States
CATEGORIES:Community
ATTACH;FMTTYPE=image/png:https://diosohio.org/wp-content/uploads/2025/10/JOY_Protest_FLYER_2sm.png
END:VEVENT
BEGIN:VEVENT
DTSTART;VALUE=DATE:20251021
DTEND;VALUE=DATE:20251022
DTSTAMP:20260425T095821
CREATED:20250708T172413Z
LAST-MODIFIED:20250708T172413Z
UID:10002068-1761004800-1761091199@diosohio.org
SUMMARY:St. Mary's\, Hillsboro 170th Anniversary celebration
DESCRIPTION:More information TBA.
URL:https://diosohio.org/event/st-marys-hillsboro-170th-anniversary-celebration/
LOCATION:St Mary’s Hillsboro\, 234 N High St\, Hillsboro\, OH\, 45133-1129\, US
CATEGORIES:Community
ATTACH;FMTTYPE=image/jpeg:https://diosohio.org/wp-content/uploads/2025/07/Saint-Marys-Hillsboro.jpg
END:VEVENT
BEGIN:VEVENT
DTSTART;TZID=America/New_York:20251021T121000
DTEND;TZID=America/New_York:20251021T130000
DTSTAMP:20260425T095821
CREATED:20250930T160607Z
LAST-MODIFIED:20250930T160607Z
UID:10002571-1761048600-1761051600@diosohio.org
SUMMARY:Music Live at Lunch
DESCRIPTION:Music Live at Lunch Performances at Christ Church Cathedral in October  \nMusic Live at Lunch\, Christ Church Cathedral’s weekly concert series\, will feature the performers listed below in October. These free concerts are presented on Tuesdays at 12:10 p.m. Patrons are welcome to bring their own lunches. \nOCTOBER SCHEDULE \nOctober 7: Danielle Hundley (flute)\nOctober 14: James Meade (guitar)\nOctober 21: In Vista Winds\nOctober 28: Walnut Hills High School Choir
URL:https://diosohio.org/event/music-live-at-lunch-october-25/2025-10-21/
LOCATION:Christ Church Cathedral Cincinnati\, 318 E 4th St\, Cincinnati\, OH\, 45202-4202\, US
CATEGORIES:Cathedral
ATTACH;FMTTYPE=image/png:https://diosohio.org/wp-content/uploads/2024/12/CCC-logo-w-bkg.png
END:VEVENT
BEGIN:VEVENT
DTSTART;TZID=America/New_York:20251023T180000
DTEND;TZID=America/New_York:20251023T210000
DTSTAMP:20260425T095821
CREATED:20251007T143626Z
LAST-MODIFIED:20251007T143626Z
UID:10002586-1761242400-1761253200@diosohio.org
SUMMARY:Reconciling Religion\, Race\, and Really Queer People
DESCRIPTION:LOVEboldly invites you to join us on October 23\, 2025 for Reconciling Religion\, Race\, and Really Queer People — a powerful community forum in Cincinnati. \nThis event brings together a panel of diverse voices to explore the intersections of faith\, race\, and LGBTQIA+ identity in America and share ideas for healing the divides that impact us all. \nRegister here.
URL:https://diosohio.org/event/reconciling-religion-race-and-really-queer-people/
LOCATION:The Open Table\, 3615 Socialville-Foster Rd\, Suite C\, Mason\, United States
CATEGORIES:Community,LGBTQ+ Ministry
ATTACH;FMTTYPE=image/jpeg:https://diosohio.org/wp-content/uploads/2025/10/Reconciling-e1759847686495.jpg
END:VEVENT
BEGIN:VEVENT
DTSTART;TZID=America/New_York:20251024T121500
DTEND;TZID=America/New_York:20251024T130000
DTSTAMP:20260425T095821
CREATED:20250930T162523Z
LAST-MODIFIED:20250930T162523Z
UID:10002576-1761308100-1761310800@diosohio.org
SUMMARY:Red Door Community Concert: Michael Unger (organ)
DESCRIPTION:Plan to come hear Canadian-born organist MICHAEL UNGER play Holy Trinity’s Nordlie pipe organ. Hailed for his “broad musicianship and superb technical mastery” Unger is a multiple award-winning performer who appears as a soloist\, orchestral and chamber musician in North America\, Europe\, Japan\, and South Korea. Since 2013\, he is Associate Professor of Organ and Harpsichord at the University of Cincinnati College-Conservatory of Music. You won’t want to miss this concert! \nLimited free parking will be available on Walnut and Poplar Streets.
URL:https://diosohio.org/event/red-door-community-concert-michael-unger-organ/
LOCATION:Holy Trinity Oxford\, 25 E Walnut St\, Oxford\, OH\, 45056-1835\, US
CATEGORIES:Community
ATTACH;FMTTYPE=image/png:https://diosohio.org/wp-content/uploads/2025/08/RedDoorConcerts.png
END:VEVENT
BEGIN:VEVENT
DTSTART;TZID=America/New_York:20251024T193000
DTEND;TZID=America/New_York:20251024T210000
DTSTAMP:20260425T095821
CREATED:20250930T155730Z
LAST-MODIFIED:20250930T155730Z
UID:10002566-1761334200-1761339600@diosohio.org
SUMMARY:The World on a String: Music for Violin and Cello
DESCRIPTION:Two Cincinnati Symphony Orchestra musicians—violinist Evin Blomberg and Principal Cellist Ilya Finkelshteyn—unite for an evening of brilliance and intimacy. \nFrom the elegance of Scarlatti and Bach to the fiery drama of Handel/Halvorsen’s Passacaglia\, this program highlights the expressive power and dialogue unique to the violin–cello duo. \nHighlights include Baroque masterpieces such as Bach’s Violin Sonata No. 1 in G minor and the iconic Cello Suite No. 1 in G major. The ticketed concert takes place Friday\, October 24\, 2025 at 7:30 PM at St. Thomas\, Terrace Park. \nBuy tickets \nProgram \n\nDomenico Scarlatti – Keyboard Sonatas K. 9\, K. 322\, and K. 380 arranged for violin and cello\nJ.S. Bach – Violin Sonata No. 1 in G minor\, BWV 1001\nJ.S. Bach – Cello Suite No. 1 in G major\, BWV 1007\nG.F. Handel/Johan Halvorsen – Passacaglia (from Suite No. 7\, HWV 432) for violin and cello
URL:https://diosohio.org/event/the-world-on-a-string-music-for-violin-and-cello/
LOCATION:St Thomas Terrace Park\, 100 Miami Ave\, Terrace Park\, OH\, 45174-1175\, US
CATEGORIES:Community
ATTACH;FMTTYPE=image/jpeg:https://diosohio.org/wp-content/uploads/2025/09/36b2224f-e32b-8361-cd15-6ecc9b577d3b-e1759247834517.jpg
ORGANIZER;CN="The Bach Ensemble of St. Thomas":MAILTO:BEST@bachensemble.org
END:VEVENT
BEGIN:VEVENT
DTSTART;TZID=America/New_York:20251025T160000
DTEND;TZID=America/New_York:20251025T173000
DTSTAMP:20260425T095821
CREATED:20251014T170737Z
LAST-MODIFIED:20251014T170737Z
UID:10002618-1761408000-1761413400@diosohio.org
SUMMARY:Author Lecture: Cole Arthur Riley
DESCRIPTION:New York Times bestselling author of This Here Flesh\, Cole Arthur Riley\, will speak at Cincinnati’s Knox Presbyterian Church at 4 p.m. on Saturday\, October 25. Riley’s appearance is part of the Knox Church’s Tom York Lecture Series and is open to the public. \nThe event will offer a 45- to 60-minute lecture followed by 30-minute Q&A. There is no admission charge; however\, donations are encouraged to help fund this and future lectures. \nRegistration for Riley’s appearance is at knox.org/cole. \nKnox Presbyterian is a member of the Hype Park Church Collective\, which includes The Episcopal Church of the Redeemer\, Knox Presbyterian Church\, and The Hyde Park Community United Methodist Church.
URL:https://diosohio.org/event/author-lecture-cole-arthur-riley/
LOCATION:Knox Presbyterian Church\, 3400 Michigan Ave\, Cincinnati\, 45208\, United States
CATEGORIES:Community
ATTACH;FMTTYPE=image/jpeg:https://diosohio.org/wp-content/uploads/2025/10/newsletter-pics-9-copy.jpg
END:VEVENT
BEGIN:VEVENT
DTSTART;TZID=America/New_York:20251026T170000
DTEND;TZID=America/New_York:20251026T183000
DTSTAMP:20260425T095821
CREATED:20250930T161417Z
LAST-MODIFIED:20250930T161417Z
UID:10002574-1761498000-1761503400@diosohio.org
SUMMARY:Bach Vespers
DESCRIPTION:Guest conductor Christopher Holman of St. Gertrude Catholic Church directs a special program of program that traces a profound arc through the German sacred tradition\, centered on J.S. Bach’s dramatic cantata Es reiset euch ein schrecklich Ende\, BWV 90.
URL:https://diosohio.org/event/bach-vespers-8/
LOCATION:St Thomas Terrace Park\, 100 Miami Ave\, Terrace Park\, OH\, 45174-1175\, US
CATEGORIES:Community
ATTACH;FMTTYPE=image/png:https://diosohio.org/wp-content/uploads/2025/09/ee6851f6-5a8c-0112-0432-73b2eacda65d.png
ORGANIZER;CN="The Bach Ensemble of St. Thomas":MAILTO:BEST@bachensemble.org
END:VEVENT
BEGIN:VEVENT
DTSTART;TZID=America/New_York:20251028T121000
DTEND;TZID=America/New_York:20251028T130000
DTSTAMP:20260425T095821
CREATED:20250930T160607Z
LAST-MODIFIED:20250930T160607Z
UID:10002572-1761653400-1761656400@diosohio.org
SUMMARY:Music Live at Lunch
DESCRIPTION:Music Live at Lunch Performances at Christ Church Cathedral in October  \nMusic Live at Lunch\, Christ Church Cathedral’s weekly concert series\, will feature the performers listed below in October. These free concerts are presented on Tuesdays at 12:10 p.m. Patrons are welcome to bring their own lunches. \nOCTOBER SCHEDULE \nOctober 7: Danielle Hundley (flute)\nOctober 14: James Meade (guitar)\nOctober 21: In Vista Winds\nOctober 28: Walnut Hills High School Choir
URL:https://diosohio.org/event/music-live-at-lunch-october-25/2025-10-28/
LOCATION:Christ Church Cathedral Cincinnati\, 318 E 4th St\, Cincinnati\, OH\, 45202-4202\, US
CATEGORIES:Cathedral
ATTACH;FMTTYPE=image/png:https://diosohio.org/wp-content/uploads/2024/12/CCC-logo-w-bkg.png
END:VEVENT
BEGIN:VEVENT
DTSTART;TZID=America/New_York:20251029T150000
DTEND;TZID=America/New_York:20251029T160000
DTSTAMP:20260425T095821
CREATED:20251014T171228Z
LAST-MODIFIED:20251014T171228Z
UID:10002619-1761750000-1761753600@diosohio.org
SUMMARY:Webinar - Faith Formation in 2025 (& beyond): The Shift to Intergenerationality
DESCRIPTION:In many of our churches\, traditional Christian formation programs such as youth group and Sunday School are no longer “working” in the ways they used to. Attendance is often sporadic and it can be hard to find committed leaders to work with various age groups. \nIn this online gathering sponsored by Province V of the Episcopal Church\, Sarah Bentley Allred will share current research and trends from across the church\, including how the intergenerational movement is gaining momentum. While there is no “silver bullet” for this new era of church ministry\, intergenerationality offers a wealth of possibilities for the formation of all members of the body of Christ. \nRegister here.
URL:https://diosohio.org/event/webinar-faith-formation-in-2025-beyond-the-shift-to-intergenerationality/
LOCATION:OH
CATEGORIES:Community
ATTACH;FMTTYPE=image/jpeg:https://diosohio.org/wp-content/uploads/2025/10/faith-formation-in-2025-corrected.jpg
END:VEVENT
END:VCALENDAR