BEGIN:VCALENDAR
VERSION:2.0
PRODID:-//Diocese of Southern Ohio - ECPv6.15.20//NONSGML v1.0//EN
CALSCALE:GREGORIAN
METHOD:PUBLISH
X-WR-CALNAME:Diocese of Southern Ohio
X-ORIGINAL-URL:https://diosohio.org
X-WR-CALDESC:Events for Diocese of Southern Ohio
REFRESH-INTERVAL;VALUE=DURATION:PT1H
X-Robots-Tag:noindex
X-PUBLISHED-TTL:PT1H
BEGIN:VTIMEZONE
TZID:America/New_York
BEGIN:DAYLIGHT
TZOFFSETFROM:-0500
TZOFFSETTO:-0400
TZNAME:EDT
DTSTART:20240310T070000
END:DAYLIGHT
BEGIN:STANDARD
TZOFFSETFROM:-0400
TZOFFSETTO:-0500
TZNAME:EST
DTSTART:20241103T060000
END:STANDARD
BEGIN:DAYLIGHT
TZOFFSETFROM:-0500
TZOFFSETTO:-0400
TZNAME:EDT
DTSTART:20250309T070000
END:DAYLIGHT
BEGIN:STANDARD
TZOFFSETFROM:-0400
TZOFFSETTO:-0500
TZNAME:EST
DTSTART:20251102T060000
END:STANDARD
BEGIN:DAYLIGHT
TZOFFSETFROM:-0500
TZOFFSETTO:-0400
TZNAME:EDT
DTSTART:20260308T070000
END:DAYLIGHT
BEGIN:STANDARD
TZOFFSETFROM:-0400
TZOFFSETTO:-0500
TZNAME:EST
DTSTART:20261101T060000
END:STANDARD
END:VTIMEZONE
BEGIN:VEVENT
DTSTART;TZID=America/New_York:20251104T121000
DTEND;TZID=America/New_York:20251104T130000
DTSTAMP:20260425T064937
CREATED:20251017T184800Z
LAST-MODIFIED:20251017T184800Z
UID:10002624-1762258200-1762261200@diosohio.org
SUMMARY:Music Live at Lunch
DESCRIPTION:Music Live at Lunch\, Christ Church Cathedral’s weekly concert series\, will feature the performers listed below in November. These free concerts are presented on Tuesdays at 12:10 p.m. Patrons are welcome to bring their own lunches. \nChrist Church Cathedral is located at 318 East Fourth Street\, downtown Cincinnati. For more information\, visit cincinnaticathedral.com or call 513-621-1817. \nNOVEMBER SCHEDULE \nNovember 4: Students of the University of Cincinnati College-Conservatory of Music harpsichord and organ studios\nNovember 11: Rebecca Culnan (violin) & Dan Culnan (piano)\nNovember 18:  Sally Lukasik (accordion)\nNovember 25: Clark and Jones Trio
URL:https://diosohio.org/event/music-live-at-lunch-november-2024/2025-11-04/
LOCATION:Christ Church Cathedral Cincinnati\, 318 E 4th St\, Cincinnati\, OH\, 45202-4202\, US
CATEGORIES:Cathedral
ATTACH;FMTTYPE=image/png:https://diosohio.org/wp-content/uploads/2024/12/CCC-logo-w-bkg.png
END:VEVENT
BEGIN:VEVENT
DTSTART;TZID=America/New_York:20251105T110000
DTEND;TZID=America/New_York:20251105T140000
DTSTAMP:20260425T064937
CREATED:20251031T154444Z
LAST-MODIFIED:20251031T154444Z
UID:10002640-1762340400-1762351200@diosohio.org
SUMMARY:Holiday Open House at Soul Goods
DESCRIPTION:The holidays are arriving early at Soul Goods—and we can’t wait to celebrate with you! Join us for our annual Holiday Open House\, a day filled with festive flavors\, joyful company\, and brand-new Christmas treasures in the shop. \nWe’re hosting two celebrations to fit your schedule: \n\n11 AM–2 PM – Stop by for fresh-baked cookies\, warm apple cider\, and cozy holiday vibes.\n4–7 PM – Come back (or bring a friend!) for an evening of charcuterie\, cookies\, and seasonal cocktails\, plus time to browse our sparkling new Christmas displays.\n\nDiscover thoughtful gifts\, home décor\, Cincinnati favorites\, and holiday surprises that will make your season bright. From ornaments and candles to local art and faith-inspired gifts\, Soul Goods is ready to help you find something wonderful for everyone on your list. \nSo grab your friends\, bring your holiday spirit\, and join us as we kick off the most wonderful time of the year—Soul Goods style!
URL:https://diosohio.org/event/holiday-open-house-at-soul-goods/2025-11-05/1/
LOCATION:Soul Goods\, 318 E 4th St\, Cincinnati\, OH\, 45202\, United States
CATEGORIES:Cathedral
ATTACH;FMTTYPE=image/png:https://diosohio.org/wp-content/uploads/2025/10/2025-SG-Holiday-Open-House.png
END:VEVENT
BEGIN:VEVENT
DTSTART;TZID=America/New_York:20251105T160000
DTEND;TZID=America/New_York:20251105T190000
DTSTAMP:20260425T064937
CREATED:20251031T154444Z
LAST-MODIFIED:20251031T154444Z
UID:10002641-1762358400-1762369200@diosohio.org
SUMMARY:Holiday Open House at Soul Goods
DESCRIPTION:The holidays are arriving early at Soul Goods—and we can’t wait to celebrate with you! Join us for our annual Holiday Open House\, a day filled with festive flavors\, joyful company\, and brand-new Christmas treasures in the shop. \nWe’re hosting two celebrations to fit your schedule: \n\n11 AM–2 PM – Stop by for fresh-baked cookies\, warm apple cider\, and cozy holiday vibes.\n4–7 PM – Come back (or bring a friend!) for an evening of charcuterie\, cookies\, and seasonal cocktails\, plus time to browse our sparkling new Christmas displays.\n\nDiscover thoughtful gifts\, home décor\, Cincinnati favorites\, and holiday surprises that will make your season bright. From ornaments and candles to local art and faith-inspired gifts\, Soul Goods is ready to help you find something wonderful for everyone on your list. \nSo grab your friends\, bring your holiday spirit\, and join us as we kick off the most wonderful time of the year—Soul Goods style!
URL:https://diosohio.org/event/holiday-open-house-at-soul-goods/2025-11-05/2/
LOCATION:Soul Goods\, 318 E 4th St\, Cincinnati\, OH\, 45202\, United States
CATEGORIES:Cathedral
ATTACH;FMTTYPE=image/png:https://diosohio.org/wp-content/uploads/2025/10/2025-SG-Holiday-Open-House.png
END:VEVENT
BEGIN:VEVENT
DTSTART;TZID=America/New_York:20251109T150000
DTEND;TZID=America/New_York:20251109T163000
DTSTAMP:20260425T064937
CREATED:20251017T185049Z
LAST-MODIFIED:20251017T185049Z
UID:10002628-1762700400-1762705800@diosohio.org
SUMMARY:Organ Recital: Anne Laver
DESCRIPTION:Anne Laver performs on both Cathedral organs: C. B. Fisk Op. 148 and Richards\, Fowkes & Co. Opus 24. Suggested donation: $15. Reception following. \nFor more information\, visit www.cincinnaticathedral.com or call 513-621-1817.
URL:https://diosohio.org/event/organ-recital-anne-laver/
LOCATION:Christ Church Cathedral Cincinnati\, 318 E 4th St\, Cincinnati\, OH\, 45202-4202\, US
CATEGORIES:Cathedral
ATTACH;FMTTYPE=image/jpeg:https://diosohio.org/wp-content/uploads/2025/10/Anne-Laver-e1760727033343.jpg
END:VEVENT
BEGIN:VEVENT
DTSTART;TZID=America/New_York:20251111T121000
DTEND;TZID=America/New_York:20251111T130000
DTSTAMP:20260425T064937
CREATED:20251017T184800Z
LAST-MODIFIED:20251017T184800Z
UID:10002625-1762863000-1762866000@diosohio.org
SUMMARY:Music Live at Lunch
DESCRIPTION:Music Live at Lunch\, Christ Church Cathedral’s weekly concert series\, will feature the performers listed below in November. These free concerts are presented on Tuesdays at 12:10 p.m. Patrons are welcome to bring their own lunches. \nChrist Church Cathedral is located at 318 East Fourth Street\, downtown Cincinnati. For more information\, visit cincinnaticathedral.com or call 513-621-1817. \nNOVEMBER SCHEDULE \nNovember 4: Students of the University of Cincinnati College-Conservatory of Music harpsichord and organ studios\nNovember 11: Rebecca Culnan (violin) & Dan Culnan (piano)\nNovember 18:  Sally Lukasik (accordion)\nNovember 25: Clark and Jones Trio
URL:https://diosohio.org/event/music-live-at-lunch-november-2024/2025-11-11/
LOCATION:Christ Church Cathedral Cincinnati\, 318 E 4th St\, Cincinnati\, OH\, 45202-4202\, US
CATEGORIES:Cathedral
ATTACH;FMTTYPE=image/png:https://diosohio.org/wp-content/uploads/2024/12/CCC-logo-w-bkg.png
END:VEVENT
BEGIN:VEVENT
DTSTART;TZID=America/New_York:20251115T190000
DTEND;TZID=America/New_York:20251115T203000
DTSTAMP:20260425T064937
CREATED:20251017T185617Z
LAST-MODIFIED:20251017T185617Z
UID:10002630-1763233200-1763238600@diosohio.org
SUMMARY:Joy & Resilience: Uplifting Black\, Queer Voices
DESCRIPTION:Joy & Resilience: Uplifting Black\, Queer Voices\nSaturday\, November 15 | 7:00 pm\nSunday\, November 16 | 3:00 pm \nArtistic director Reina Dickey leads Cincinnati Women’s Choir MUSE in a concert that celebrates and amplifies stories and legacies from the past through today. Ticket information: musechoir.org \nFor more information\, visit www.cincinnaticathedral.com or call 513-621-1817.
URL:https://diosohio.org/event/joy-resilience-uplifting-black-queer-voices/2025-11-15/
LOCATION:Christ Church Cathedral Cincinnati\, 318 E 4th St\, Cincinnati\, OH\, 45202-4202\, US
CATEGORIES:Cathedral,LGBTQ+ Ministry
ATTACH;FMTTYPE=image/jpeg:https://diosohio.org/wp-content/uploads/2025/10/057Muse2025LowResMLKyrlach-e1760727352988.jpg
END:VEVENT
BEGIN:VEVENT
DTSTART;TZID=America/New_York:20251116T150000
DTEND;TZID=America/New_York:20251116T163000
DTSTAMP:20260425T064937
CREATED:20251017T185617Z
LAST-MODIFIED:20251017T185617Z
UID:10002631-1763305200-1763310600@diosohio.org
SUMMARY:Joy & Resilience: Uplifting Black\, Queer Voices
DESCRIPTION:Joy & Resilience: Uplifting Black\, Queer Voices\nSaturday\, November 15 | 7:00 pm\nSunday\, November 16 | 3:00 pm \nArtistic director Reina Dickey leads Cincinnati Women’s Choir MUSE in a concert that celebrates and amplifies stories and legacies from the past through today. Ticket information: musechoir.org \nFor more information\, visit www.cincinnaticathedral.com or call 513-621-1817.
URL:https://diosohio.org/event/joy-resilience-uplifting-black-queer-voices/2025-11-16/
LOCATION:Christ Church Cathedral Cincinnati\, 318 E 4th St\, Cincinnati\, OH\, 45202-4202\, US
CATEGORIES:Cathedral,LGBTQ+ Ministry
ATTACH;FMTTYPE=image/jpeg:https://diosohio.org/wp-content/uploads/2025/10/057Muse2025LowResMLKyrlach-e1760727352988.jpg
END:VEVENT
BEGIN:VEVENT
DTSTART;TZID=America/New_York:20251118T121000
DTEND;TZID=America/New_York:20251118T130000
DTSTAMP:20260425T064937
CREATED:20251017T184800Z
LAST-MODIFIED:20251017T184800Z
UID:10002626-1763467800-1763470800@diosohio.org
SUMMARY:Music Live at Lunch
DESCRIPTION:Music Live at Lunch\, Christ Church Cathedral’s weekly concert series\, will feature the performers listed below in November. These free concerts are presented on Tuesdays at 12:10 p.m. Patrons are welcome to bring their own lunches. \nChrist Church Cathedral is located at 318 East Fourth Street\, downtown Cincinnati. For more information\, visit cincinnaticathedral.com or call 513-621-1817. \nNOVEMBER SCHEDULE \nNovember 4: Students of the University of Cincinnati College-Conservatory of Music harpsichord and organ studios\nNovember 11: Rebecca Culnan (violin) & Dan Culnan (piano)\nNovember 18:  Sally Lukasik (accordion)\nNovember 25: Clark and Jones Trio
URL:https://diosohio.org/event/music-live-at-lunch-november-2024/2025-11-18/
LOCATION:Christ Church Cathedral Cincinnati\, 318 E 4th St\, Cincinnati\, OH\, 45202-4202\, US
CATEGORIES:Cathedral
ATTACH;FMTTYPE=image/png:https://diosohio.org/wp-content/uploads/2024/12/CCC-logo-w-bkg.png
END:VEVENT
BEGIN:VEVENT
DTSTART;TZID=America/New_York:20251122T150000
DTEND;TZID=America/New_York:20251122T163000
DTSTAMP:20260425T064937
CREATED:20251017T185312Z
LAST-MODIFIED:20251017T185312Z
UID:10002629-1763823600-1763829000@diosohio.org
SUMMARY:Queen City Freedom Band: Existence is Resistance
DESCRIPTION:Existence is Resistance\nSaturday\, November 22 | 3:00 pm \nArtistic director Jon Noworyta leads Queen City Freedom Band\, Cincinnati’s LGBTQ+ community concert band\, in a program that shares the music of composers whose communities have received focused attention from those in power. Ticket information: qcfb.org \nFor more information\, visit www.cincinnaticathedral.com or call 513-621-1817.
URL:https://diosohio.org/event/queen-city-freedom-band-existence-is-resistance/
LOCATION:Christ Church Cathedral Cincinnati\, 318 E 4th St\, Cincinnati\, OH\, 45202-4202\, US
CATEGORIES:Cathedral,LGBTQ+ Ministry
ATTACH;FMTTYPE=image/jpeg:https://diosohio.org/wp-content/uploads/2025/10/Queen-City-Freedom-Band.jpg
END:VEVENT
BEGIN:VEVENT
DTSTART;TZID=America/New_York:20251125T121000
DTEND;TZID=America/New_York:20251125T130000
DTSTAMP:20260425T064937
CREATED:20251017T184800Z
LAST-MODIFIED:20251017T184800Z
UID:10002627-1764072600-1764075600@diosohio.org
SUMMARY:Music Live at Lunch
DESCRIPTION:Music Live at Lunch\, Christ Church Cathedral’s weekly concert series\, will feature the performers listed below in November. These free concerts are presented on Tuesdays at 12:10 p.m. Patrons are welcome to bring their own lunches. \nChrist Church Cathedral is located at 318 East Fourth Street\, downtown Cincinnati. For more information\, visit cincinnaticathedral.com or call 513-621-1817. \nNOVEMBER SCHEDULE \nNovember 4: Students of the University of Cincinnati College-Conservatory of Music harpsichord and organ studios\nNovember 11: Rebecca Culnan (violin) & Dan Culnan (piano)\nNovember 18:  Sally Lukasik (accordion)\nNovember 25: Clark and Jones Trio
URL:https://diosohio.org/event/music-live-at-lunch-november-2024/2025-11-25/
LOCATION:Christ Church Cathedral Cincinnati\, 318 E 4th St\, Cincinnati\, OH\, 45202-4202\, US
CATEGORIES:Cathedral
ATTACH;FMTTYPE=image/png:https://diosohio.org/wp-content/uploads/2024/12/CCC-logo-w-bkg.png
END:VEVENT
END:VCALENDAR