BEGIN:VCALENDAR
VERSION:2.0
PRODID:-//Diocese of Southern Ohio - ECPv6.15.20//NONSGML v1.0//EN
CALSCALE:GREGORIAN
METHOD:PUBLISH
X-ORIGINAL-URL:https://diosohio.org
X-WR-CALDESC:Events for Diocese of Southern Ohio
REFRESH-INTERVAL;VALUE=DURATION:PT1H
X-Robots-Tag:noindex
X-PUBLISHED-TTL:PT1H
BEGIN:VTIMEZONE
TZID:America/New_York
BEGIN:DAYLIGHT
TZOFFSETFROM:-0500
TZOFFSETTO:-0400
TZNAME:EDT
DTSTART:20250309T070000
END:DAYLIGHT
BEGIN:STANDARD
TZOFFSETFROM:-0400
TZOFFSETTO:-0500
TZNAME:EST
DTSTART:20251102T060000
END:STANDARD
BEGIN:DAYLIGHT
TZOFFSETFROM:-0500
TZOFFSETTO:-0400
TZNAME:EDT
DTSTART:20260308T070000
END:DAYLIGHT
BEGIN:STANDARD
TZOFFSETFROM:-0400
TZOFFSETTO:-0500
TZNAME:EST
DTSTART:20261101T060000
END:STANDARD
BEGIN:DAYLIGHT
TZOFFSETFROM:-0500
TZOFFSETTO:-0400
TZNAME:EDT
DTSTART:20270314T070000
END:DAYLIGHT
BEGIN:STANDARD
TZOFFSETFROM:-0400
TZOFFSETTO:-0500
TZNAME:EST
DTSTART:20271107T060000
END:STANDARD
END:VTIMEZONE
BEGIN:VEVENT
DTSTART;TZID=America/New_York:20260111T170000
DTEND;TZID=America/New_York:20260111T183000
DTSTAMP:20260425T105335
CREATED:20251215T213433Z
LAST-MODIFIED:20251215T213433Z
UID:10002682-1768150800-1768156200@diosohio.org
SUMMARY:An Epiphany Procession at Christ Church Cathedral
DESCRIPTION:The Christ Church Cathedral choir will perform on Sunday\, January 11\, at 5 p.m. \nJoin us for a service of Scripture\, prayer\, music\, and pageantry that reflects on the three Epiphany mysteries: the revelation of the Christ child to the Magi\, the baptism of Jesus in the Jordan River\, and the turning of water into wine at the wedding in Cana. Music sung by the choir will include: Canticles for the Epiphany Procession (Stephan Casurella)\, Magi veniunt ab oriente (Clemens non Papa)\, O nata lux (Anna Lapwood)\, Tomorrow Shall Be My Dancing Day (Richard Shephard)\, Set Me as a Seal (William Walton)\, Tribus miraculis (Luca Marenzio)\, Cana’s Guest (Richard Allain)\, Seek Him That Maketh the Seven Stars (Jonathan Dove). \nAn organ recital performed by organist Ethan Mellema precedes the service at 4:30 pm. \nIncense will be used at this service. The service will be available via live stream athttps://cincinnaticathedral.com/livestream/. \nFor more information\, visit www.cincinnaticathedral.com or call 513-621-1817.
URL:https://diosohio.org/event/an-epiphany-procession-at-christ-church-cathedral-2/
LOCATION:Christ Church Cathedral Cincinnati\, 318 E 4th St\, Cincinnati\, OH\, 45202-4202\, US
CATEGORIES:Cathedral
ATTACH;FMTTYPE=image/png:https://diosohio.org/wp-content/uploads/2024/12/CCC-logo-w-bkg.png
END:VEVENT
BEGIN:VEVENT
DTSTART;TZID=America/New_York:20260113T121000
DTEND;TZID=America/New_York:20260113T130000
DTSTAMP:20260425T105335
CREATED:20251215T213146Z
LAST-MODIFIED:20251215T213146Z
UID:10002679-1768306200-1768309200@diosohio.org
SUMMARY:Music Live at Lunch
DESCRIPTION:Music Live at Lunch Performances at Christ Church Cathedral in January \n Music Live at Lunch\, Christ Church Cathedral’s weekly concert series\, will feature the performers listed below in January. These free concerts are presented on Tuesdays at 12:10 p.m. Patrons are welcome to bring their own lunches. \nFor more information\, visit cincinnaticathedral.com or call 513-621-1817. \nJANUARY SCHEDULE \nJanuary 6: Vincent Phelan (violin) and Steve Phillips (piano)\nJanuary 13: Southbank Quartet\nJanuary 20: The Faux Frenchmen\nJanuary 27: Mika Komuro (piano)
URL:https://diosohio.org/event/music-live-at-lunch-january-26/2026-01-13/
LOCATION:Christ Church Cathedral Cincinnati\, 318 E 4th St\, Cincinnati\, OH\, 45202-4202\, US
CATEGORIES:Cathedral
ATTACH;FMTTYPE=image/png:https://diosohio.org/wp-content/uploads/2024/12/CCC-logo-w-bkg.png
END:VEVENT
BEGIN:VEVENT
DTSTART;TZID=America/New_York:20260120T121000
DTEND;TZID=America/New_York:20260120T130000
DTSTAMP:20260425T105335
CREATED:20251215T213146Z
LAST-MODIFIED:20251215T213146Z
UID:10002680-1768911000-1768914000@diosohio.org
SUMMARY:Music Live at Lunch
DESCRIPTION:Music Live at Lunch Performances at Christ Church Cathedral in January \n Music Live at Lunch\, Christ Church Cathedral’s weekly concert series\, will feature the performers listed below in January. These free concerts are presented on Tuesdays at 12:10 p.m. Patrons are welcome to bring their own lunches. \nFor more information\, visit cincinnaticathedral.com or call 513-621-1817. \nJANUARY SCHEDULE \nJanuary 6: Vincent Phelan (violin) and Steve Phillips (piano)\nJanuary 13: Southbank Quartet\nJanuary 20: The Faux Frenchmen\nJanuary 27: Mika Komuro (piano)
URL:https://diosohio.org/event/music-live-at-lunch-january-26/2026-01-20/
LOCATION:Christ Church Cathedral Cincinnati\, 318 E 4th St\, Cincinnati\, OH\, 45202-4202\, US
CATEGORIES:Cathedral
ATTACH;FMTTYPE=image/png:https://diosohio.org/wp-content/uploads/2024/12/CCC-logo-w-bkg.png
END:VEVENT
BEGIN:VEVENT
DTSTART;TZID=America/New_York:20260127T121000
DTEND;TZID=America/New_York:20260127T130000
DTSTAMP:20260425T105336
CREATED:20251215T213146Z
LAST-MODIFIED:20251215T213146Z
UID:10002681-1769515800-1769518800@diosohio.org
SUMMARY:Music Live at Lunch
DESCRIPTION:Music Live at Lunch Performances at Christ Church Cathedral in January \n Music Live at Lunch\, Christ Church Cathedral’s weekly concert series\, will feature the performers listed below in January. These free concerts are presented on Tuesdays at 12:10 p.m. Patrons are welcome to bring their own lunches. \nFor more information\, visit cincinnaticathedral.com or call 513-621-1817. \nJANUARY SCHEDULE \nJanuary 6: Vincent Phelan (violin) and Steve Phillips (piano)\nJanuary 13: Southbank Quartet\nJanuary 20: The Faux Frenchmen\nJanuary 27: Mika Komuro (piano)
URL:https://diosohio.org/event/music-live-at-lunch-january-26/2026-01-27/
LOCATION:Christ Church Cathedral Cincinnati\, 318 E 4th St\, Cincinnati\, OH\, 45202-4202\, US
CATEGORIES:Cathedral
ATTACH;FMTTYPE=image/png:https://diosohio.org/wp-content/uploads/2024/12/CCC-logo-w-bkg.png
END:VEVENT
BEGIN:VEVENT
DTSTART;TZID=America/New_York:20260203T121000
DTEND;TZID=America/New_York:20260203T130000
DTSTAMP:20260425T105336
CREATED:20260203T163516Z
LAST-MODIFIED:20260203T163951Z
UID:10002753-1770120600-1770123600@diosohio.org
SUMMARY:Music Live at Lunch POSTPONED
DESCRIPTION:Music Live at Lunch\, Christ Church Cathedral’s weekly concert series\, will feature the performers listed below in February. These free concerts are presented on Tuesdays at 12:10 p.m. Patrons are welcome to bring their own lunches. For more information\, visit cincinnaticathedral.com or call 513-621-1817. \nFEBRUARY SCHEDULE \nFebruary 3: Students of the University of Cincinnati College-Conservatory of Music harpsichord and organ studios POSTPONED FOR WEATHER\nFebruary 10: Cincinnati Recorder Consort\nFebruary 17: Lagniappe\nFebruary 24: Moyen Age
URL:https://diosohio.org/event/music-live-at-lunch-feb-2026-2/
LOCATION:Christ Church Cathedral Cincinnati\, 318 E 4th St\, Cincinnati\, OH\, 45202-4202\, US
CATEGORIES:Cathedral
ATTACH;FMTTYPE=image/png:https://diosohio.org/wp-content/uploads/2024/12/CCC-logo-w-bkg.png
END:VEVENT
BEGIN:VEVENT
DTSTART;TZID=America/New_York:20260210T121000
DTEND;TZID=America/New_York:20260210T130000
DTSTAMP:20260425T105336
CREATED:20260120T152110Z
LAST-MODIFIED:20260120T152110Z
UID:10002754-1770725400-1770728400@diosohio.org
SUMMARY:Music Live at Lunch
DESCRIPTION:Music Live at Lunch\, Christ Church Cathedral’s weekly concert series\, will feature the performers listed below in February. These free concerts are presented on Tuesdays at 12:10 p.m. Patrons are welcome to bring their own lunches. For more information\, visit cincinnaticathedral.com or call 513-621-1817. \nFEBRUARY SCHEDULE \nFebruary 3: Students of the University of Cincinnati College-Conservatory of Music harpsichord and organ studios\nFebruary 10: Cincinnati Recorder Consort\nFebruary 17: Lagniappe\nFebruary 24: Moyen Age
URL:https://diosohio.org/event/music-live-at-lunch-feb-2026/2026-02-10/
LOCATION:Christ Church Cathedral Cincinnati\, 318 E 4th St\, Cincinnati\, OH\, 45202-4202\, US
CATEGORIES:Cathedral
ATTACH;FMTTYPE=image/png:https://diosohio.org/wp-content/uploads/2024/12/CCC-logo-w-bkg.png
END:VEVENT
BEGIN:VEVENT
DTSTART;TZID=America/New_York:20260213T190000
DTEND;TZID=America/New_York:20260213T203000
DTSTAMP:20260425T105336
CREATED:20260120T152236Z
LAST-MODIFIED:20260120T152236Z
UID:10002757-1771009200-1771014600@diosohio.org
SUMMARY:Collegium Cincinnati Concert
DESCRIPTION:Collegium Cincinnati Concert\nFriday\, February 13 | 7:00 pm \nArtistic director Matthew Phelps conducts the singers of Collegium Cincinnati in all six of Bach’s motets Ticket information: collegiumcincinnati.org. \nFor more information\, visit www.cincinnaticathedral.com or call 513-621-1817.
URL:https://diosohio.org/event/collegium-cincinnati-concert-2/
LOCATION:Christ Church Cathedral Cincinnati\, 318 E 4th St\, Cincinnati\, OH\, 45202-4202\, US
CATEGORIES:Cathedral
ATTACH;FMTTYPE=image/png:https://diosohio.org/wp-content/uploads/2024/12/CCC-logo-w-bkg.png
ORGANIZER;CN="Collegium Cincinnati":MAILTO:info@collegiumcincinnati.org
END:VEVENT
BEGIN:VEVENT
DTSTART;TZID=America/New_York:20260215T160000
DTEND;TZID=America/New_York:20260215T173000
DTSTAMP:20260425T105336
CREATED:20260120T151839Z
LAST-MODIFIED:20260120T151839Z
UID:10002752-1771171200-1771176600@diosohio.org
SUMMARY:Theodicy Jazz Collective
DESCRIPTION:Theodicy Jazz Collective\nSunday\, February 15 | 4:00 pm \nTheodicy Jazz Collective is joined by the Queen City Street Choir to perform a program of jazz with driving rhythm\, nuanced solos\, and soulful song. Suggested donation: $15. \nFor more information\, visit www.cincinnaticathedral.com or call 513-621-1817.
URL:https://diosohio.org/event/theodicy-jazz-collective/
LOCATION:Christ Church Cathedral Cincinnati\, 318 E 4th St\, Cincinnati\, OH\, 45202-4202\, US
CATEGORIES:Cathedral
ATTACH;FMTTYPE=image/png:https://diosohio.org/wp-content/uploads/2024/12/CCC-logo-w-bkg.png
END:VEVENT
BEGIN:VEVENT
DTSTART;TZID=America/New_York:20260217T121000
DTEND;TZID=America/New_York:20260217T130000
DTSTAMP:20260425T105336
CREATED:20260120T152110Z
LAST-MODIFIED:20260120T152110Z
UID:10002755-1771330200-1771333200@diosohio.org
SUMMARY:Music Live at Lunch
DESCRIPTION:Music Live at Lunch\, Christ Church Cathedral’s weekly concert series\, will feature the performers listed below in February. These free concerts are presented on Tuesdays at 12:10 p.m. Patrons are welcome to bring their own lunches. For more information\, visit cincinnaticathedral.com or call 513-621-1817. \nFEBRUARY SCHEDULE \nFebruary 3: Students of the University of Cincinnati College-Conservatory of Music harpsichord and organ studios\nFebruary 10: Cincinnati Recorder Consort\nFebruary 17: Lagniappe\nFebruary 24: Moyen Age
URL:https://diosohio.org/event/music-live-at-lunch-feb-2026/2026-02-17/
LOCATION:Christ Church Cathedral Cincinnati\, 318 E 4th St\, Cincinnati\, OH\, 45202-4202\, US
CATEGORIES:Cathedral
ATTACH;FMTTYPE=image/png:https://diosohio.org/wp-content/uploads/2024/12/CCC-logo-w-bkg.png
END:VEVENT
BEGIN:VEVENT
DTSTART;TZID=America/New_York:20260224T121000
DTEND;TZID=America/New_York:20260224T130000
DTSTAMP:20260425T105336
CREATED:20260120T152110Z
LAST-MODIFIED:20260120T152110Z
UID:10002756-1771935000-1771938000@diosohio.org
SUMMARY:Music Live at Lunch
DESCRIPTION:Music Live at Lunch\, Christ Church Cathedral’s weekly concert series\, will feature the performers listed below in February. These free concerts are presented on Tuesdays at 12:10 p.m. Patrons are welcome to bring their own lunches. For more information\, visit cincinnaticathedral.com or call 513-621-1817. \nFEBRUARY SCHEDULE \nFebruary 3: Students of the University of Cincinnati College-Conservatory of Music harpsichord and organ studios\nFebruary 10: Cincinnati Recorder Consort\nFebruary 17: Lagniappe\nFebruary 24: Moyen Age
URL:https://diosohio.org/event/music-live-at-lunch-feb-2026/2026-02-24/
LOCATION:Christ Church Cathedral Cincinnati\, 318 E 4th St\, Cincinnati\, OH\, 45202-4202\, US
CATEGORIES:Cathedral
ATTACH;FMTTYPE=image/png:https://diosohio.org/wp-content/uploads/2024/12/CCC-logo-w-bkg.png
END:VEVENT
BEGIN:VEVENT
DTSTART;TZID=America/New_York:20260301T170000
DTEND;TZID=America/New_York:20260301T180000
DTSTAMP:20260425T105336
CREATED:20260205T200418Z
LAST-MODIFIED:20260205T200418Z
UID:10002850-1772384400-1772388000@diosohio.org
SUMMARY:Choral Evensong at Christ Church Cathedral
DESCRIPTION:CHORAL EVENSONG  \nSunday\, March 1 \nThe Cathedral Choir & the Ascension and Holy Trinity Episcopal Church Choir \nPhos hilaron: O Gracious Light – Roland E. Martin\nCanticles: The Selwyn Service – Stephanie Martin\nAnthem: O for a Closer Walk with God – Grayston Ives
URL:https://diosohio.org/event/choral-evensong-at-christ-church-cathedral-2/
LOCATION:Christ Church Cathedral Cincinnati\, 318 E 4th St\, Cincinnati\, OH\, 45202-4202\, US
CATEGORIES:Cathedral
ATTACH;FMTTYPE=image/png:https://diosohio.org/wp-content/uploads/2024/12/CCC-logo-w-bkg.png
END:VEVENT
BEGIN:VEVENT
DTSTART;TZID=America/New_York:20260303T121000
DTEND;TZID=America/New_York:20260303T130000
DTSTAMP:20260425T105336
CREATED:20260205T195709Z
LAST-MODIFIED:20260205T195709Z
UID:10002844-1772539800-1772542800@diosohio.org
SUMMARY:Music Live at Lunch at Christ Church Cathedral
DESCRIPTION:Music Live at Lunch\, Christ Church Cathedral’s weekly concert series\, will feature the performers listed below in March. These free concerts are presented on Tuesdays at 12:10 p.m. Patrons are welcome to bring their own lunches. \nFor more information\, visit cincinnaticathedral.com or call 513-621-1817. \nMARCH SCHEDULE \nMarch 3: James Loughery (jazz piano)\nMarch 10: Laney and the Tramps\nMarch 17: Boutique\nMarch 24: Heri et Hodie (women’s vocal ensemble)\nMarch 31: Jimmy Leach Trio
URL:https://diosohio.org/event/music-live-at-lunch-at-christ-church-cathedral-mar-2026/2026-03-03/
LOCATION:Christ Church Cathedral Cincinnati\, 318 E 4th St\, Cincinnati\, OH\, 45202-4202\, US
CATEGORIES:Cathedral
ATTACH;FMTTYPE=image/png:https://diosohio.org/wp-content/uploads/2024/12/CCC-logo-w-bkg.png
END:VEVENT
BEGIN:VEVENT
DTSTART;TZID=America/New_York:20260304T190000
DTEND;TZID=America/New_York:20260304T203000
DTSTAMP:20260425T105336
CREATED:20260205T200015Z
LAST-MODIFIED:20260205T200015Z
UID:10002849-1772650800-1772656200@diosohio.org
SUMMARY:Concordia Choir at Christ Church Cathedral
DESCRIPTION:Wednesday\, March 4 | 7:00 pm \nMichael Culloton conducts the renowned 70-voice Concordia Choir of Moorhead\, Minnesota during their 16-day national tour of the Northeast United States. Ticket information: concordiatickets.com. \nFor more information\, visit www.cincinnaticathedral.com or call 513-621-1817.
URL:https://diosohio.org/event/concordia-choir-at-christ-church-cathedral/
LOCATION:Christ Church Cathedral Cincinnati\, 318 E 4th St\, Cincinnati\, OH\, 45202-4202\, US
CATEGORIES:Cathedral
ATTACH;FMTTYPE=image/png:https://diosohio.org/wp-content/uploads/2024/12/CCC-logo-w-bkg.png
END:VEVENT
BEGIN:VEVENT
DTSTART;TZID=America/New_York:20260310T121000
DTEND;TZID=America/New_York:20260310T130000
DTSTAMP:20260425T105336
CREATED:20260205T195709Z
LAST-MODIFIED:20260205T195709Z
UID:10002845-1773144600-1773147600@diosohio.org
SUMMARY:Music Live at Lunch at Christ Church Cathedral
DESCRIPTION:Music Live at Lunch\, Christ Church Cathedral’s weekly concert series\, will feature the performers listed below in March. These free concerts are presented on Tuesdays at 12:10 p.m. Patrons are welcome to bring their own lunches. \nFor more information\, visit cincinnaticathedral.com or call 513-621-1817. \nMARCH SCHEDULE \nMarch 3: James Loughery (jazz piano)\nMarch 10: Laney and the Tramps\nMarch 17: Boutique\nMarch 24: Heri et Hodie (women’s vocal ensemble)\nMarch 31: Jimmy Leach Trio
URL:https://diosohio.org/event/music-live-at-lunch-at-christ-church-cathedral-mar-2026/2026-03-10/
LOCATION:Christ Church Cathedral Cincinnati\, 318 E 4th St\, Cincinnati\, OH\, 45202-4202\, US
CATEGORIES:Cathedral
ATTACH;FMTTYPE=image/png:https://diosohio.org/wp-content/uploads/2024/12/CCC-logo-w-bkg.png
END:VEVENT
BEGIN:VEVENT
DTSTART;TZID=America/New_York:20260317T121000
DTEND;TZID=America/New_York:20260317T130000
DTSTAMP:20260425T105336
CREATED:20260205T195709Z
LAST-MODIFIED:20260205T195709Z
UID:10002846-1773749400-1773752400@diosohio.org
SUMMARY:Music Live at Lunch at Christ Church Cathedral
DESCRIPTION:Music Live at Lunch\, Christ Church Cathedral’s weekly concert series\, will feature the performers listed below in March. These free concerts are presented on Tuesdays at 12:10 p.m. Patrons are welcome to bring their own lunches. \nFor more information\, visit cincinnaticathedral.com or call 513-621-1817. \nMARCH SCHEDULE \nMarch 3: James Loughery (jazz piano)\nMarch 10: Laney and the Tramps\nMarch 17: Boutique\nMarch 24: Heri et Hodie (women’s vocal ensemble)\nMarch 31: Jimmy Leach Trio
URL:https://diosohio.org/event/music-live-at-lunch-at-christ-church-cathedral-mar-2026/2026-03-17/
LOCATION:Christ Church Cathedral Cincinnati\, 318 E 4th St\, Cincinnati\, OH\, 45202-4202\, US
CATEGORIES:Cathedral
ATTACH;FMTTYPE=image/png:https://diosohio.org/wp-content/uploads/2024/12/CCC-logo-w-bkg.png
END:VEVENT
BEGIN:VEVENT
DTSTART;TZID=America/New_York:20260324T121000
DTEND;TZID=America/New_York:20260324T130000
DTSTAMP:20260425T105336
CREATED:20260205T195709Z
LAST-MODIFIED:20260205T195709Z
UID:10002847-1774354200-1774357200@diosohio.org
SUMMARY:Music Live at Lunch at Christ Church Cathedral
DESCRIPTION:Music Live at Lunch\, Christ Church Cathedral’s weekly concert series\, will feature the performers listed below in March. These free concerts are presented on Tuesdays at 12:10 p.m. Patrons are welcome to bring their own lunches. \nFor more information\, visit cincinnaticathedral.com or call 513-621-1817. \nMARCH SCHEDULE \nMarch 3: James Loughery (jazz piano)\nMarch 10: Laney and the Tramps\nMarch 17: Boutique\nMarch 24: Heri et Hodie (women’s vocal ensemble)\nMarch 31: Jimmy Leach Trio
URL:https://diosohio.org/event/music-live-at-lunch-at-christ-church-cathedral-mar-2026/2026-03-24/
LOCATION:Christ Church Cathedral Cincinnati\, 318 E 4th St\, Cincinnati\, OH\, 45202-4202\, US
CATEGORIES:Cathedral
ATTACH;FMTTYPE=image/png:https://diosohio.org/wp-content/uploads/2024/12/CCC-logo-w-bkg.png
END:VEVENT
BEGIN:VEVENT
DTSTART;TZID=America/New_York:20260331T121000
DTEND;TZID=America/New_York:20260331T130000
DTSTAMP:20260425T105336
CREATED:20260205T195709Z
LAST-MODIFIED:20260205T195709Z
UID:10002848-1774959000-1774962000@diosohio.org
SUMMARY:Music Live at Lunch at Christ Church Cathedral
DESCRIPTION:Music Live at Lunch\, Christ Church Cathedral’s weekly concert series\, will feature the performers listed below in March. These free concerts are presented on Tuesdays at 12:10 p.m. Patrons are welcome to bring their own lunches. \nFor more information\, visit cincinnaticathedral.com or call 513-621-1817. \nMARCH SCHEDULE \nMarch 3: James Loughery (jazz piano)\nMarch 10: Laney and the Tramps\nMarch 17: Boutique\nMarch 24: Heri et Hodie (women’s vocal ensemble)\nMarch 31: Jimmy Leach Trio
URL:https://diosohio.org/event/music-live-at-lunch-at-christ-church-cathedral-mar-2026/2026-03-31/
LOCATION:Christ Church Cathedral Cincinnati\, 318 E 4th St\, Cincinnati\, OH\, 45202-4202\, US
CATEGORIES:Cathedral
ATTACH;FMTTYPE=image/png:https://diosohio.org/wp-content/uploads/2024/12/CCC-logo-w-bkg.png
END:VEVENT
BEGIN:VEVENT
DTSTART;TZID=America/New_York:20260505T121000
DTEND;TZID=America/New_York:20260505T130000
DTSTAMP:20260425T105336
CREATED:20260319T145204Z
LAST-MODIFIED:20260319T145204Z
UID:10002890-1777983000-1777986000@diosohio.org
SUMMARY:Music Live at Lunch at Christ Church Cathedral
DESCRIPTION:Music Live at Lunch\, Christ Church Cathedral’s weekly concert series\, will feature the performers listed below in May. These free concerts are presented on Tuesdays at 12:10 p.m. Patrons are welcome to bring their own lunches. \nFor more information\, visit cincinnaticathedral.com or call 513-621-1817. \nMAY SCHEDULE \nMay 5: Estrada do Sol\nMay 12: Nick Greenberg Trio\nMay 19: Pork City Slim\nMay 26 : Mitchell Sturges (tenor)
URL:https://diosohio.org/event/music-live-at-lunch-at-christ-church-cathedral-may-2026/2026-05-05/
LOCATION:Christ Church Cathedral Cincinnati\, 318 E 4th St\, Cincinnati\, OH\, 45202-4202\, US
CATEGORIES:Cathedral
ATTACH;FMTTYPE=image/png:https://diosohio.org/wp-content/uploads/2024/12/CCC-logo-w-bkg.png
END:VEVENT
BEGIN:VEVENT
DTSTART;TZID=America/New_York:20260512T121000
DTEND;TZID=America/New_York:20260512T130000
DTSTAMP:20260425T105336
CREATED:20260319T145204Z
LAST-MODIFIED:20260319T145204Z
UID:10002891-1778587800-1778590800@diosohio.org
SUMMARY:Music Live at Lunch at Christ Church Cathedral
DESCRIPTION:Music Live at Lunch\, Christ Church Cathedral’s weekly concert series\, will feature the performers listed below in May. These free concerts are presented on Tuesdays at 12:10 p.m. Patrons are welcome to bring their own lunches. \nFor more information\, visit cincinnaticathedral.com or call 513-621-1817. \nMAY SCHEDULE \nMay 5: Estrada do Sol\nMay 12: Nick Greenberg Trio\nMay 19: Pork City Slim\nMay 26 : Mitchell Sturges (tenor)
URL:https://diosohio.org/event/music-live-at-lunch-at-christ-church-cathedral-may-2026/2026-05-12/
LOCATION:Christ Church Cathedral Cincinnati\, 318 E 4th St\, Cincinnati\, OH\, 45202-4202\, US
CATEGORIES:Cathedral
ATTACH;FMTTYPE=image/png:https://diosohio.org/wp-content/uploads/2024/12/CCC-logo-w-bkg.png
END:VEVENT
BEGIN:VEVENT
DTSTART;TZID=America/New_York:20260519T121000
DTEND;TZID=America/New_York:20260519T130000
DTSTAMP:20260425T105336
CREATED:20260319T145204Z
LAST-MODIFIED:20260319T145204Z
UID:10002892-1779192600-1779195600@diosohio.org
SUMMARY:Music Live at Lunch at Christ Church Cathedral
DESCRIPTION:Music Live at Lunch\, Christ Church Cathedral’s weekly concert series\, will feature the performers listed below in May. These free concerts are presented on Tuesdays at 12:10 p.m. Patrons are welcome to bring their own lunches. \nFor more information\, visit cincinnaticathedral.com or call 513-621-1817. \nMAY SCHEDULE \nMay 5: Estrada do Sol\nMay 12: Nick Greenberg Trio\nMay 19: Pork City Slim\nMay 26 : Mitchell Sturges (tenor)
URL:https://diosohio.org/event/music-live-at-lunch-at-christ-church-cathedral-may-2026/2026-05-19/
LOCATION:Christ Church Cathedral Cincinnati\, 318 E 4th St\, Cincinnati\, OH\, 45202-4202\, US
CATEGORIES:Cathedral
ATTACH;FMTTYPE=image/png:https://diosohio.org/wp-content/uploads/2024/12/CCC-logo-w-bkg.png
END:VEVENT
BEGIN:VEVENT
DTSTART;TZID=America/New_York:20260526T121000
DTEND;TZID=America/New_York:20260526T130000
DTSTAMP:20260425T105336
CREATED:20260319T145204Z
LAST-MODIFIED:20260319T145204Z
UID:10002893-1779797400-1779800400@diosohio.org
SUMMARY:Music Live at Lunch at Christ Church Cathedral
DESCRIPTION:Music Live at Lunch\, Christ Church Cathedral’s weekly concert series\, will feature the performers listed below in May. These free concerts are presented on Tuesdays at 12:10 p.m. Patrons are welcome to bring their own lunches. \nFor more information\, visit cincinnaticathedral.com or call 513-621-1817. \nMAY SCHEDULE \nMay 5: Estrada do Sol\nMay 12: Nick Greenberg Trio\nMay 19: Pork City Slim\nMay 26 : Mitchell Sturges (tenor)
URL:https://diosohio.org/event/music-live-at-lunch-at-christ-church-cathedral-may-2026/2026-05-26/
LOCATION:Christ Church Cathedral Cincinnati\, 318 E 4th St\, Cincinnati\, OH\, 45202-4202\, US
CATEGORIES:Cathedral
ATTACH;FMTTYPE=image/png:https://diosohio.org/wp-content/uploads/2024/12/CCC-logo-w-bkg.png
END:VEVENT
END:VCALENDAR