BEGIN:VCALENDAR
VERSION:2.0
PRODID:-//Diocese of Southern Ohio - ECPv6.15.20//NONSGML v1.0//EN
CALSCALE:GREGORIAN
METHOD:PUBLISH
X-ORIGINAL-URL:https://diosohio.org
X-WR-CALDESC:Events for Diocese of Southern Ohio
REFRESH-INTERVAL;VALUE=DURATION:PT1H
X-Robots-Tag:noindex
X-PUBLISHED-TTL:PT1H
BEGIN:VTIMEZONE
TZID:America/New_York
BEGIN:DAYLIGHT
TZOFFSETFROM:-0500
TZOFFSETTO:-0400
TZNAME:EDT
DTSTART:20240310T070000
END:DAYLIGHT
BEGIN:STANDARD
TZOFFSETFROM:-0400
TZOFFSETTO:-0500
TZNAME:EST
DTSTART:20241103T060000
END:STANDARD
BEGIN:DAYLIGHT
TZOFFSETFROM:-0500
TZOFFSETTO:-0400
TZNAME:EDT
DTSTART:20250309T070000
END:DAYLIGHT
BEGIN:STANDARD
TZOFFSETFROM:-0400
TZOFFSETTO:-0500
TZNAME:EST
DTSTART:20251102T060000
END:STANDARD
BEGIN:DAYLIGHT
TZOFFSETFROM:-0500
TZOFFSETTO:-0400
TZNAME:EDT
DTSTART:20260308T070000
END:DAYLIGHT
BEGIN:STANDARD
TZOFFSETFROM:-0400
TZOFFSETTO:-0500
TZNAME:EST
DTSTART:20261101T060000
END:STANDARD
END:VTIMEZONE
BEGIN:VEVENT
DTSTART;TZID=America/New_York:20251202T100000
DTEND;TZID=America/New_York:20251202T120000
DTSTAMP:20260425T065332
CREATED:20251014T171907Z
LAST-MODIFIED:20251014T171907Z
UID:10002615-1764669600-1764676800@diosohio.org
SUMMARY:Christmas Card Writing Day
DESCRIPTION:Come enjoy a quiet space to write your Christmas cards this year. Join us at Transfiguration Spirituality Center\, on the tranquil campus of the Community of the Transfiguration in Glendale. Bring your own cards\, and we’ll provide the pens and light refreshments for you\, prepared by our own Food for the Soul Ministry. We’d love for you to join us! \nFor more information\, please contact Liz Keuffer at liz@ctsisters.org.
URL:https://diosohio.org/event/christmas-card-writing-day-2/
LOCATION:Transfiguration Spirituality Center\, 469 Albion Ave\, Glendale\, Ohio\, 45246
CATEGORIES:Community
ATTACH;FMTTYPE=image/png:https://diosohio.org/wp-content/uploads/2025/10/tsc-letterhead-logo.png
ORGANIZER;CN="Transfiguration Spirituality Center":MAILTO:ctretreats@gmail.com
END:VEVENT
BEGIN:VEVENT
DTSTART;TZID=America/New_York:20251202T121000
DTEND;TZID=America/New_York:20251202T130000
DTSTAMP:20260425T065332
CREATED:20251106T155254Z
LAST-MODIFIED:20251106T155254Z
UID:10002645-1764677400-1764680400@diosohio.org
SUMMARY:Music Live at Lunch
DESCRIPTION:Music Live at Lunch\, Christ Church Cathedral’s weekly concert series\, will feature the performers listed below in December. These free concerts are presented on Tuesdays at 12:10 p.m. Patrons are welcome to bring their own lunches. \nChrist Church Cathedral is located at 318 East Fourth Street\, downtown Cincinnati. \nFor more information\, visit cincinnaticathedral.com or call 513-621-1817. \nDECEMBER SCHEDULE \nDecember 2: Queen City Klezmorim\nDecember 9: Heri et Hodie (women’s vocal ensemble)\nDecember 16 | Christ Church Cathedral Choir – Benjamin Britten’s A Ceremony of Carols
URL:https://diosohio.org/event/music-live-at-lunch-dec-25/2025-12-02/
LOCATION:Christ Church Cathedral Cincinnati\, 318 E 4th St\, Cincinnati\, OH\, 45202-4202\, US
CATEGORIES:Cathedral
ATTACH;FMTTYPE=image/png:https://diosohio.org/wp-content/uploads/2024/12/CCC-logo-w-bkg.png
END:VEVENT
END:VCALENDAR