BEGIN:VCALENDAR
VERSION:2.0
PRODID:-//Diocese of Southern Ohio - ECPv6.15.20//NONSGML v1.0//EN
CALSCALE:GREGORIAN
METHOD:PUBLISH
X-ORIGINAL-URL:https://diosohio.org
X-WR-CALDESC:Events for Diocese of Southern Ohio
REFRESH-INTERVAL;VALUE=DURATION:PT1H
X-Robots-Tag:noindex
X-PUBLISHED-TTL:PT1H
BEGIN:VTIMEZONE
TZID:America/New_York
BEGIN:DAYLIGHT
TZOFFSETFROM:-0500
TZOFFSETTO:-0400
TZNAME:EDT
DTSTART:20240310T070000
END:DAYLIGHT
BEGIN:STANDARD
TZOFFSETFROM:-0400
TZOFFSETTO:-0500
TZNAME:EST
DTSTART:20241103T060000
END:STANDARD
BEGIN:DAYLIGHT
TZOFFSETFROM:-0500
TZOFFSETTO:-0400
TZNAME:EDT
DTSTART:20250309T070000
END:DAYLIGHT
BEGIN:STANDARD
TZOFFSETFROM:-0400
TZOFFSETTO:-0500
TZNAME:EST
DTSTART:20251102T060000
END:STANDARD
BEGIN:DAYLIGHT
TZOFFSETFROM:-0500
TZOFFSETTO:-0400
TZNAME:EDT
DTSTART:20260308T070000
END:DAYLIGHT
BEGIN:STANDARD
TZOFFSETFROM:-0400
TZOFFSETTO:-0500
TZNAME:EST
DTSTART:20261101T060000
END:STANDARD
END:VTIMEZONE
BEGIN:VEVENT
DTSTART;TZID=America/New_York:20251211T183000
DTEND;TZID=America/New_York:20251211T210000
DTSTAMP:20260425T135407
CREATED:20251124T161455Z
LAST-MODIFIED:20251124T161521Z
UID:10002654-1765477800-1765486800@diosohio.org
SUMMARY:The Feast of Our Lady of Guadalupe/La Fiesta de Nuestra Señora de Guadalupe
DESCRIPTION:Thursday\, December 11\, from 6:30-9 pm at  All Saints Episcopal Church \n6:30-7:30pm Spanish Mass\n7:30-9pm Delicious Food\n7:30-8:30pm Mariachi Music\,\n8-9pm Dancing and Fun! \nPlease RSVP in the narthex or to office@allsaintsnewalbany.org \nJueves 11 de Diciembre de 6:30 a 9 pm en la Iglesia Episcopal de Todos los Santos \n6:30-7:30pm Misa en Español\n7:30-9pm Comida\n7:30-8:30pm Mariachi\n8-9pm ¡Baile y diversión! \nFavor de comunicarse al correo office@allsaintsnewalbany.org
URL:https://diosohio.org/event/the-feast-of-our-lady-of-guadalupe/
LOCATION:All Saints New Albany\, 5101 Johnstown Road\, New Albany\, OH\, 43054-0421\, US
CATEGORIES:Community
ATTACH;FMTTYPE=image/png:https://diosohio.org/wp-content/uploads/2025/11/OLG-2025.png
END:VEVENT
END:VCALENDAR