BEGIN:VCALENDAR
VERSION:2.0
PRODID:-//Diocese of Southern Ohio - ECPv6.15.20//NONSGML v1.0//EN
CALSCALE:GREGORIAN
METHOD:PUBLISH
X-ORIGINAL-URL:https://diosohio.org
X-WR-CALDESC:Events for Diocese of Southern Ohio
REFRESH-INTERVAL;VALUE=DURATION:PT1H
X-Robots-Tag:noindex
X-PUBLISHED-TTL:PT1H
BEGIN:VTIMEZONE
TZID:America/New_York
BEGIN:DAYLIGHT
TZOFFSETFROM:-0500
TZOFFSETTO:-0400
TZNAME:EDT
DTSTART:20250309T070000
END:DAYLIGHT
BEGIN:STANDARD
TZOFFSETFROM:-0400
TZOFFSETTO:-0500
TZNAME:EST
DTSTART:20251102T060000
END:STANDARD
BEGIN:DAYLIGHT
TZOFFSETFROM:-0500
TZOFFSETTO:-0400
TZNAME:EDT
DTSTART:20260308T070000
END:DAYLIGHT
BEGIN:STANDARD
TZOFFSETFROM:-0400
TZOFFSETTO:-0500
TZNAME:EST
DTSTART:20261101T060000
END:STANDARD
BEGIN:DAYLIGHT
TZOFFSETFROM:-0500
TZOFFSETTO:-0400
TZNAME:EDT
DTSTART:20270314T070000
END:DAYLIGHT
BEGIN:STANDARD
TZOFFSETFROM:-0400
TZOFFSETTO:-0500
TZNAME:EST
DTSTART:20271107T060000
END:STANDARD
END:VTIMEZONE
BEGIN:VEVENT
DTSTART;TZID=America/New_York:20260130T121500
DTEND;TZID=America/New_York:20260130T130000
DTSTAMP:20260424T204756
CREATED:20260107T161056Z
LAST-MODIFIED:20260107T161659Z
UID:10002730-1769775300-1769778000@diosohio.org
SUMMARY:Red Door Community Concert: Reverie - Songs for an Afternoon Dream
DESCRIPTION:The next Red Door Community Concert at Holy Trinity\, Oxford features singer Vidita Kanniks and harpist Rachel Miller. Drawing together sounds from various traditions of the world\, including French Art Song\, Celtic Folk Song and Hindustani Classical Music\, their music weaves a colorful tapestry of languages\, musical idioms and the ways they interact and play with each other – a lovely beginning to the afternoon. \nLimited free parking available on Walnut and Poplar Streets. The concert will also be posted on the Holy Trinity YouTube Channel.
URL:https://diosohio.org/event/red-door-community-concert-reverie-songs-for-an-afternoon-dream/
LOCATION:Holy Trinity Oxford\, 25 E Walnut St\, Oxford\, OH\, 45056-1835\, US
CATEGORIES:Community
ATTACH;FMTTYPE=image/png:https://diosohio.org/wp-content/uploads/2026/01/RedDoorConcert3-Season5-ver2-e1767802227501.png
END:VEVENT
END:VCALENDAR