BEGIN:VCALENDAR
VERSION:2.0
PRODID:-//Diocese of Southern Ohio - ECPv6.15.20//NONSGML v1.0//EN
CALSCALE:GREGORIAN
METHOD:PUBLISH
X-ORIGINAL-URL:https://diosohio.org
X-WR-CALDESC:Events for Diocese of Southern Ohio
REFRESH-INTERVAL;VALUE=DURATION:PT1H
X-Robots-Tag:noindex
X-PUBLISHED-TTL:PT1H
BEGIN:VTIMEZONE
TZID:America/New_York
BEGIN:DAYLIGHT
TZOFFSETFROM:-0500
TZOFFSETTO:-0400
TZNAME:EDT
DTSTART:20250309T070000
END:DAYLIGHT
BEGIN:STANDARD
TZOFFSETFROM:-0400
TZOFFSETTO:-0500
TZNAME:EST
DTSTART:20251102T060000
END:STANDARD
BEGIN:DAYLIGHT
TZOFFSETFROM:-0500
TZOFFSETTO:-0400
TZNAME:EDT
DTSTART:20260308T070000
END:DAYLIGHT
BEGIN:STANDARD
TZOFFSETFROM:-0400
TZOFFSETTO:-0500
TZNAME:EST
DTSTART:20261101T060000
END:STANDARD
BEGIN:DAYLIGHT
TZOFFSETFROM:-0500
TZOFFSETTO:-0400
TZNAME:EDT
DTSTART:20270314T070000
END:DAYLIGHT
BEGIN:STANDARD
TZOFFSETFROM:-0400
TZOFFSETTO:-0500
TZNAME:EST
DTSTART:20271107T060000
END:STANDARD
END:VTIMEZONE
BEGIN:VEVENT
DTSTART;TZID=America/New_York:20260131T090000
DTEND;TZID=America/New_York:20260131T121500
DTSTAMP:20260424T191354
CREATED:20260120T205910Z
LAST-MODIFIED:20260121T170108Z
UID:10002765-1769850000-1769861700@diosohio.org
SUMMARY:Advocacy Workshop: Countering Extremism through Engagement
DESCRIPTION:As Episcopalians\, do you find yourself asking the following questions? \n\nAs Christians how do we take the principles we hear from the pulpit and apply them in a Christlike way to our shared public life in Ohio?\nHow do we counter the extremism operating in our state without cultivating hate for others?\nHow can the church be a place of healing and liberation for both the oppressor and the oppressed?\nHow does the Ohio statehouse work?\nHow can we begin to organize for the dignity of our neighbors and affect meaningful policy change at the state level now?\n\nJoin Trinity\, Capitol Square and other leaders across the Diocese of Southern Ohio on Saturday\, January 31 to explore each of these questions and more as we gather together to inspire\, inform and catalyze our commitment to loving our neighbors in Ohio. \nKeynote Speaker Maria Bruno will offer a compelling vision of how we fight extremism in Ohio’s state and local government by building community\, holding out hope for transformation and not spreading hate. Then\, Rachel Coyle will lead a seminar\, “How Things Work at the Ohio Statehouse?” for a non-partisan nuts and bolts look at both the political process that results in bills being passed and how to advocate effectively for issues in Ohio. And then finally\, the Rev. Nick Bates will share how people of faith are currently organizing at the state level and facilitate small group discussions for how we can leave this gathering ready to engage as Episcopalians. Learn more \nSchedule \n9 am – Welcome & Opening Prayer\, Keynote Address with Maria Bruno\n9:25 – Q&A\n9:50 – Workshop: How Things Work at the Statehouse with Rachel Coyle\n11:15 – Workshop: Organizing at the Statehouse as Faith Communities (Nick Bates)\n11:25 – Breakout Groups & Reporting Back\n12:10 – Closing Prayer & Sending \nRegistration \nInvitees: Everyone! You do not have to be Episcopalian to attend\, though some content may be oriented toward Episcopal Church teachings and values. Registration deadline is Jan. 29. Register here. \nQuestions about this event? \nContact the Rev. Jed Dearing\, rector of Trinity\, Capitol Square at revjed@trinitycolumbus.org.
URL:https://diosohio.org/event/advocacy-workshop-countering-extremism-through-engagement/
LOCATION:Trinity Capitol Square\, 125 E Broad St\, Columbus\, OH\, 43215-3605\, US
CATEGORIES:Community
ATTACH;FMTTYPE=image/png:https://diosohio.org/wp-content/uploads/2023/03/default-featured-image.png
END:VEVENT
END:VCALENDAR