BEGIN:VCALENDAR
VERSION:2.0
PRODID:-//Diocese of Southern Ohio - ECPv6.15.20//NONSGML v1.0//EN
CALSCALE:GREGORIAN
METHOD:PUBLISH
X-WR-CALNAME:Diocese of Southern Ohio
X-ORIGINAL-URL:https://diosohio.org
X-WR-CALDESC:Events for Diocese of Southern Ohio
REFRESH-INTERVAL;VALUE=DURATION:PT1H
X-Robots-Tag:noindex
X-PUBLISHED-TTL:PT1H
BEGIN:VTIMEZONE
TZID:America/New_York
BEGIN:DAYLIGHT
TZOFFSETFROM:-0500
TZOFFSETTO:-0400
TZNAME:EDT
DTSTART:20250309T070000
END:DAYLIGHT
BEGIN:STANDARD
TZOFFSETFROM:-0400
TZOFFSETTO:-0500
TZNAME:EST
DTSTART:20251102T060000
END:STANDARD
BEGIN:DAYLIGHT
TZOFFSETFROM:-0500
TZOFFSETTO:-0400
TZNAME:EDT
DTSTART:20260308T070000
END:DAYLIGHT
BEGIN:STANDARD
TZOFFSETFROM:-0400
TZOFFSETTO:-0500
TZNAME:EST
DTSTART:20261101T060000
END:STANDARD
BEGIN:DAYLIGHT
TZOFFSETFROM:-0500
TZOFFSETTO:-0400
TZNAME:EDT
DTSTART:20270314T070000
END:DAYLIGHT
BEGIN:STANDARD
TZOFFSETFROM:-0400
TZOFFSETTO:-0500
TZNAME:EST
DTSTART:20271107T060000
END:STANDARD
END:VTIMEZONE
BEGIN:VEVENT
DTSTART;TZID=America/New_York:20260304T190000
DTEND;TZID=America/New_York:20260304T203000
DTSTAMP:20260424T115414
CREATED:20260205T200015Z
LAST-MODIFIED:20260205T200015Z
UID:10002849-1772650800-1772656200@diosohio.org
SUMMARY:Concordia Choir at Christ Church Cathedral
DESCRIPTION:Wednesday\, March 4 | 7:00 pm \nMichael Culloton conducts the renowned 70-voice Concordia Choir of Moorhead\, Minnesota during their 16-day national tour of the Northeast United States. Ticket information: concordiatickets.com. \nFor more information\, visit www.cincinnaticathedral.com or call 513-621-1817.
URL:https://diosohio.org/event/concordia-choir-at-christ-church-cathedral/
LOCATION:Christ Church Cathedral Cincinnati\, 318 E 4th St\, Cincinnati\, OH\, 45202-4202\, US
CATEGORIES:Cathedral
ATTACH;FMTTYPE=image/png:https://diosohio.org/wp-content/uploads/2024/12/CCC-logo-w-bkg.png
END:VEVENT
END:VCALENDAR