BEGIN:VCALENDAR
VERSION:2.0
PRODID:-//Diocese of Southern Ohio - ECPv6.15.20//NONSGML v1.0//EN
CALSCALE:GREGORIAN
METHOD:PUBLISH
X-ORIGINAL-URL:https://diosohio.org
X-WR-CALDESC:Events for Diocese of Southern Ohio
REFRESH-INTERVAL;VALUE=DURATION:PT1H
X-Robots-Tag:noindex
X-PUBLISHED-TTL:PT1H
BEGIN:VTIMEZONE
TZID:America/New_York
BEGIN:DAYLIGHT
TZOFFSETFROM:-0500
TZOFFSETTO:-0400
TZNAME:EDT
DTSTART:20250309T070000
END:DAYLIGHT
BEGIN:STANDARD
TZOFFSETFROM:-0400
TZOFFSETTO:-0500
TZNAME:EST
DTSTART:20251102T060000
END:STANDARD
BEGIN:DAYLIGHT
TZOFFSETFROM:-0500
TZOFFSETTO:-0400
TZNAME:EDT
DTSTART:20260308T070000
END:DAYLIGHT
BEGIN:STANDARD
TZOFFSETFROM:-0400
TZOFFSETTO:-0500
TZNAME:EST
DTSTART:20261101T060000
END:STANDARD
BEGIN:DAYLIGHT
TZOFFSETFROM:-0500
TZOFFSETTO:-0400
TZNAME:EDT
DTSTART:20270314T070000
END:DAYLIGHT
BEGIN:STANDARD
TZOFFSETFROM:-0400
TZOFFSETTO:-0500
TZNAME:EST
DTSTART:20271107T060000
END:STANDARD
END:VTIMEZONE
BEGIN:VEVENT
DTSTART;TZID=America/New_York:20260306T121500
DTEND;TZID=America/New_York:20260306T130000
DTSTAMP:20260424T115600
CREATED:20260223T163340Z
LAST-MODIFIED:20260223T163340Z
UID:10002866-1772799300-1772802000@diosohio.org
SUMMARY:Red Door Community Concert series: Frank Huang
DESCRIPTION:The fourth concert in the Red Door Community Concert series at Holy Trinity\, Oxford\, features “Forgotten Masterpieces” with pianist Frank Huang. \nFrank is a Steinway Artist\, known internationally for his artistry and technical command. He currently serves as an Associate Professor at Miami University. His creative interests consist of promoting lesser-known works and music of our times\, particularly the music of Russian romantic Nikolai Medtner\, a younger contemporary of Rachmaninoff. His concert will include works of Medtner\, Franz Liszt\, and Francis Poulenc. You don’t want to miss it! \nLimited free parking will be available on Walnut and Poplar Streets.
URL:https://diosohio.org/event/red-door-community-concert-series-frank-huang/
LOCATION:Holy Trinity Oxford\, 25 E Walnut St\, Oxford\, OH\, 45056-1835\, US
CATEGORIES:Community
ATTACH;FMTTYPE=image/png:https://diosohio.org/wp-content/uploads/2025/08/RedDoorConcerts.png
END:VEVENT
BEGIN:VEVENT
DTSTART;TZID=America/New_York:20260306T190000
DTEND;TZID=America/New_York:20260306T203000
DTSTAMP:20260424T115600
CREATED:20260223T211345Z
LAST-MODIFIED:20260223T211345Z
UID:10002868-1772823600-1772829000@diosohio.org
SUMMARY:Stations of the Cross Dinner and Discussion at St. Philip\, Columbus
DESCRIPTION:You are warmly invited to join the St. Philip Widows Mite each Friday during Lent\, beginning February 27 at 7 p.m. \nEach week\, we will journey together through a different set of the Stations of the Cross\, walking with Jesus in prayer and reflection. Following the Stations\, we will gather for dinner and share in meaningful discussion about how the experience touched our hearts and deepened our faith. Come for prayer\, fellowship\, and community as we grow together this Lenten season. All are welcome!
URL:https://diosohio.org/event/stations-of-the-cross-dinner-and-discussion-at-st-philip-columbus/2026-03-06/
LOCATION:St Philip Columbus\, 166 Woodland Ave\, Columbus\, OH\, 43203-1774
CATEGORIES:Community,Lenten Offering
ATTACH;FMTTYPE=image/jpeg:https://diosohio.org/wp-content/uploads/2026/02/Stations-of-the-Cross-2026.jpg
END:VEVENT
END:VCALENDAR