BEGIN:VCALENDAR
VERSION:2.0
PRODID:-//Diocese of Southern Ohio - ECPv6.15.20//NONSGML v1.0//EN
CALSCALE:GREGORIAN
METHOD:PUBLISH
X-WR-CALNAME:Diocese of Southern Ohio
X-ORIGINAL-URL:https://diosohio.org
X-WR-CALDESC:Events for Diocese of Southern Ohio
REFRESH-INTERVAL;VALUE=DURATION:PT1H
X-Robots-Tag:noindex
X-PUBLISHED-TTL:PT1H
BEGIN:VTIMEZONE
TZID:America/New_York
BEGIN:DAYLIGHT
TZOFFSETFROM:-0500
TZOFFSETTO:-0400
TZNAME:EDT
DTSTART:20250309T070000
END:DAYLIGHT
BEGIN:STANDARD
TZOFFSETFROM:-0400
TZOFFSETTO:-0500
TZNAME:EST
DTSTART:20251102T060000
END:STANDARD
BEGIN:DAYLIGHT
TZOFFSETFROM:-0500
TZOFFSETTO:-0400
TZNAME:EDT
DTSTART:20260308T070000
END:DAYLIGHT
BEGIN:STANDARD
TZOFFSETFROM:-0400
TZOFFSETTO:-0500
TZNAME:EST
DTSTART:20261101T060000
END:STANDARD
BEGIN:DAYLIGHT
TZOFFSETFROM:-0500
TZOFFSETTO:-0400
TZNAME:EDT
DTSTART:20270314T070000
END:DAYLIGHT
BEGIN:STANDARD
TZOFFSETFROM:-0400
TZOFFSETTO:-0500
TZNAME:EST
DTSTART:20271107T060000
END:STANDARD
END:VTIMEZONE
BEGIN:VEVENT
DTSTART;TZID=America/New_York:20260308T150000
DTEND;TZID=America/New_York:20260308T163000
DTSTAMP:20260424T115411
CREATED:20260210T183649Z
LAST-MODIFIED:20260210T183649Z
UID:10002858-1772982000-1772987400@diosohio.org
SUMMARY:St. B@3 Concert Series: Jimmy Leach Jazztet
DESCRIPTION:St. B @ 3 is a concert series at St. Barnabas\, Montgomery\, designed to offer uplifting music to the community. Join us on March 8 as we welcome the Jimmy Leach Jazztet!  Singer and trumpeter Jimmy Leach leads an ensemble featuring some of Ohio’s finest musicians\, performing music by Louis Armstrong\, Chet Baker\, Ella Fitzgerald\, Billie Holiday as well as Chris Botti\, Elton John\, Billy Joel\, Stevie Wonder and more. \nAll concerts in the series take place at 3:00 p.m. and are free. All are welcome! \nFor more information\, visit: https://www.st-barnabas.org/stbat3 \n  \nUpcoming programs: \nMay 3\, 2026 – YPCC Young Professionals Choral Collective Sings Broadway\nSeptember 13\, 2026 – Appalachian Grass\nNovember 1\, 2026 – Wayside Winds
URL:https://diosohio.org/event/st-b3-concert-series-jimmy-leach-jazztet/
LOCATION:St Barnabas Montgomery\, 10345 Montgomery Rd\, Montgomery\, OH\, 45242-5113\, US
CATEGORIES:Community
ATTACH;FMTTYPE=image/png:https://diosohio.org/wp-content/uploads/2024/10/StB@3.png
END:VEVENT
END:VCALENDAR