BEGIN:VCALENDAR
VERSION:2.0
PRODID:-//Diocese of Southern Ohio - ECPv6.15.20//NONSGML v1.0//EN
CALSCALE:GREGORIAN
METHOD:PUBLISH
X-ORIGINAL-URL:https://diosohio.org
X-WR-CALDESC:Events for Diocese of Southern Ohio
REFRESH-INTERVAL;VALUE=DURATION:PT1H
X-Robots-Tag:noindex
X-PUBLISHED-TTL:PT1H
BEGIN:VTIMEZONE
TZID:America/New_York
BEGIN:DAYLIGHT
TZOFFSETFROM:-0500
TZOFFSETTO:-0400
TZNAME:EDT
DTSTART:20250309T070000
END:DAYLIGHT
BEGIN:STANDARD
TZOFFSETFROM:-0400
TZOFFSETTO:-0500
TZNAME:EST
DTSTART:20251102T060000
END:STANDARD
BEGIN:DAYLIGHT
TZOFFSETFROM:-0500
TZOFFSETTO:-0400
TZNAME:EDT
DTSTART:20260308T070000
END:DAYLIGHT
BEGIN:STANDARD
TZOFFSETFROM:-0400
TZOFFSETTO:-0500
TZNAME:EST
DTSTART:20261101T060000
END:STANDARD
BEGIN:DAYLIGHT
TZOFFSETFROM:-0500
TZOFFSETTO:-0400
TZNAME:EDT
DTSTART:20270314T070000
END:DAYLIGHT
BEGIN:STANDARD
TZOFFSETFROM:-0400
TZOFFSETTO:-0500
TZNAME:EST
DTSTART:20271107T060000
END:STANDARD
END:VTIMEZONE
BEGIN:VEVENT
DTSTART;TZID=America/New_York:20260328T120000
DTEND;TZID=America/New_York:20260328T150000
DTSTAMP:20260424T115619
CREATED:20260325T150944Z
LAST-MODIFIED:20260325T151048Z
UID:10002910-1774699200-1774710000@diosohio.org
SUMMARY:No King but the King of Kings: Palm Processions to No Kings Rallys
DESCRIPTION:As Christians who observe Palm Sunday\, we recognize the difference between earthly kingdoms (good or bad) and the Kingdom of Heaven\, whose ruler is our Triune God. When we call out “Hosanna” we are calling out to God\, “Lord Save Us!!” The root of this word\, “Hosanna\,” is the same word that gives us the Name of Jesus\, the one who saves. And so\, on this day of palms\, we see that God answers our cries by sending us the divine Word incarnate\, Jesus Christ\, who alone can save us from ourselves and the time of trial. \nIt is part of our liturgical tradition to march in the public square on Palm Sunday to call attention to the Kingship of our Savior. All are invited to join into a demonstration of Christian Love a day early. Gather one hour prior to the rally for prayer and organizing. In Cincinnati\, meet at Christ Church Cathedral at noon (rally 1-3 pm) and in Columbus\, meet at Trinity on Capitol Square at 3 pm (rally 4 to 6 pm). Bring palms\, processional crosses\, thuribles\, acolyte torches\, robes/vestments\, banners\, signs\, a Sharpie marker\, telephone\, weather appropriate clothing\, good shoes and a water bottle. The liturgical color is red. \nFor more information\, contact the Rev. Chris Slane at rev.cslane@icloud.com.
URL:https://diosohio.org/event/no-king-but-the-king-of-kings-palm-processions-to-no-kings-rallys/2026-03-28/1/
LOCATION:OH
CATEGORIES:Community
ATTACH;FMTTYPE=image/jpeg:https://diosohio.org/wp-content/uploads/2026/03/Palm-Procession.jpeg
END:VEVENT
BEGIN:VEVENT
DTSTART;TZID=America/New_York:20260328T150000
DTEND;TZID=America/New_York:20260328T180000
DTSTAMP:20260424T115619
CREATED:20260325T150944Z
LAST-MODIFIED:20260325T151048Z
UID:10002911-1774710000-1774720800@diosohio.org
SUMMARY:No King but the King of Kings: Palm Processions to No Kings Rallys
DESCRIPTION:As Christians who observe Palm Sunday\, we recognize the difference between earthly kingdoms (good or bad) and the Kingdom of Heaven\, whose ruler is our Triune God. When we call out “Hosanna” we are calling out to God\, “Lord Save Us!!” The root of this word\, “Hosanna\,” is the same word that gives us the Name of Jesus\, the one who saves. And so\, on this day of palms\, we see that God answers our cries by sending us the divine Word incarnate\, Jesus Christ\, who alone can save us from ourselves and the time of trial. \nIt is part of our liturgical tradition to march in the public square on Palm Sunday to call attention to the Kingship of our Savior. All are invited to join into a demonstration of Christian Love a day early. Gather one hour prior to the rally for prayer and organizing. In Cincinnati\, meet at Christ Church Cathedral at noon (rally 1-3 pm) and in Columbus\, meet at Trinity on Capitol Square at 3 pm (rally 4 to 6 pm). Bring palms\, processional crosses\, thuribles\, acolyte torches\, robes/vestments\, banners\, signs\, a Sharpie marker\, telephone\, weather appropriate clothing\, good shoes and a water bottle. The liturgical color is red. \nFor more information\, contact the Rev. Chris Slane at rev.cslane@icloud.com.
URL:https://diosohio.org/event/no-king-but-the-king-of-kings-palm-processions-to-no-kings-rallys/2026-03-28/2/
LOCATION:OH
CATEGORIES:Community
ATTACH;FMTTYPE=image/jpeg:https://diosohio.org/wp-content/uploads/2026/03/Palm-Procession.jpeg
END:VEVENT
END:VCALENDAR