BEGIN:VCALENDAR
VERSION:2.0
PRODID:-//Diocese of Southern Ohio - ECPv6.15.20//NONSGML v1.0//EN
CALSCALE:GREGORIAN
METHOD:PUBLISH
X-WR-CALNAME:Diocese of Southern Ohio
X-ORIGINAL-URL:https://diosohio.org
X-WR-CALDESC:Events for Diocese of Southern Ohio
REFRESH-INTERVAL;VALUE=DURATION:PT1H
X-Robots-Tag:noindex
X-PUBLISHED-TTL:PT1H
BEGIN:VTIMEZONE
TZID:America/New_York
BEGIN:DAYLIGHT
TZOFFSETFROM:-0500
TZOFFSETTO:-0400
TZNAME:EDT
DTSTART:20220313T070000
END:DAYLIGHT
BEGIN:STANDARD
TZOFFSETFROM:-0400
TZOFFSETTO:-0500
TZNAME:EST
DTSTART:20221106T060000
END:STANDARD
BEGIN:DAYLIGHT
TZOFFSETFROM:-0500
TZOFFSETTO:-0400
TZNAME:EDT
DTSTART:20230312T070000
END:DAYLIGHT
BEGIN:STANDARD
TZOFFSETFROM:-0400
TZOFFSETTO:-0500
TZNAME:EST
DTSTART:20231105T060000
END:STANDARD
BEGIN:DAYLIGHT
TZOFFSETFROM:-0500
TZOFFSETTO:-0400
TZNAME:EDT
DTSTART:20240310T070000
END:DAYLIGHT
BEGIN:STANDARD
TZOFFSETFROM:-0400
TZOFFSETTO:-0500
TZNAME:EST
DTSTART:20241103T060000
END:STANDARD
BEGIN:DAYLIGHT
TZOFFSETFROM:-0500
TZOFFSETTO:-0400
TZNAME:EDT
DTSTART:20250309T070000
END:DAYLIGHT
BEGIN:STANDARD
TZOFFSETFROM:-0400
TZOFFSETTO:-0500
TZNAME:EST
DTSTART:20251102T060000
END:STANDARD
BEGIN:DAYLIGHT
TZOFFSETFROM:-0500
TZOFFSETTO:-0400
TZNAME:EDT
DTSTART:20260308T070000
END:DAYLIGHT
BEGIN:STANDARD
TZOFFSETFROM:-0400
TZOFFSETTO:-0500
TZNAME:EST
DTSTART:20261101T060000
END:STANDARD
END:VTIMEZONE
BEGIN:VEVENT
DTSTART;TZID=America/New_York:20250406T150000
DTEND;TZID=America/New_York:20250406T163000
DTSTAMP:20260425T082022
CREATED:20240923T164814Z
LAST-MODIFIED:20250218T194029Z
UID:10001669-1743951600-1743957000@diosohio.org
SUMMARY:Music at St. Mary's
DESCRIPTION:Music at St. Mary’s is a concert series presented by St. Mary’s\, Hillsboro. The concerts depend on free will donations from attendees. All concerts are held on Sundays at 3 pm\, unless otherwise listed. \nOctober 20: Organ recital by Jim McLaughlin \nNovember 10: Luces Stellarum\, vocal chamber music \nDecember 1: (2 pm) Parker Hastings\, guitar and vocals \nDecember 1: (4 pm) Christmas Organ Crawl. Short programs at First Presbyterian\, Global Methodist\, St. Mary’s Catholic and St. Mary’s Episcopal Churches. Funds/animal food donated will go to the Highland County Humane Society Animal Shelter. \nDecember 8: Ladies Piano Quartet \nDecember 22: St. Mary’s Christmas \nMarch 16\, 2025: Organ recital by Ethan Neal \nApril 6: Queen City Sisters \nUpdated information can be found at the Music at St. Mary’s website.
URL:https://diosohio.org/event/music-at-st-marys/2025-04-06/
LOCATION:St Mary’s Hillsboro\, 234 N High St\, Hillsboro\, OH\, 45133-1129\, US
CATEGORIES:Community,Music
ATTACH;FMTTYPE=image/png:https://diosohio.org/wp-content/uploads/2023/03/default-featured-image.png
END:VEVENT
BEGIN:VEVENT
DTSTART;TZID=America/New_York:20250316T150000
DTEND;TZID=America/New_York:20250316T163000
DTSTAMP:20260425T082022
CREATED:20240923T164814Z
LAST-MODIFIED:20250218T194029Z
UID:10001668-1742137200-1742142600@diosohio.org
SUMMARY:Music at St. Mary's
DESCRIPTION:Music at St. Mary’s is a concert series presented by St. Mary’s\, Hillsboro. The concerts depend on free will donations from attendees. All concerts are held on Sundays at 3 pm\, unless otherwise listed. \nOctober 20: Organ recital by Jim McLaughlin \nNovember 10: Luces Stellarum\, vocal chamber music \nDecember 1: (2 pm) Parker Hastings\, guitar and vocals \nDecember 1: (4 pm) Christmas Organ Crawl. Short programs at First Presbyterian\, Global Methodist\, St. Mary’s Catholic and St. Mary’s Episcopal Churches. Funds/animal food donated will go to the Highland County Humane Society Animal Shelter. \nDecember 8: Ladies Piano Quartet \nDecember 22: St. Mary’s Christmas \nMarch 16\, 2025: Organ recital by Ethan Neal \nApril 6: Queen City Sisters \nUpdated information can be found at the Music at St. Mary’s website.
URL:https://diosohio.org/event/music-at-st-marys/2025-03-16/
LOCATION:St Mary’s Hillsboro\, 234 N High St\, Hillsboro\, OH\, 45133-1129\, US
CATEGORIES:Community,Music
ATTACH;FMTTYPE=image/png:https://diosohio.org/wp-content/uploads/2023/03/default-featured-image.png
END:VEVENT
BEGIN:VEVENT
DTSTART;TZID=America/New_York:20250128T121000
DTEND;TZID=America/New_York:20250128T130000
DTSTAMP:20260425T082022
CREATED:20241203T184132Z
LAST-MODIFIED:20241203T185936Z
UID:10001747-1738066200-1738069200@diosohio.org
SUMMARY:Music Live at Lunch
DESCRIPTION:Music Live at Lunch\, Christ Church Cathedral’s weekly concert series\, will feature the performers listed below in January. These free concerts are presented on Tuesdays at 12:10 p.m. Patrons are welcome to bring their own lunches. \nFor more information\, visit cincinnaticathedral.com or call 513-621-1817. \nJANUARY SCHEDULE \nJanuary 7 | Laney and the Tramps\nJanuary 14 | Clark and Jones Trio\nJanuary 21 | Donald Broerman (guitar) & Michael Ronstadt (cello)\nJanuary 28 | James Loughery (jazz piano)
URL:https://diosohio.org/event/music-live-at-lunch-7/2025-01-28/
LOCATION:Christ Church Cathedral Cincinnati\, 318 E 4th St\, Cincinnati\, OH\, 45202-4202\, US
CATEGORIES:Cathedral,Music
ATTACH;FMTTYPE=image/png:https://diosohio.org/wp-content/uploads/2024/12/CCC-logo-w-bkg.png
END:VEVENT
BEGIN:VEVENT
DTSTART;TZID=America/New_York:20250121T121000
DTEND;TZID=America/New_York:20250121T130000
DTSTAMP:20260425T082022
CREATED:20241203T184132Z
LAST-MODIFIED:20241203T185936Z
UID:10001746-1737461400-1737464400@diosohio.org
SUMMARY:Music Live at Lunch
DESCRIPTION:Music Live at Lunch\, Christ Church Cathedral’s weekly concert series\, will feature the performers listed below in January. These free concerts are presented on Tuesdays at 12:10 p.m. Patrons are welcome to bring their own lunches. \nFor more information\, visit cincinnaticathedral.com or call 513-621-1817. \nJANUARY SCHEDULE \nJanuary 7 | Laney and the Tramps\nJanuary 14 | Clark and Jones Trio\nJanuary 21 | Donald Broerman (guitar) & Michael Ronstadt (cello)\nJanuary 28 | James Loughery (jazz piano)
URL:https://diosohio.org/event/music-live-at-lunch-7/2025-01-21/
LOCATION:Christ Church Cathedral Cincinnati\, 318 E 4th St\, Cincinnati\, OH\, 45202-4202\, US
CATEGORIES:Cathedral,Music
ATTACH;FMTTYPE=image/png:https://diosohio.org/wp-content/uploads/2024/12/CCC-logo-w-bkg.png
END:VEVENT
BEGIN:VEVENT
DTSTART;TZID=America/New_York:20250114T121000
DTEND;TZID=America/New_York:20250114T130000
DTSTAMP:20260425T082022
CREATED:20241203T184132Z
LAST-MODIFIED:20241203T185936Z
UID:10001745-1736856600-1736859600@diosohio.org
SUMMARY:Music Live at Lunch
DESCRIPTION:Music Live at Lunch\, Christ Church Cathedral’s weekly concert series\, will feature the performers listed below in January. These free concerts are presented on Tuesdays at 12:10 p.m. Patrons are welcome to bring their own lunches. \nFor more information\, visit cincinnaticathedral.com or call 513-621-1817. \nJANUARY SCHEDULE \nJanuary 7 | Laney and the Tramps\nJanuary 14 | Clark and Jones Trio\nJanuary 21 | Donald Broerman (guitar) & Michael Ronstadt (cello)\nJanuary 28 | James Loughery (jazz piano)
URL:https://diosohio.org/event/music-live-at-lunch-7/2025-01-14/
LOCATION:Christ Church Cathedral Cincinnati\, 318 E 4th St\, Cincinnati\, OH\, 45202-4202\, US
CATEGORIES:Cathedral,Music
ATTACH;FMTTYPE=image/png:https://diosohio.org/wp-content/uploads/2024/12/CCC-logo-w-bkg.png
END:VEVENT
BEGIN:VEVENT
DTSTART;TZID=America/New_York:20250107T121000
DTEND;TZID=America/New_York:20250107T130000
DTSTAMP:20260425T082022
CREATED:20241203T184132Z
LAST-MODIFIED:20241203T185936Z
UID:10001744-1736251800-1736254800@diosohio.org
SUMMARY:Music Live at Lunch
DESCRIPTION:Music Live at Lunch\, Christ Church Cathedral’s weekly concert series\, will feature the performers listed below in January. These free concerts are presented on Tuesdays at 12:10 p.m. Patrons are welcome to bring their own lunches. \nFor more information\, visit cincinnaticathedral.com or call 513-621-1817. \nJANUARY SCHEDULE \nJanuary 7 | Laney and the Tramps\nJanuary 14 | Clark and Jones Trio\nJanuary 21 | Donald Broerman (guitar) & Michael Ronstadt (cello)\nJanuary 28 | James Loughery (jazz piano)
URL:https://diosohio.org/event/music-live-at-lunch-7/2025-01-07/
LOCATION:Christ Church Cathedral Cincinnati\, 318 E 4th St\, Cincinnati\, OH\, 45202-4202\, US
CATEGORIES:Cathedral,Music
ATTACH;FMTTYPE=image/png:https://diosohio.org/wp-content/uploads/2024/12/CCC-logo-w-bkg.png
END:VEVENT
BEGIN:VEVENT
DTSTART;TZID=America/New_York:20241222T150000
DTEND;TZID=America/New_York:20241222T163000
DTSTAMP:20260425T082022
CREATED:20240923T164814Z
LAST-MODIFIED:20250218T194029Z
UID:10001667-1734879600-1734885000@diosohio.org
SUMMARY:Music at St. Mary's
DESCRIPTION:Music at St. Mary’s is a concert series presented by St. Mary’s\, Hillsboro. The concerts depend on free will donations from attendees. All concerts are held on Sundays at 3 pm\, unless otherwise listed. \nOctober 20: Organ recital by Jim McLaughlin \nNovember 10: Luces Stellarum\, vocal chamber music \nDecember 1: (2 pm) Parker Hastings\, guitar and vocals \nDecember 1: (4 pm) Christmas Organ Crawl. Short programs at First Presbyterian\, Global Methodist\, St. Mary’s Catholic and St. Mary’s Episcopal Churches. Funds/animal food donated will go to the Highland County Humane Society Animal Shelter. \nDecember 8: Ladies Piano Quartet \nDecember 22: St. Mary’s Christmas \nMarch 16\, 2025: Organ recital by Ethan Neal \nApril 6: Queen City Sisters \nUpdated information can be found at the Music at St. Mary’s website.
URL:https://diosohio.org/event/music-at-st-marys/2024-12-22/
LOCATION:St Mary’s Hillsboro\, 234 N High St\, Hillsboro\, OH\, 45133-1129\, US
CATEGORIES:Community,Music
ATTACH;FMTTYPE=image/png:https://diosohio.org/wp-content/uploads/2023/03/default-featured-image.png
END:VEVENT
BEGIN:VEVENT
DTSTART;TZID=America/New_York:20241208T150000
DTEND;TZID=America/New_York:20241208T163000
DTSTAMP:20260425T082022
CREATED:20240923T164814Z
LAST-MODIFIED:20250218T194029Z
UID:10001666-1733670000-1733675400@diosohio.org
SUMMARY:Music at St. Mary's
DESCRIPTION:Music at St. Mary’s is a concert series presented by St. Mary’s\, Hillsboro. The concerts depend on free will donations from attendees. All concerts are held on Sundays at 3 pm\, unless otherwise listed. \nOctober 20: Organ recital by Jim McLaughlin \nNovember 10: Luces Stellarum\, vocal chamber music \nDecember 1: (2 pm) Parker Hastings\, guitar and vocals \nDecember 1: (4 pm) Christmas Organ Crawl. Short programs at First Presbyterian\, Global Methodist\, St. Mary’s Catholic and St. Mary’s Episcopal Churches. Funds/animal food donated will go to the Highland County Humane Society Animal Shelter. \nDecember 8: Ladies Piano Quartet \nDecember 22: St. Mary’s Christmas \nMarch 16\, 2025: Organ recital by Ethan Neal \nApril 6: Queen City Sisters \nUpdated information can be found at the Music at St. Mary’s website.
URL:https://diosohio.org/event/music-at-st-marys/2024-12-08/
LOCATION:St Mary’s Hillsboro\, 234 N High St\, Hillsboro\, OH\, 45133-1129\, US
CATEGORIES:Community,Music
ATTACH;FMTTYPE=image/png:https://diosohio.org/wp-content/uploads/2023/03/default-featured-image.png
END:VEVENT
BEGIN:VEVENT
DTSTART;TZID=America/New_York:20241201T160000
DTEND;TZID=America/New_York:20241201T180000
DTSTAMP:20260425T082022
CREATED:20240923T164814Z
LAST-MODIFIED:20250218T194029Z
UID:10001665-1733068800-1733076000@diosohio.org
SUMMARY:Music at St. Mary's
DESCRIPTION:Music at St. Mary’s is a concert series presented by St. Mary’s\, Hillsboro. The concerts depend on free will donations from attendees. All concerts are held on Sundays at 3 pm\, unless otherwise listed. \nOctober 20: Organ recital by Jim McLaughlin \nNovember 10: Luces Stellarum\, vocal chamber music \nDecember 1: (2 pm) Parker Hastings\, guitar and vocals \nDecember 1: (4 pm) Christmas Organ Crawl. Short programs at First Presbyterian\, Global Methodist\, St. Mary’s Catholic and St. Mary’s Episcopal Churches. Funds/animal food donated will go to the Highland County Humane Society Animal Shelter. \nDecember 8: Ladies Piano Quartet \nDecember 22: St. Mary’s Christmas \nMarch 16\, 2025: Organ recital by Ethan Neal \nApril 6: Queen City Sisters \nUpdated information can be found at the Music at St. Mary’s website.
URL:https://diosohio.org/event/music-at-st-marys/2024-12-01/2/
LOCATION:St Mary’s Hillsboro\, 234 N High St\, Hillsboro\, OH\, 45133-1129\, US
CATEGORIES:Community,Music
ATTACH;FMTTYPE=image/png:https://diosohio.org/wp-content/uploads/2023/03/default-featured-image.png
END:VEVENT
BEGIN:VEVENT
DTSTART;TZID=America/New_York:20241201T140000
DTEND;TZID=America/New_York:20241201T153000
DTSTAMP:20260425T082022
CREATED:20240923T164814Z
LAST-MODIFIED:20250218T194029Z
UID:10001664-1733061600-1733067000@diosohio.org
SUMMARY:Music at St. Mary's
DESCRIPTION:Music at St. Mary’s is a concert series presented by St. Mary’s\, Hillsboro. The concerts depend on free will donations from attendees. All concerts are held on Sundays at 3 pm\, unless otherwise listed. \nOctober 20: Organ recital by Jim McLaughlin \nNovember 10: Luces Stellarum\, vocal chamber music \nDecember 1: (2 pm) Parker Hastings\, guitar and vocals \nDecember 1: (4 pm) Christmas Organ Crawl. Short programs at First Presbyterian\, Global Methodist\, St. Mary’s Catholic and St. Mary’s Episcopal Churches. Funds/animal food donated will go to the Highland County Humane Society Animal Shelter. \nDecember 8: Ladies Piano Quartet \nDecember 22: St. Mary’s Christmas \nMarch 16\, 2025: Organ recital by Ethan Neal \nApril 6: Queen City Sisters \nUpdated information can be found at the Music at St. Mary’s website.
URL:https://diosohio.org/event/music-at-st-marys/2024-12-01/1/
LOCATION:St Mary’s Hillsboro\, 234 N High St\, Hillsboro\, OH\, 45133-1129\, US
CATEGORIES:Community,Music
ATTACH;FMTTYPE=image/png:https://diosohio.org/wp-content/uploads/2023/03/default-featured-image.png
END:VEVENT
BEGIN:VEVENT
DTSTART;TZID=America/New_York:20241110T150000
DTEND;TZID=America/New_York:20241110T163000
DTSTAMP:20260425T082022
CREATED:20240923T164814Z
LAST-MODIFIED:20250218T194029Z
UID:10001663-1731250800-1731256200@diosohio.org
SUMMARY:Music at St. Mary's
DESCRIPTION:Music at St. Mary’s is a concert series presented by St. Mary’s\, Hillsboro. The concerts depend on free will donations from attendees. All concerts are held on Sundays at 3 pm\, unless otherwise listed. \nOctober 20: Organ recital by Jim McLaughlin \nNovember 10: Luces Stellarum\, vocal chamber music \nDecember 1: (2 pm) Parker Hastings\, guitar and vocals \nDecember 1: (4 pm) Christmas Organ Crawl. Short programs at First Presbyterian\, Global Methodist\, St. Mary’s Catholic and St. Mary’s Episcopal Churches. Funds/animal food donated will go to the Highland County Humane Society Animal Shelter. \nDecember 8: Ladies Piano Quartet \nDecember 22: St. Mary’s Christmas \nMarch 16\, 2025: Organ recital by Ethan Neal \nApril 6: Queen City Sisters \nUpdated information can be found at the Music at St. Mary’s website.
URL:https://diosohio.org/event/music-at-st-marys/2024-11-10/
LOCATION:St Mary’s Hillsboro\, 234 N High St\, Hillsboro\, OH\, 45133-1129\, US
CATEGORIES:Community,Music
ATTACH;FMTTYPE=image/png:https://diosohio.org/wp-content/uploads/2023/03/default-featured-image.png
END:VEVENT
BEGIN:VEVENT
DTSTART;TZID=America/New_York:20241029T121000
DTEND;TZID=America/New_York:20241029T130000
DTSTAMP:20260425T082022
CREATED:20240917T174539Z
LAST-MODIFIED:20240917T174539Z
UID:10001645-1730203800-1730206800@diosohio.org
SUMMARY:Music Live at Lunch
DESCRIPTION:Music Live at Lunch\, Christ Church Cathedral’s weekly concert series\, will feature the performers listed below in October. These free concerts are presented on Tuesdays at 12:10 p.m. Patrons are welcome to bring their own lunches. \nFor more information\, visit cincinnaticathedral.com or call 513-621-1817. \nOCTOBER SCHEDULE \nOctober 1 | Appalachian Grass\nOctober 8 | Poiesis Quartet\nOctober 15 | Sassafras Grass\nOctober 22 | Monica Hill (violin) & friends\nOctober 29 | Ricky Nye (jazz piano) \n 
URL:https://diosohio.org/event/music-live-at-lunch-4/2024-10-29/
LOCATION:Christ Church Cathedral Cincinnati\, 318 E 4th St\, Cincinnati\, OH\, 45202-4202\, US
CATEGORIES:Cathedral,Music
ATTACH;FMTTYPE=image/png:https://diosohio.org/wp-content/uploads/2023/03/default-featured-image.png
END:VEVENT
BEGIN:VEVENT
DTSTART;TZID=America/New_York:20241022T121000
DTEND;TZID=America/New_York:20241022T130000
DTSTAMP:20260425T082022
CREATED:20240917T174539Z
LAST-MODIFIED:20240917T174539Z
UID:10001644-1729599000-1729602000@diosohio.org
SUMMARY:Music Live at Lunch
DESCRIPTION:Music Live at Lunch\, Christ Church Cathedral’s weekly concert series\, will feature the performers listed below in October. These free concerts are presented on Tuesdays at 12:10 p.m. Patrons are welcome to bring their own lunches. \nFor more information\, visit cincinnaticathedral.com or call 513-621-1817. \nOCTOBER SCHEDULE \nOctober 1 | Appalachian Grass\nOctober 8 | Poiesis Quartet\nOctober 15 | Sassafras Grass\nOctober 22 | Monica Hill (violin) & friends\nOctober 29 | Ricky Nye (jazz piano) \n 
URL:https://diosohio.org/event/music-live-at-lunch-4/2024-10-22/
LOCATION:Christ Church Cathedral Cincinnati\, 318 E 4th St\, Cincinnati\, OH\, 45202-4202\, US
CATEGORIES:Cathedral,Music
ATTACH;FMTTYPE=image/png:https://diosohio.org/wp-content/uploads/2023/03/default-featured-image.png
END:VEVENT
BEGIN:VEVENT
DTSTART;TZID=America/New_York:20241020T150000
DTEND;TZID=America/New_York:20241020T163000
DTSTAMP:20260425T082022
CREATED:20240923T164814Z
LAST-MODIFIED:20250218T194029Z
UID:10001662-1729436400-1729441800@diosohio.org
SUMMARY:Music at St. Mary's
DESCRIPTION:Music at St. Mary’s is a concert series presented by St. Mary’s\, Hillsboro. The concerts depend on free will donations from attendees. All concerts are held on Sundays at 3 pm\, unless otherwise listed. \nOctober 20: Organ recital by Jim McLaughlin \nNovember 10: Luces Stellarum\, vocal chamber music \nDecember 1: (2 pm) Parker Hastings\, guitar and vocals \nDecember 1: (4 pm) Christmas Organ Crawl. Short programs at First Presbyterian\, Global Methodist\, St. Mary’s Catholic and St. Mary’s Episcopal Churches. Funds/animal food donated will go to the Highland County Humane Society Animal Shelter. \nDecember 8: Ladies Piano Quartet \nDecember 22: St. Mary’s Christmas \nMarch 16\, 2025: Organ recital by Ethan Neal \nApril 6: Queen City Sisters \nUpdated information can be found at the Music at St. Mary’s website.
URL:https://diosohio.org/event/music-at-st-marys/2024-10-20/
LOCATION:St Mary’s Hillsboro\, 234 N High St\, Hillsboro\, OH\, 45133-1129\, US
CATEGORIES:Community,Music
ATTACH;FMTTYPE=image/png:https://diosohio.org/wp-content/uploads/2023/03/default-featured-image.png
END:VEVENT
BEGIN:VEVENT
DTSTART;TZID=America/New_York:20241018T193000
DTEND;TZID=America/New_York:20241018T210000
DTSTAMP:20260425T082022
CREATED:20240917T175218Z
LAST-MODIFIED:20240917T175218Z
UID:10001646-1729279800-1729285200@diosohio.org
SUMMARY:The Wounded Heart: Songs of Passion and Loss
DESCRIPTION:Under the direction of Benedict Sheehan\, Cincinnati’s Vocal Arts Ensemble presents an evening of passionate choral works by Maddalena Casulana\, Barbara Strozzi\, Laura Hawley\, and Anna Olson\, culminating in the world premiere of Sheehan’s The Passion of Mary\, a new exploration of the Christian Passion narrative from the perspective of Jesus’ mother. Ticket information: https://vaecinci.com/. \nFor more information\, visit cincinnaticathedral.com or call 513-621-1817.
URL:https://diosohio.org/event/the-wounded-heart-songs-of-passion-and-loss/
LOCATION:Christ Church Cathedral Cincinnati\, 318 E 4th St\, Cincinnati\, OH\, 45202-4202\, US
CATEGORIES:Cathedral,Music
ATTACH;FMTTYPE=image/png:https://diosohio.org/wp-content/uploads/2023/03/default-featured-image.png
END:VEVENT
BEGIN:VEVENT
DTSTART;TZID=America/New_York:20241015T121000
DTEND;TZID=America/New_York:20241015T130000
DTSTAMP:20260425T082022
CREATED:20240917T174539Z
LAST-MODIFIED:20240917T174539Z
UID:10001643-1728994200-1728997200@diosohio.org
SUMMARY:Music Live at Lunch
DESCRIPTION:Music Live at Lunch\, Christ Church Cathedral’s weekly concert series\, will feature the performers listed below in October. These free concerts are presented on Tuesdays at 12:10 p.m. Patrons are welcome to bring their own lunches. \nFor more information\, visit cincinnaticathedral.com or call 513-621-1817. \nOCTOBER SCHEDULE \nOctober 1 | Appalachian Grass\nOctober 8 | Poiesis Quartet\nOctober 15 | Sassafras Grass\nOctober 22 | Monica Hill (violin) & friends\nOctober 29 | Ricky Nye (jazz piano) \n 
URL:https://diosohio.org/event/music-live-at-lunch-4/2024-10-15/
LOCATION:Christ Church Cathedral Cincinnati\, 318 E 4th St\, Cincinnati\, OH\, 45202-4202\, US
CATEGORIES:Cathedral,Music
ATTACH;FMTTYPE=image/png:https://diosohio.org/wp-content/uploads/2023/03/default-featured-image.png
END:VEVENT
BEGIN:VEVENT
DTSTART;TZID=America/New_York:20241008T121000
DTEND;TZID=America/New_York:20241008T130000
DTSTAMP:20260425T082022
CREATED:20240917T174539Z
LAST-MODIFIED:20240917T174539Z
UID:10001642-1728389400-1728392400@diosohio.org
SUMMARY:Music Live at Lunch
DESCRIPTION:Music Live at Lunch\, Christ Church Cathedral’s weekly concert series\, will feature the performers listed below in October. These free concerts are presented on Tuesdays at 12:10 p.m. Patrons are welcome to bring their own lunches. \nFor more information\, visit cincinnaticathedral.com or call 513-621-1817. \nOCTOBER SCHEDULE \nOctober 1 | Appalachian Grass\nOctober 8 | Poiesis Quartet\nOctober 15 | Sassafras Grass\nOctober 22 | Monica Hill (violin) & friends\nOctober 29 | Ricky Nye (jazz piano) \n 
URL:https://diosohio.org/event/music-live-at-lunch-4/2024-10-08/
LOCATION:Christ Church Cathedral Cincinnati\, 318 E 4th St\, Cincinnati\, OH\, 45202-4202\, US
CATEGORIES:Cathedral,Music
ATTACH;FMTTYPE=image/png:https://diosohio.org/wp-content/uploads/2023/03/default-featured-image.png
END:VEVENT
BEGIN:VEVENT
DTSTART;TZID=America/New_York:20241006T170000
DTEND;TZID=America/New_York:20241006T190000
DTSTAMP:20260425T082022
CREATED:20240917T173334Z
LAST-MODIFIED:20240917T173334Z
UID:10001640-1728234000-1728241200@diosohio.org
SUMMARY:Choral Evensong
DESCRIPTION:Choral Evensong with the Cathedral Choir and the Episcopal Church of the Redeemer Choir \nPhos hilaron: O Gracious Light – Robert Benson\nCanticles: Evening Service in E-flat No. 2 – Charles Wood\nAnthem: Save Us\, O Lord – Edward C. Bairstow \nPre-service organ recital at 4:30 pm performed by Daniel Grotz. \n 
URL:https://diosohio.org/event/choral-evensong-5/
LOCATION:Christ Church Cathedral Cincinnati\, 318 E 4th St\, Cincinnati\, OH\, 45202-4202\, US
CATEGORIES:Community,Music
ATTACH;FMTTYPE=image/png:https://diosohio.org/wp-content/uploads/2023/03/default-featured-image.png
END:VEVENT
BEGIN:VEVENT
DTSTART;TZID=America/New_York:20241001T121000
DTEND;TZID=America/New_York:20241001T130000
DTSTAMP:20260425T082022
CREATED:20240917T174539Z
LAST-MODIFIED:20240917T174539Z
UID:10001641-1727784600-1727787600@diosohio.org
SUMMARY:Music Live at Lunch
DESCRIPTION:Music Live at Lunch\, Christ Church Cathedral’s weekly concert series\, will feature the performers listed below in October. These free concerts are presented on Tuesdays at 12:10 p.m. Patrons are welcome to bring their own lunches. \nFor more information\, visit cincinnaticathedral.com or call 513-621-1817. \nOCTOBER SCHEDULE \nOctober 1 | Appalachian Grass\nOctober 8 | Poiesis Quartet\nOctober 15 | Sassafras Grass\nOctober 22 | Monica Hill (violin) & friends\nOctober 29 | Ricky Nye (jazz piano) \n 
URL:https://diosohio.org/event/music-live-at-lunch-4/2024-10-01/
LOCATION:Christ Church Cathedral Cincinnati\, 318 E 4th St\, Cincinnati\, OH\, 45202-4202\, US
CATEGORIES:Cathedral,Music
ATTACH;FMTTYPE=image/png:https://diosohio.org/wp-content/uploads/2023/03/default-featured-image.png
END:VEVENT
BEGIN:VEVENT
DTSTART;TZID=America/New_York:20240929T150000
DTEND;TZID=America/New_York:20240929T163000
DTSTAMP:20260425T082022
CREATED:20240917T180854Z
LAST-MODIFIED:20240917T181035Z
UID:10001647-1727622000-1727627400@diosohio.org
SUMMARY:Great Lady Concert Series: The Ruckman Piano Duo
DESCRIPTION:The 2024-25 Great Lady Concert Series at Christ Church\, Dayton\, opens with Dayton’s beloved pianists\, the Ruckman Duo\, on Sunday\, Sept. 29 at 3 pm. \nRobert and Tiraje Ruckman are a husband and wife team; both graduated from the Juilliard School and have been highly regarded as performers and teachers for decades.
URL:https://diosohio.org/event/great-lady-concert-series-the-ruckman-piano-duo/
LOCATION:Christ Church Dayton\, 20 W 1st St\, Dayton\, OH\, 45402-1213\, US
CATEGORIES:Community,Music
ATTACH;FMTTYPE=image/png:https://diosohio.org/wp-content/uploads/2024/09/large-Screenshot-2024-09-17-at-11.57.11 AM.png
END:VEVENT
BEGIN:VEVENT
DTSTART;TZID=America/New_York:20240505T150000
DTEND;TZID=America/New_York:20240505T163000
DTSTAMP:20260425T082022
CREATED:20240430T144616Z
LAST-MODIFIED:20240430T145625Z
UID:10001473-1714921200-1714926600@diosohio.org
SUMMARY:Organ Dedication Recital
DESCRIPTION:Lives United/Vidas Unidas\, a ministry of Church of Our Saviour/La Igliesia de Nuestro Salvador\, Cincinnati\, will present an organ dedication concert on Sunday\, May 5 at 3 p.m. \nDiscover the historic magic of the church’s restored Hook & Hastings organ as we celebrate its dedication with an extraordinary recital featuring Michael Delfin on organ and Sujin Kim on piano. From the solemnity of Bach and Buxtehude to the evocative melodies of Debussy and Chopin\, experience the rich heritage of this cherished instrument for an afternoon of musical excellence. \nAdmission is free. The recital will also be live-streamed on Facebook and YouTube.
URL:https://diosohio.org/event/organ-dedication-recital/
LOCATION:Church of Our Saviour Cincinnati\, 65 E Hollister St\, Cincinnati\, OH\, 45219-1703\, US
CATEGORIES:Community,Music
ATTACH;FMTTYPE=image/png:https://diosohio.org/wp-content/uploads/2023/03/default-featured-image.png
END:VEVENT
BEGIN:VEVENT
DTSTART;TZID=America/New_York:20230305T160000
DTEND;TZID=America/New_York:20230305T173000
DTSTAMP:20260425T082022
CREATED:20230221T173644Z
LAST-MODIFIED:20230221T173644Z
UID:10000114-1678032000-1678037400@diosohio.org
SUMMARY:Choral Evensong
DESCRIPTION:Saint Mark’s\, Upper Arlington\, will offer a service of Choral Evensong\, with music by the St. Mark’s Choir\, on Sunday\, March 5 at 4 p.m. Music will include the Second Service by William Byrd\, responses by Bernard Rose\, and anthems by Johannes Brahms and Martin Lauridsen. Admission is free. Donations will be gratefully received in support of the Special Music Fund at Saint Mark’s. A reception will follow. All are welcome! \nChoral Evensong is a service of sung Evening Prayer that began during the English Reformation of the 1500s. It combines elements from several older evening services that had been prayed daily in monasteries throughout the Middle Ages. The service is contemplative and includes prayers (both spoken and sung)\, readings from scripture\, hymns\, and choral anthems. \nSaint Mark’s is located at 2151 Dorset Rd in Upper Arlington\, across from the Tremont Center shopping center and the Upper Arlington Public Library. Parking is available on the street and in the Tremont Center parking lot.
URL:https://diosohio.org/event/choral-evensong-2/
LOCATION:St Mark’s Columbus\, 2151 Dorset Rd\, Columbus\, OH\, 43221-3103\, US
CATEGORIES:Community,Music
ATTACH;FMTTYPE=image/png:https://diosohio.org/wp-content/uploads/2023/03/default-featured-image.png
END:VEVENT
END:VCALENDAR