BEGIN:VCALENDAR
VERSION:2.0
PRODID:-//Diocese of Southern Ohio - ECPv6.15.20//NONSGML v1.0//EN
CALSCALE:GREGORIAN
METHOD:PUBLISH
X-WR-CALNAME:Diocese of Southern Ohio
X-ORIGINAL-URL:https://diosohio.org
X-WR-CALDESC:Events for Diocese of Southern Ohio
REFRESH-INTERVAL;VALUE=DURATION:PT1H
X-Robots-Tag:noindex
X-PUBLISHED-TTL:PT1H
BEGIN:VTIMEZONE
TZID:America/New_York
BEGIN:DAYLIGHT
TZOFFSETFROM:-0500
TZOFFSETTO:-0400
TZNAME:EDT
DTSTART:20250309T070000
END:DAYLIGHT
BEGIN:STANDARD
TZOFFSETFROM:-0400
TZOFFSETTO:-0500
TZNAME:EST
DTSTART:20251102T060000
END:STANDARD
BEGIN:DAYLIGHT
TZOFFSETFROM:-0500
TZOFFSETTO:-0400
TZNAME:EDT
DTSTART:20260308T070000
END:DAYLIGHT
BEGIN:STANDARD
TZOFFSETFROM:-0400
TZOFFSETTO:-0500
TZNAME:EST
DTSTART:20261101T060000
END:STANDARD
BEGIN:DAYLIGHT
TZOFFSETFROM:-0500
TZOFFSETTO:-0400
TZNAME:EDT
DTSTART:20270314T070000
END:DAYLIGHT
BEGIN:STANDARD
TZOFFSETFROM:-0400
TZOFFSETTO:-0500
TZNAME:EST
DTSTART:20271107T060000
END:STANDARD
END:VTIMEZONE
BEGIN:VEVENT
DTSTART;VALUE=DATE:20260407
DTEND;VALUE=DATE:20260413
DTSTAMP:20260425T105313
CREATED:20260106T164514Z
LAST-MODIFIED:20260106T164514Z
UID:10002725-1775520000-1776038399@diosohio.org
SUMMARY:Order of Naucratius Hog Camp Retreat
DESCRIPTION:MARCH 17 – 22 and/or April 7-12\nCLINTON\, LOUISIANA \nThe Order of Naucratius in Southern Ohio is a society within the Episcopal Church. Here in the Episcopal Diocese of Southern Ohio\, the order makes its spiritual home at Procter Center. \nMembers of the Order of Naucratius commit to three rules of life: Prayer\, Conservation\, and Charity. We believe that hunting and fishing are sacred activities. We are grateful for God’s gifts\, and we hope to use our skills and endeavors to help spread God’s Kingdom. Our main activity is to share portions of our harvests with those who are hungry. \nThis is the fifth year that we will gather in Clinton\, Louisiana\, for a wild hog hunt retreat. Participants from chapters in Oklahoma\, Western Missouri\, Michigan\, and DSO will join with friends from around the US. This hog hunt contributes to the care of creation by reducing feral hog populations and preventing damage to farmland and local water sources. A portion of the protein harvested from this hunt will be donated to food pantries local to the participants\, helping to feed those in need. \n2026 Details\nIn addition to hunting\, this hunt retreat will include times of worship\, prayer\, and fellowship. Our final gathering is Church on Sunday morning. \n\nAccommodations range from a bunkhouse\, a rustic shelter with cots\, campsites\, and barn lofts.\nThere are both indoor and outdoor bathroom facilities open to all.\nMeals are provided as part of the cost and communal at lunch time\, where prayer\, hunting assignments\, and any updates are shared.\nCamp coordinator: John White\nCamp chaplain: the Rev. Christian Baron\nHospitality coordinators: the Rev. Collin Larimore\, Jerusalem and Nathan Greer\nHunt coordinators: the Rev. Sarah Smith and Corey Jerome\nCost of registration is $500 and includes lodging and meals.\nParticipants are responsible for licenses. A non-resident 5 day license is $65.\nTravel is the responsibility of each participant.\n\nContact John White with any questions. jwhite@diosohio.org \nREGISTER HERE
URL:https://diosohio.org/event/order-of-naucratius-hog-camp-retreat-2/
LOCATION:OH
CATEGORIES:Community
ATTACH;FMTTYPE=image/png:https://diosohio.org/wp-content/uploads/2023/03/default-featured-image.png
END:VEVENT
BEGIN:VEVENT
DTSTART;TZID=America/New_York:20260417T121500
DTEND;TZID=America/New_York:20260417T130000
DTSTAMP:20260425T105313
CREATED:20260317T155202Z
LAST-MODIFIED:20260317T155202Z
UID:10002889-1776428100-1776430800@diosohio.org
SUMMARY:Red Door Concert: Miami University Chamber Singers
DESCRIPTION:The next concert in the Red Door Concert series will feature the Miami University Chamber Singers\, under the direction of Reina Dickey and accompanied by Jon Sanford\, on Friday\, April 17 at 12:15 pm. \nThis auditioned ensemble of students is regarded for their versatility and performs a wide-ranging repertoire from early to contemporary works\, engaging within traditions both within and beyond the Western canon. Active within the campus community\, the Chamber Singers have been featured in performances throughout Ohio and in tours abroad. This concert won’t disappoint! \nLimited free parking will be available on Walnut and Poplar \n 
URL:https://diosohio.org/event/red-door-concert-miami-university-chamber-singers/
LOCATION:Holy Trinity Oxford\, 25 E Walnut St\, Oxford\, OH\, 45056-1835\, US
CATEGORIES:Community
ATTACH;FMTTYPE=image/png:https://diosohio.org/wp-content/uploads/2025/08/RedDoorConcerts.png
END:VEVENT
BEGIN:VEVENT
DTSTART;TZID=America/New_York:20260426T170000
DTEND;TZID=America/New_York:20260426T183000
DTSTAMP:20260425T105313
CREATED:20250819T182038Z
LAST-MODIFIED:20250819T182038Z
UID:10002503-1777222800-1777228200@diosohio.org
SUMMARY:Bach Vespers
DESCRIPTION:Sunday\, April 26\, 2026\, 5:00 p.m. — Vespers at St. Thomas\, Terrace Park \nThe Bach Ensemble Orchestra and Chorale\,\nCarlton Monroe\, conductor \nJ.S. Bach – Christ lag in Todes Banden\, BWV 4\nMoses Hogan – Abide with Me\nWilliam Byrd – Haec Dies
URL:https://diosohio.org/event/bach-vespers-7/
LOCATION:St Thomas Terrace Park\, 100 Miami Ave\, Terrace Park\, OH\, 45174-1175\, US
CATEGORIES:Community
ATTACH;FMTTYPE=image/webp:https://diosohio.org/wp-content/uploads/2025/08/BEST-Logo-Variations-06.webp
ORGANIZER;CN="The Bach Ensemble of St. Thomas":MAILTO:BEST@bachensemble.org
END:VEVENT
BEGIN:VEVENT
DTSTART;TZID=America/New_York:20260501T173000
DTEND;TZID=America/New_York:20260501T213000
DTSTAMP:20260425T105313
CREATED:20260320T181307Z
LAST-MODIFIED:20260320T181307Z
UID:10002908-1777656600-1777671000@diosohio.org
SUMMARY:Episcopal Night at the Columbus Symphony
DESCRIPTION:Columbus Symphony Orchestra – Rossen Milanov\, conductor\nAubry Ballarò\, soprano\nNicholas Nestorak\, tenor\nHugh Russell\, baritone\nColumbus Symphony Chorus- Stephen Caracciolo\, chorus director \nBalletMet\nDvoräk: The American Flag & Orff: Trionfo di Afrodite (Triumph of Aphrodite) \n5:30pm – Reception\, bar & “heavy” hors d’oeuvres – 4th floor\n7:30pm – Performance – Seats in Prime Orchestra \nCost is $70 per person for whole event or $35 per person for reception only. \nMake checks payable to: Bruce Smith and mail to him at\nThe Rev. Bruce Smith\n627 Yaronia Dr. N.\,\nColumbus\, OH 43214\nEmail: revabs0630@gmail.com \nPlease include the names of the people in your party and your parish affiliation. \nDeadline for reservations is Wednesday\, April 15.
URL:https://diosohio.org/event/episcopal-night-at-the-columbus-symphony/
LOCATION:Ohio Theatre\, 39 E State St\, Columbus\, 43215\, United States
CATEGORIES:Community
ATTACH;FMTTYPE=image/jpeg:https://diosohio.org/wp-content/uploads/2026/03/Columbus-Symphony-e1774030373190.jpg
END:VEVENT
BEGIN:VEVENT
DTSTART;TZID=America/New_York:20260503T150000
DTEND;TZID=America/New_York:20260503T163000
DTSTAMP:20260425T105313
CREATED:20260331T172254Z
LAST-MODIFIED:20260331T172254Z
UID:10002912-1777820400-1777825800@diosohio.org
SUMMARY:St. B @3 concert: Young Professionals Choral Collective
DESCRIPTION:St. B @ 3 is a concert series at St. Barnabas Episcopal Church in Montgomery\, Ohio\, designed to offer uplifting music to the community. Join us on May 3 as we welcome an ensemble from the Young Professionals Choral Collective (YPCC) in a program of beloved Broadway music. \nYPCC is an innovative choral ensemble that combines Cincinnati’s love of singing\, socializing\, and culture for young professionals ages 21 to 45 of different occupations\, education\, socio-economic backgrounds\, beliefs and ages. They cultivate an inclusive community through the joyful experience of choral music and are composed of over 1\,200 singers who create and share high-quality music in an accessible\, fun\, and social way.  They are the largest choral organization made up of young professionals in the nation\, and the model is gaining national attention and even inspiring similar organizations around the country. \nAll concerts in the series take place at 3 p.m. and are free. All are welcome! For more information\, visit: https://www.st-barnabas.org/stbat3 \n  \nUpcoming programs: \nSeptember 13\, 2026 – Appalachian Grass \nNovember 1\, 2026 – Wayside Winds
URL:https://diosohio.org/event/st-b-3-concert-young-professionals-choral-collective/
LOCATION:St Barnabas Montgomery\, 10345 Montgomery Rd\, Montgomery\, OH\, 45242-5113\, US
CATEGORIES:Community
ATTACH;FMTTYPE=image/png:https://diosohio.org/wp-content/uploads/2024/10/StB@3.png
END:VEVENT
BEGIN:VEVENT
DTSTART;TZID=America/New_York:20260505T121000
DTEND;TZID=America/New_York:20260505T130000
DTSTAMP:20260425T105313
CREATED:20260319T145204Z
LAST-MODIFIED:20260319T145204Z
UID:10002890-1777983000-1777986000@diosohio.org
SUMMARY:Music Live at Lunch at Christ Church Cathedral
DESCRIPTION:Music Live at Lunch\, Christ Church Cathedral’s weekly concert series\, will feature the performers listed below in May. These free concerts are presented on Tuesdays at 12:10 p.m. Patrons are welcome to bring their own lunches. \nFor more information\, visit cincinnaticathedral.com or call 513-621-1817. \nMAY SCHEDULE \nMay 5: Estrada do Sol\nMay 12: Nick Greenberg Trio\nMay 19: Pork City Slim\nMay 26 : Mitchell Sturges (tenor)
URL:https://diosohio.org/event/music-live-at-lunch-at-christ-church-cathedral-may-2026/2026-05-05/
LOCATION:Christ Church Cathedral Cincinnati\, 318 E 4th St\, Cincinnati\, OH\, 45202-4202\, US
CATEGORIES:Cathedral
ATTACH;FMTTYPE=image/png:https://diosohio.org/wp-content/uploads/2024/12/CCC-logo-w-bkg.png
END:VEVENT
BEGIN:VEVENT
DTSTART;TZID=America/New_York:20260512T121000
DTEND;TZID=America/New_York:20260512T130000
DTSTAMP:20260425T105313
CREATED:20260319T145204Z
LAST-MODIFIED:20260319T145204Z
UID:10002891-1778587800-1778590800@diosohio.org
SUMMARY:Music Live at Lunch at Christ Church Cathedral
DESCRIPTION:Music Live at Lunch\, Christ Church Cathedral’s weekly concert series\, will feature the performers listed below in May. These free concerts are presented on Tuesdays at 12:10 p.m. Patrons are welcome to bring their own lunches. \nFor more information\, visit cincinnaticathedral.com or call 513-621-1817. \nMAY SCHEDULE \nMay 5: Estrada do Sol\nMay 12: Nick Greenberg Trio\nMay 19: Pork City Slim\nMay 26 : Mitchell Sturges (tenor)
URL:https://diosohio.org/event/music-live-at-lunch-at-christ-church-cathedral-may-2026/2026-05-12/
LOCATION:Christ Church Cathedral Cincinnati\, 318 E 4th St\, Cincinnati\, OH\, 45202-4202\, US
CATEGORIES:Cathedral
ATTACH;FMTTYPE=image/png:https://diosohio.org/wp-content/uploads/2024/12/CCC-logo-w-bkg.png
END:VEVENT
BEGIN:VEVENT
DTSTART;TZID=America/New_York:20260517T150000
DTEND;TZID=America/New_York:20260517T163000
DTSTAMP:20260425T105313
CREATED:20260420T155544Z
LAST-MODIFIED:20260420T155544Z
UID:10002914-1779030000-1779035400@diosohio.org
SUMMARY:Concerts at Christ Church Springfield presents Chamber Music: Trios by Mozart and Brahms
DESCRIPTION:Concerts at Christ Episcopal Church presents Chamber Music: Trios by Mozart and Brahms. Featuring: Mary Davis\, cellist; Deborah Barrett Price\, Violist; Christopher Durrenberger\, pianist; and Bob Pfeiffer\, clarinetist. \nSunday\, May 17\n3 pm. \nA free will offering will support future concerts.
URL:https://diosohio.org/event/chamber-music-trios-by-mozart-and-brahms/
LOCATION:Christ Church Springfield\, 409 E High St\, Springfield\, OH\, 45505-1007\, US
CATEGORIES:Community
ATTACH;FMTTYPE=image/png:https://diosohio.org/wp-content/uploads/2026/04/IMG_3845-e1776700472908.png
END:VEVENT
BEGIN:VEVENT
DTSTART;TZID=America/New_York:20260519T121000
DTEND;TZID=America/New_York:20260519T130000
DTSTAMP:20260425T105313
CREATED:20260319T145204Z
LAST-MODIFIED:20260319T145204Z
UID:10002892-1779192600-1779195600@diosohio.org
SUMMARY:Music Live at Lunch at Christ Church Cathedral
DESCRIPTION:Music Live at Lunch\, Christ Church Cathedral’s weekly concert series\, will feature the performers listed below in May. These free concerts are presented on Tuesdays at 12:10 p.m. Patrons are welcome to bring their own lunches. \nFor more information\, visit cincinnaticathedral.com or call 513-621-1817. \nMAY SCHEDULE \nMay 5: Estrada do Sol\nMay 12: Nick Greenberg Trio\nMay 19: Pork City Slim\nMay 26 : Mitchell Sturges (tenor)
URL:https://diosohio.org/event/music-live-at-lunch-at-christ-church-cathedral-may-2026/2026-05-19/
LOCATION:Christ Church Cathedral Cincinnati\, 318 E 4th St\, Cincinnati\, OH\, 45202-4202\, US
CATEGORIES:Cathedral
ATTACH;FMTTYPE=image/png:https://diosohio.org/wp-content/uploads/2024/12/CCC-logo-w-bkg.png
END:VEVENT
BEGIN:VEVENT
DTSTART;TZID=America/New_York:20260526T121000
DTEND;TZID=America/New_York:20260526T130000
DTSTAMP:20260425T105313
CREATED:20260319T145204Z
LAST-MODIFIED:20260319T145204Z
UID:10002893-1779797400-1779800400@diosohio.org
SUMMARY:Music Live at Lunch at Christ Church Cathedral
DESCRIPTION:Music Live at Lunch\, Christ Church Cathedral’s weekly concert series\, will feature the performers listed below in May. These free concerts are presented on Tuesdays at 12:10 p.m. Patrons are welcome to bring their own lunches. \nFor more information\, visit cincinnaticathedral.com or call 513-621-1817. \nMAY SCHEDULE \nMay 5: Estrada do Sol\nMay 12: Nick Greenberg Trio\nMay 19: Pork City Slim\nMay 26 : Mitchell Sturges (tenor)
URL:https://diosohio.org/event/music-live-at-lunch-at-christ-church-cathedral-may-2026/2026-05-26/
LOCATION:Christ Church Cathedral Cincinnati\, 318 E 4th St\, Cincinnati\, OH\, 45202-4202\, US
CATEGORIES:Cathedral
ATTACH;FMTTYPE=image/png:https://diosohio.org/wp-content/uploads/2024/12/CCC-logo-w-bkg.png
END:VEVENT
BEGIN:VEVENT
DTSTART;VALUE=DATE:20260529
DTEND;VALUE=DATE:20260601
DTSTAMP:20260425T105313
CREATED:20260319T204600Z
LAST-MODIFIED:20260319T204916Z
UID:10002896-1780012800-1780271999@diosohio.org
SUMMARY:Rainbows of Hope: Queer Joy in the Struggle Across the Ages
DESCRIPTION:May 29 – 31\, 2026 at Transfiguration Spirituality Center in Glendale\, OH \nThe Rev. Charles Graves\, IV\, facilitating \nJoin TSC for a time of refreshment\, renewal\, and hope in a time of profound disorientation. We will look back on the perseverance of LGBTQ+ “saints” of the past\, equip ourselves with fortitude for the present\, and seek encouragement for an uncertain future. This retreat will be a powerful experience of spiritual renewal for both traditionally religious and nonreligious LGBTQ+ people of varied backgrounds. \nFor information and registration\, please visit the Events Page at the TSC website at www.ctretreats.org
URL:https://diosohio.org/event/rainbows-of-hope-queer-joy-in-the-struggle-across-the-ages/
LOCATION:Transfiguration Spirituality Center\, 469 Albion Ave\, Glendale\, Ohio\, 45246
CATEGORIES:Community,LGBTQ+ Ministry
ATTACH;FMTTYPE=image/png:https://diosohio.org/wp-content/uploads/2026/03/Rainbows-of-Hope-Flyer-e1773953136137.png
ORGANIZER;CN="Transfiguration Spirituality Center":MAILTO:ctretreats@gmail.com
END:VEVENT
BEGIN:VEVENT
DTSTART;VALUE=DATE:20260710
DTEND;VALUE=DATE:20260713
DTSTAMP:20260425T105313
CREATED:20260319T204841Z
LAST-MODIFIED:20260319T204841Z
UID:10002897-1783641600-1783900799@diosohio.org
SUMMARY:The Divine Knows My Prounouns
DESCRIPTION:July 10 – 12\, 2026 at Transfiguration Spirituality Center in Glendale\, OH \nDouglas Argue and Alejandro Rodriguez\, facilitating \nImagine a brave space where transgender individuals are free to be themselves. Where they are honored and celebrated. A place where they are free to explore their relationship with the Divine\, however they define that. A place where their families and allies can learn how to best support their transgender loved one’s spiritual journey. That’s what we’ll be creating together when we for our second annual The Divine Knows My Pronouns Retreat. Attendees at last year’s event called this event “life changing” and “life saving.” \nFor information and registration\, please visit the Events Page at our website at www.ctretreats.org
URL:https://diosohio.org/event/the-divine-knows-my-prounouns/
LOCATION:Transfiguration Spirituality Center\, 469 Albion Ave\, Glendale\, Ohio\, 45246
CATEGORIES:Community,LGBTQ+ Ministry
ATTACH;FMTTYPE=image/png:https://diosohio.org/wp-content/uploads/2026/03/Divine-Pronouns-2026-e1773953306938.png
ORGANIZER;CN="Transfiguration Spirituality Center":MAILTO:ctretreats@gmail.com
END:VEVENT
BEGIN:VEVENT
DTSTART;VALUE=DATE:20260731
DTEND;VALUE=DATE:20260802
DTSTAMP:20260425T105313
CREATED:20260129T191700Z
LAST-MODIFIED:20260129T191700Z
UID:10002820-1785456000-1785628799@diosohio.org
SUMMARY:Province V Big Provincial Gathering (BPG)
DESCRIPTION:in Kalamazoo\, MI. More information TBA. Learn more here.
URL:https://diosohio.org/event/province-v-big-provincial-gathering-bpg/
LOCATION:OH
CATEGORIES:Community
ATTACH;FMTTYPE=image/jpeg:https://diosohio.org/wp-content/uploads/2026/01/bpg-logo_orig-e1769714202232.jpg
END:VEVENT
END:VCALENDAR