BEGIN:VCALENDAR
VERSION:2.0
PRODID:-//Diocese of Southern Ohio - ECPv6.15.20//NONSGML v1.0//EN
CALSCALE:GREGORIAN
METHOD:PUBLISH
X-ORIGINAL-URL:https://diosohio.org
X-WR-CALDESC:Events for Diocese of Southern Ohio
REFRESH-INTERVAL;VALUE=DURATION:PT1H
X-Robots-Tag:noindex
X-PUBLISHED-TTL:PT1H
BEGIN:VTIMEZONE
TZID:America/New_York
BEGIN:DAYLIGHT
TZOFFSETFROM:-0500
TZOFFSETTO:-0400
TZNAME:EDT
DTSTART:20250309T070000
END:DAYLIGHT
BEGIN:STANDARD
TZOFFSETFROM:-0400
TZOFFSETTO:-0500
TZNAME:EST
DTSTART:20251102T060000
END:STANDARD
BEGIN:DAYLIGHT
TZOFFSETFROM:-0500
TZOFFSETTO:-0400
TZNAME:EDT
DTSTART:20260308T070000
END:DAYLIGHT
BEGIN:STANDARD
TZOFFSETFROM:-0400
TZOFFSETTO:-0500
TZNAME:EST
DTSTART:20261101T060000
END:STANDARD
BEGIN:DAYLIGHT
TZOFFSETFROM:-0500
TZOFFSETTO:-0400
TZNAME:EDT
DTSTART:20270314T070000
END:DAYLIGHT
BEGIN:STANDARD
TZOFFSETFROM:-0400
TZOFFSETTO:-0500
TZNAME:EST
DTSTART:20271107T060000
END:STANDARD
END:VTIMEZONE
BEGIN:VEVENT
DTSTART;TZID=America/New_York:20260329T190000
DTEND;TZID=America/New_York:20260329T200000
DTSTAMP:20260424T115557
CREATED:20260309T153305Z
LAST-MODIFIED:20260309T153310Z
UID:10002877-1774810800-1774814400@diosohio.org
SUMMARY:Women of the Passion: A Journey to the Cross
DESCRIPTION:St. James\, Westwood\, invites you to gather on Palm Sunday evening for a version of the Stations of the Cross told through the voices of women who surrounded Jesus. Childcare will be available for the service. The service will be live-streamed on the St. James Facebook page and YouTube channel.
URL:https://diosohio.org/event/women-of-the-passion-a-journey-to-the-cross/
LOCATION:St James Westwood\, 3207 Montana Ave\, Cincinnati\, OH\, 45211-6697\, US
CATEGORIES:Community
ATTACH;FMTTYPE=image/jpeg:https://diosohio.org/wp-content/uploads/2026/03/St-James-e1773070353105.jpg
END:VEVENT
BEGIN:VEVENT
DTSTART;TZID=America/New_York:20260331T121000
DTEND;TZID=America/New_York:20260331T130000
DTSTAMP:20260424T115557
CREATED:20260205T195709Z
LAST-MODIFIED:20260205T195709Z
UID:10002848-1774959000-1774962000@diosohio.org
SUMMARY:Music Live at Lunch at Christ Church Cathedral
DESCRIPTION:Music Live at Lunch\, Christ Church Cathedral’s weekly concert series\, will feature the performers listed below in March. These free concerts are presented on Tuesdays at 12:10 p.m. Patrons are welcome to bring their own lunches. \nFor more information\, visit cincinnaticathedral.com or call 513-621-1817. \nMARCH SCHEDULE \nMarch 3: James Loughery (jazz piano)\nMarch 10: Laney and the Tramps\nMarch 17: Boutique\nMarch 24: Heri et Hodie (women’s vocal ensemble)\nMarch 31: Jimmy Leach Trio
URL:https://diosohio.org/event/music-live-at-lunch-at-christ-church-cathedral-mar-2026/2026-03-31/
LOCATION:Christ Church Cathedral Cincinnati\, 318 E 4th St\, Cincinnati\, OH\, 45202-4202\, US
CATEGORIES:Cathedral
ATTACH;FMTTYPE=image/png:https://diosohio.org/wp-content/uploads/2024/12/CCC-logo-w-bkg.png
END:VEVENT
BEGIN:VEVENT
DTSTART;TZID=America/New_York:20260403T190000
DTEND;TZID=America/New_York:20260403T203000
DTSTAMP:20260424T115557
CREATED:20260223T211345Z
LAST-MODIFIED:20260223T211345Z
UID:10002872-1775242800-1775248200@diosohio.org
SUMMARY:Stations of the Cross Dinner and Discussion at St. Philip\, Columbus
DESCRIPTION:You are warmly invited to join the St. Philip Widows Mite each Friday during Lent\, beginning February 27 at 7 p.m. \nEach week\, we will journey together through a different set of the Stations of the Cross\, walking with Jesus in prayer and reflection. Following the Stations\, we will gather for dinner and share in meaningful discussion about how the experience touched our hearts and deepened our faith. Come for prayer\, fellowship\, and community as we grow together this Lenten season. All are welcome!
URL:https://diosohio.org/event/stations-of-the-cross-dinner-and-discussion-at-st-philip-columbus/2026-04-03/
LOCATION:St Philip Columbus\, 166 Woodland Ave\, Columbus\, OH\, 43203-1774
CATEGORIES:Community,Lenten Offering
ATTACH;FMTTYPE=image/jpeg:https://diosohio.org/wp-content/uploads/2026/02/Stations-of-the-Cross-2026.jpg
END:VEVENT
END:VCALENDAR