BEGIN:VCALENDAR
VERSION:2.0
PRODID:-//Diocese of Southern Ohio - ECPv6.15.20//NONSGML v1.0//EN
CALSCALE:GREGORIAN
METHOD:PUBLISH
X-ORIGINAL-URL:https://diosohio.org
X-WR-CALDESC:Events for Diocese of Southern Ohio
REFRESH-INTERVAL;VALUE=DURATION:PT1H
X-Robots-Tag:noindex
X-PUBLISHED-TTL:PT1H
BEGIN:VTIMEZONE
TZID:America/New_York
BEGIN:DAYLIGHT
TZOFFSETFROM:-0500
TZOFFSETTO:-0400
TZNAME:EDT
DTSTART:20240310T070000
END:DAYLIGHT
BEGIN:STANDARD
TZOFFSETFROM:-0400
TZOFFSETTO:-0500
TZNAME:EST
DTSTART:20241103T060000
END:STANDARD
BEGIN:DAYLIGHT
TZOFFSETFROM:-0500
TZOFFSETTO:-0400
TZNAME:EDT
DTSTART:20250309T070000
END:DAYLIGHT
BEGIN:STANDARD
TZOFFSETFROM:-0400
TZOFFSETTO:-0500
TZNAME:EST
DTSTART:20251102T060000
END:STANDARD
BEGIN:DAYLIGHT
TZOFFSETFROM:-0500
TZOFFSETTO:-0400
TZNAME:EDT
DTSTART:20260308T070000
END:DAYLIGHT
BEGIN:STANDARD
TZOFFSETFROM:-0400
TZOFFSETTO:-0500
TZNAME:EST
DTSTART:20261101T060000
END:STANDARD
END:VTIMEZONE
BEGIN:VEVENT
DTSTART;TZID=America/New_York:20251202T190000
DTEND;TZID=America/New_York:20251202T200000
DTSTAMP:20260425T065257
CREATED:20251202T175041Z
LAST-MODIFIED:20251202T175102Z
UID:10002579-1764702000-1764705600@diosohio.org
SUMMARY:Beloved Community Book Study: Homegoing
DESCRIPTION:Our beloved community book study aims to foster a sense of community as we share and discuss ideas from seminal works of non-fiction and\, now\, fiction. By rooting our individual stories and local stories in our shared scriptural stories\, we aim to follow Jesus more closely and build the beloved community in the Diocese of Southern Ohio. \nOur Fall Book Study will take on Homegoing by Yaa Gyasi. \n\nThe unforgettable New York Times best seller begins with the story of two half-sisters\, separated by forces beyond their control: one sold into slavery\, the other married to a British slaver. Homegoing traces the generations of family who follow\, as their destinies lead them through two continents and three hundred years of history\, each life indelibly drawn\, as Gyasi reveals the legacy of slavery in light of the present day. Effia and Esi are born into different villages in eighteenth-century Ghana. Effia is married off to an Englishman and lives in comfort in the palatial rooms of Cape Coast Castle. Unbeknownst to Effia\, her sister\, Esi\, is imprisoned beneath her in the castle’s dungeons\, sold with thousands of others into the Gold Coast’s booming slave trade\, and shipped off to the United States. One thread of Homegoing follows Effia’s descendants through centuries of warfare in Ghana\, as the Fante and Asante nations wrestle with the slave trade and British colonization. The other thread follows Esi and her children from the plantations of the South to the Civil War and the Great Migration\, from the coal mines of Pratt City\, Alabama\, to the jazz clubs and dope houses of twentieth-century Harlem\, and continues through to the present day. Homegoing makes history visceral\, capturing with singular and stunning immediacy how the memory of captivity is inscribed in the soul of a nation. \nThis book study gathers over three evenings from 7-8 pm: October 7\, November 3\, and December 2.This online gathering takes place on Zoom. Register. \nThere is no registration deadline\, however\, if requesting to be mailed a copy of the book\, please register no later than September 30.
URL:https://diosohio.org/event/beloved-community-book-study-homegoing-2/
CATEGORIES:Becoming Beloved Community,Diocese
ATTACH;FMTTYPE=image/png:https://diosohio.org/wp-content/uploads/2023/03/default-featured-image.png
END:VEVENT
BEGIN:VEVENT
DTSTART;TZID=America/New_York:20251203T180000
DTEND;TZID=America/New_York:20251203T193000
DTSTAMP:20260425T065257
CREATED:20250916T203345Z
LAST-MODIFIED:20250916T203951Z
UID:10002564-1764784800-1764790200@diosohio.org
SUMMARY:Columbus-area LGBTQ+ Affinity group December gathering
DESCRIPTION:Wednesday\, December 3\, 6-7:30pm \nWe’ll attend the First Wednesday Service at Trinity Episcopal Church on Capitol Square (125 E Broad St\, Columbus OH 43215). This contemplative worship service features a conversational sermon and Holy Communion around a shared simple supper. To assist with planning\, please RSVP if you plan to attend. Contact Liz at lgbtq-columbus@diosohio.org for more information.
URL:https://diosohio.org/event/columbus-area-lgbtq-affinity-group-december-gathering/
LOCATION:Trinity Capitol Square\, 125 E Broad St\, Columbus\, OH\, 43215-3605\, US
CATEGORIES:LGBTQ+ Ministry
ATTACH;FMTTYPE=image/png:https://diosohio.org/wp-content/uploads/2025/04/DSO_Pride_SHIELD_thumbnail.png
ORGANIZER;CN="Columbus-area LGBTQ+ Affinity Group":MAILTO:lgbtq-columbus@diosohio.org
END:VEVENT
BEGIN:VEVENT
DTSTART;TZID=America/New_York:20251203T180000
DTEND;TZID=America/New_York:20251203T193000
DTSTAMP:20260425T065257
CREATED:20251028T174946Z
LAST-MODIFIED:20251028T174946Z
UID:10002638-1764784800-1764790200@diosohio.org
SUMMARY:Holy Trinity\, Kenwood closing Eucharist
DESCRIPTION:Please join us as we celebrate the closing Eucharist at Holy Trinity\, Kenwood and mark our gratitude for its impact on the community and our diocese. Earlier this year\, we announced that the leadership of Holy Trinity discerned to close. We anticipate that becoming official by act of diocesan convention in November. \nAs part of the service\, we will celebrate the many generations that have been formed by Word and Sacrament at Holy Trinity\, break bread around the altar\, and secularize the sacred space. Clergy who have historically been involved with Holy Trinity are invited to vest and process wearing white stoles. A reception with light refreshments will follow the liturgy.
URL:https://diosohio.org/event/holy-trinity-kenwood-closing-eucharist/
LOCATION:Holy Trinity Cincinnati\, 7190 Euclid Rd\, Cincinnati\, OH\, 45243-2544\, US
CATEGORIES:Diocese
ATTACH;FMTTYPE=image/jpeg:https://diosohio.org/wp-content/uploads/2025/10/Holy-Trinity-Kenwood-e1761673772965.jpg
END:VEVENT
BEGIN:VEVENT
DTSTART;TZID=America/New_York:20251206T110000
DTEND;TZID=America/New_York:20251206T130000
DTSTAMP:20260425T065257
CREATED:20250305T194329Z
LAST-MODIFIED:20251015T141839Z
UID:10001959-1765018800-1765026000@diosohio.org
SUMMARY:Diaconal ordination
DESCRIPTION:By the Grace of God and with the consent of the People\,\nThe Rt. Rev. Kristin Uffelman White\nTenth Bishop of Southern Ohio \nwill ordain \nMaryJane Plote\nThomas J. Tompkins \nto the Sacred Order of Deacons\nin Christ’s One\, Holy\, Catholic\, and Apostolic Church \non \nSaturday\, December 6th\, 2025\nat 11:00 am \nCommemorating the Feast of St. Nicholas \nChrist Church Cathedral\n318 E. 4th Street\, Cincinnati\, OH 45202 \ncincinnaticathedral.com \nYour prayers and presence are requested. \nA livestream will be available and shared to\nthe Diocese of Southern Ohio Facebook Page. \nA reception will follow the service.\nClergy are invited to vest and process in choir dress with white stoles.
URL:https://diosohio.org/event/diaconal-ordination/
LOCATION:Christ Church Cathedral Cincinnati\, 318 E 4th St\, Cincinnati\, OH\, 45202-4202\, US
CATEGORIES:Diocese,Ordination Process
ATTACH;FMTTYPE=image/png:https://diosohio.org/wp-content/uploads/2023/03/default-featured-image.png
END:VEVENT
BEGIN:VEVENT
DTSTART;VALUE=DATE:20251207
DTEND;VALUE=DATE:20251208
DTSTAMP:20260425T065257
CREATED:20241011T162922Z
LAST-MODIFIED:20241011T162922Z
UID:10001706-1765065600-1765151999@diosohio.org
SUMMARY:Episcopal visitation: Advent\, Cincinnati
DESCRIPTION:Bishop White visitation to Church of the Advent\, Cincinnati (Walnut Hills)
URL:https://diosohio.org/event/episcopal-visitation-advent-cincinnati/
LOCATION:Church of The Advent Cincinnati\, 2366 Kemper Ln\, Cincinnati\, OH\, 45206-2611\, US
CATEGORIES:Bishop
ATTACH;FMTTYPE=image/png:https://diosohio.org/wp-content/uploads/2023/03/default-featured-image.png
END:VEVENT
BEGIN:VEVENT
DTSTART;TZID=America/New_York:20251211T130000
DTEND;TZID=America/New_York:20251211T143000
DTSTAMP:20260425T065257
CREATED:20250114T153716Z
LAST-MODIFIED:20250114T153716Z
UID:10001872-1765458000-1765463400@diosohio.org
SUMMARY:Standing Committee
DESCRIPTION:The Standing Committee meets on the second Thursday of each month at 1 p.m.
URL:https://diosohio.org/event/standing-committee-2/2025-12-11/
CATEGORIES:Meeting
ATTACH;FMTTYPE=image/png:https://diosohio.org/wp-content/uploads/2023/03/default-featured-image.png
END:VEVENT
BEGIN:VEVENT
DTSTART;VALUE=DATE:20251212
DTEND;VALUE=DATE:20251214
DTSTAMP:20260425T065257
CREATED:20250416T144457Z
LAST-MODIFIED:20250416T144457Z
UID:10002024-1765497600-1765670399@diosohio.org
SUMMARY:Governing Bodies retreat
DESCRIPTION:More information TBA.
URL:https://diosohio.org/event/governing-bodies-retreat/
LOCATION:Procter Center\, 11235 St. Rt. 38 SE\, London\, OH\, 43140\, United States
CATEGORIES:Meeting
ATTACH;FMTTYPE=image/png:https://diosohio.org/wp-content/uploads/2023/03/default-featured-image.png
END:VEVENT
BEGIN:VEVENT
DTSTART;TZID=America/New_York:20251212T130000
DTEND;TZID=America/New_York:20251212T150000
DTSTAMP:20260425T065257
CREATED:20241218T182132Z
LAST-MODIFIED:20241218T182132Z
UID:10001820-1765544400-1765551600@diosohio.org
SUMMARY:Church Foundation Trustees
DESCRIPTION:Meetings are held via Zoom.
URL:https://diosohio.org/event/church-foundation-trustees-2/2025-12-12/
CATEGORIES:Meeting
ATTACH;FMTTYPE=image/png:https://diosohio.org/wp-content/uploads/2023/03/default-featured-image.png
END:VEVENT
BEGIN:VEVENT
DTSTART;TZID=America/New_York:20251213T100000
DTEND;TZID=America/New_York:20251213T130000
DTSTAMP:20260425T065257
CREATED:20241218T183548Z
LAST-MODIFIED:20241218T183548Z
UID:10001826-1765620000-1765630800@diosohio.org
SUMMARY:Diocesan Council
DESCRIPTION:Meeting in-person\, with lunch\, at Procter Center.
URL:https://diosohio.org/event/diocesan-council-6/2025-12-13/
LOCATION:Procter Center\, 11235 St. Rt. 38 SE\, London\, OH\, 43140\, United States
CATEGORIES:Meeting
ATTACH;FMTTYPE=image/png:https://diosohio.org/wp-content/uploads/2023/03/default-featured-image.png
END:VEVENT
BEGIN:VEVENT
DTSTART;TZID=America/New_York:20251218T100000
DTEND;TZID=America/New_York:20251218T120000
DTSTAMP:20260425T065257
CREATED:20241218T181802Z
LAST-MODIFIED:20250311T171342Z
UID:10001816-1766052000-1766059200@diosohio.org
SUMMARY:Trustees of the Diocese
DESCRIPTION:Meetings are held at Diocesan House (412 Sycamore) Zoom is available. Morning Prayer is offered at 9:30 AM.
URL:https://diosohio.org/event/trustees-of-the-diocese-2/2025-12-18/
LOCATION:Diocesan House\, 412 Sycamore Street\, Cincinnati\, Ohio\, 45202
CATEGORIES:Meeting
ATTACH;FMTTYPE=image/png:https://diosohio.org/wp-content/uploads/2023/03/default-featured-image.png
END:VEVENT
END:VCALENDAR