BEGIN:VCALENDAR
VERSION:2.0
PRODID:-//Diocese of Southern Ohio - ECPv6.15.20//NONSGML v1.0//EN
CALSCALE:GREGORIAN
METHOD:PUBLISH
X-WR-CALNAME:Diocese of Southern Ohio
X-ORIGINAL-URL:https://diosohio.org
X-WR-CALDESC:Events for Diocese of Southern Ohio
REFRESH-INTERVAL;VALUE=DURATION:PT1H
X-Robots-Tag:noindex
X-PUBLISHED-TTL:PT1H
BEGIN:VTIMEZONE
TZID:America/New_York
BEGIN:DAYLIGHT
TZOFFSETFROM:-0500
TZOFFSETTO:-0400
TZNAME:EDT
DTSTART:20250309T070000
END:DAYLIGHT
BEGIN:STANDARD
TZOFFSETFROM:-0400
TZOFFSETTO:-0500
TZNAME:EST
DTSTART:20251102T060000
END:STANDARD
BEGIN:DAYLIGHT
TZOFFSETFROM:-0500
TZOFFSETTO:-0400
TZNAME:EDT
DTSTART:20260308T070000
END:DAYLIGHT
BEGIN:STANDARD
TZOFFSETFROM:-0400
TZOFFSETTO:-0500
TZNAME:EST
DTSTART:20261101T060000
END:STANDARD
BEGIN:DAYLIGHT
TZOFFSETFROM:-0500
TZOFFSETTO:-0400
TZNAME:EDT
DTSTART:20270314T070000
END:DAYLIGHT
BEGIN:STANDARD
TZOFFSETFROM:-0400
TZOFFSETTO:-0500
TZNAME:EST
DTSTART:20271107T060000
END:STANDARD
END:VTIMEZONE
BEGIN:VEVENT
DTSTART;VALUE=DATE:20260104
DTEND;VALUE=DATE:20260105
DTSTAMP:20260424T190857
CREATED:20251007T184441Z
LAST-MODIFIED:20251010T182637Z
UID:10002587-1767484800-1767571199@diosohio.org
SUMMARY:Bishop White visitation: St. Luke's\, Marietta
DESCRIPTION:Bishop White episcopal visitation to St. Luke’s\, Marietta
URL:https://diosohio.org/event/episcopal-visitation-st-lukes-marietta-2/
LOCATION:St Luke’s Marietta\, 320 2nd St\, Marietta\, OH\, 45750-2919\, US
CATEGORIES:Bishop
ATTACH;FMTTYPE=image/png:https://diosohio.org/wp-content/uploads/2023/03/default-featured-image.png
END:VEVENT
BEGIN:VEVENT
DTSTART;VALUE=DATE:20260115
DTEND;VALUE=DATE:20260117
DTSTAMP:20260424T190857
CREATED:20251217T154941Z
LAST-MODIFIED:20251217T155019Z
UID:10002701-1768435200-1768607999@diosohio.org
SUMMARY:Diocesan staff retreat
DESCRIPTION:Diocesan all staff retreat – Diocesan office closed.
URL:https://diosohio.org/event/staff-retreat/
CATEGORIES:Diocese
ATTACH;FMTTYPE=image/png:https://diosohio.org/wp-content/uploads/2023/03/default-featured-image.png
END:VEVENT
BEGIN:VEVENT
DTSTART;TZID=America/New_York:20260115T173000
DTEND;TZID=America/New_York:20260115T210000
DTSTAMP:20260424T190857
CREATED:20260106T205838Z
LAST-MODIFIED:20260106T210355Z
UID:10002727-1768498200-1768510800@diosohio.org
SUMMARY:Reconciling Religion\, Race\, and Really Queer People – Public Forum
DESCRIPTION:LOVEboldly\, a nonprofit dedicated to creating spaces where LGBTQIA+ people can flourish in faith communities\, will host an open forum event titled Reconciling Religion\, Race\, and Really Queer People from 5:30 to 9 pm on January 15th\, 2026 in Clifton at 103 William Howard Taft Rd\, Cincinnati\, OH 45219-2180 (The Geier Room at Mt. Auburn Presbyterian Church). \nThe forum will feature a diverse panel of leaders and thinkers addressing some of today’s most pressing issues: the intersections of religion\, race\, and LGBTQIA+ identities in America. Panelists will explore how faith communities can move beyond division and toward healing\, inclusion\, and justice. \n“Across the U.S.\, Christian nationalism\, racial inequities\, and hostility toward LGBTQIA+ people are tearing communities apart\,” said Rev. Dr. Ben Huelskamp\, Executive Director of LOVEboldly. “This forum creates a space where those conversations can be honest\, hopeful\, and healing.” \nPanelists \nSiobhan Boyd-Nelson (she/her) is a Columbus-based attorney\, nonprofit leader\, and advocate with more than two decades of service to Ohio’s LGBTQ+ community. A graduate of Howard University and The Ohio State University Moritz College of Law\, she has held senior leadership roles at Kaleidoscope Youth Center\, Stonewall Columbus\, and Equality Ohio\, including Interim Executive Director. Siobhan currently serves as board president of Black\, OUT & Proud and board chair of LOVEBoldly. \nPastor Terry T. Hocker (he/they) is a black\, trans\, Cincinnati-based minister and community organizer with 16+ years of experience serving marginalized communities. Known for their inclusive\, justice-centered faith\, Terry leads outreach work focused on dignity\, healing\, and radical love in action. \nJenny Jackson (she/her) is a fully affirming\, certified Spiritual Director and Associate Director of Roots & Branches in Cincinnati. She has over 15 years of experience counseling families and couples as an occupational therapist\, spiritual guide and Enneagram consultant. Jenny is the mother of 5 bi-racial children\, one of which identifies as queer. \nTyler Chernesky (he/him) is a storyteller\, writer and community organizer who serves as Program Director at Cincinnati-based nonprofit\, Community Happens Here. He holds a Master of Divinity degree\, served as a pastor at two churches and spent years as a gay man working at the intersection of spirituality and sexuality.
URL:https://diosohio.org/event/reconciling-religion-race-and-really-queer-people-public-forum/
LOCATION:Mt Auburn Presbyterian Church\, 103 William Howard Taft Rd\, Cincinnati\, 45219\, United States
CATEGORIES:Community,LGBTQ+ Ministry
ATTACH;FMTTYPE=image/png:https://diosohio.org/wp-content/uploads/2026/01/LOVEboldly.png
END:VEVENT
BEGIN:VEVENT
DTSTART;TZID=America/New_York:20260118T113000
DTEND;TZID=America/New_York:20260118T130000
DTSTAMP:20260424T190857
CREATED:20251208T215123Z
LAST-MODIFIED:20251208T215123Z
UID:10002674-1768735800-1768741200@diosohio.org
SUMMARY:LGBTQ+ presentation\, panel discussion\, and brunch
DESCRIPTION:Please join the Love in Action LGBTQ+ committee of All Saints Episcopal Church for a special LGBTQ+ presentation\, panel discussion and brunch!  Together\, we’ll explore stories of faith\, identity and belonging as we learn from LGBTQ+ voices within our community. \nCome enjoy thoughtful conversation\, meaningful connection\, and a warm\, affirming space where all are embraced and valued.  Whether you’re a longtime member\, a visitor\, or simply curious\, we’d love to have you with us as we celebrate God’s love in all its diversity.
URL:https://diosohio.org/event/lgbtq-presentation-panel-discussion-and-brunch/
LOCATION:All Saints New Albany\, 5101 Johnstown Road\, New Albany\, OH\, 43054-0421\, US
CATEGORIES:Community,LGBTQ+ Ministry
ATTACH;FMTTYPE=image/png:https://diosohio.org/wp-content/uploads/2025/07/TEC_Pride_Shield-e1765230650420.png
END:VEVENT
BEGIN:VEVENT
DTSTART;TZID=America/New_York:20260121T180000
DTEND;TZID=America/New_York:20260121T203000
DTSTAMP:20260424T190857
CREATED:20251202T212205Z
LAST-MODIFIED:20251215T213620Z
UID:10002661-1769018400-1769027400@diosohio.org
SUMMARY:Celebration of New Ministry at St. Philip\, Columbus
DESCRIPTION:The Rt. Rev. Kristin Uffelman White\, Tenth Bishop of the Episcopal Diocese of Southern Ohio\, and the people of St. Philip Episcopal Church in Columbus\, Ohio\, cordially invite the wider diocese to join us for a celebration of new ministry and the installation of our new rector\, the Rev. Christopher Richardson on Wednesday\, January 21\, 2026 at 6:00 pm. \nA celebratory reception will follow the service. Clergy are invited to vest and process (red stoles).
URL:https://diosohio.org/event/celebration-of-new-ministry/
LOCATION:St Philip Columbus\, 166 Woodland Ave\, Columbus\, OH\, 43203-1774
CATEGORIES:Diocese
ATTACH;FMTTYPE=image/png:https://diosohio.org/wp-content/uploads/2025/12/cnm-richardson.png
END:VEVENT
BEGIN:VEVENT
DTSTART;VALUE=DATE:20260123
DTEND;VALUE=DATE:20260125
DTSTAMP:20260424T190857
CREATED:20251217T160008Z
LAST-MODIFIED:20251217T161224Z
UID:10002705-1769126400-1769299199@diosohio.org
SUMMARY:Commission on Ministry
DESCRIPTION:Commission on Ministry meets at Procter Center. Interviews for internship placements.
URL:https://diosohio.org/event/commission-on-ministry-jan-2026/
LOCATION:Procter Center\, 11235 St. Rt. 38 SE\, London\, OH\, 43140\, United States
CATEGORIES:Meeting,Ordination Process
ATTACH;FMTTYPE=image/png:https://diosohio.org/wp-content/uploads/2023/03/default-featured-image.png
END:VEVENT
BEGIN:VEVENT
DTSTART;TZID=America/New_York:20260131T150000
DTEND;TZID=America/New_York:20260131T170000
DTSTAMP:20260424T190857
CREATED:20260105T191102Z
LAST-MODIFIED:20260105T191508Z
UID:10002721-1769871600-1769878800@diosohio.org
SUMMARY:Pop-Up Candlemas Celebration: Tamale Making
DESCRIPTION:All are invited to come and celebrate Candlemas\, the Feast of the Presentation of Jesus at the Temple\, through a series of multi-cultural events at Procter Center. \nOn Saturday\, January 31\, Xandra Sharpe (chef and kitchen manager at Procter) and the Rev. Gerardo Romo Garcia (missioner for Latino ministries) will lead a free tamale making workshop from 3-5 pm. \nThen on Monday\, February 2 (the Feast of Candlemas!) spend an evening at Procter\, enjoying an international Candlemas Dinner at 6 pm. For $10\, we’ll feast together on tamales from Mexico\, crepes from France\, and more! We’ll also have the opportunity to share together some Candlemas craft activities. \nAfter dinner\, join us for SING! Candlelit Holden Evening Prayer\, Blessing of the Candles\, and a Winter Hymn Sing led by Nathan Greer (co-executive director at Procter Center) and Stephen Sollars (organist at St. John’s\, Worthington). There’s no-cost to join our service and hymn sing! Overnight accommodations are available for the evening of Feb. 2 for an additional cost. \nAll are welcome; minors must be accompanied by an adult. Registration deadline is Jan. 28. \nREGISTER HERE \nQuestions about this event?\nContact Jerusalem Greer\, co-executive director of Procter Center at jgreer@proctercenter.org.
URL:https://diosohio.org/event/pop-up-candlemas-celebration-tamale-making/
LOCATION:Procter Center\, 11235 St. Rt. 38 SE\, London\, OH\, 43140\, United States
CATEGORIES:Diocese,Procter Center
ATTACH;FMTTYPE=image/png:https://diosohio.org/wp-content/uploads/2026/01/candlemas-2026.png
END:VEVENT
END:VCALENDAR