BEGIN:VCALENDAR
VERSION:2.0
PRODID:-//Diocese of Southern Ohio - ECPv6.15.20//NONSGML v1.0//EN
CALSCALE:GREGORIAN
METHOD:PUBLISH
X-WR-CALNAME:Diocese of Southern Ohio
X-ORIGINAL-URL:https://diosohio.org
X-WR-CALDESC:Events for Diocese of Southern Ohio
REFRESH-INTERVAL;VALUE=DURATION:PT1H
X-Robots-Tag:noindex
X-PUBLISHED-TTL:PT1H
BEGIN:VTIMEZONE
TZID:America/New_York
BEGIN:DAYLIGHT
TZOFFSETFROM:-0500
TZOFFSETTO:-0400
TZNAME:EDT
DTSTART:20250309T070000
END:DAYLIGHT
BEGIN:STANDARD
TZOFFSETFROM:-0400
TZOFFSETTO:-0500
TZNAME:EST
DTSTART:20251102T060000
END:STANDARD
BEGIN:DAYLIGHT
TZOFFSETFROM:-0500
TZOFFSETTO:-0400
TZNAME:EDT
DTSTART:20260308T070000
END:DAYLIGHT
BEGIN:STANDARD
TZOFFSETFROM:-0400
TZOFFSETTO:-0500
TZNAME:EST
DTSTART:20261101T060000
END:STANDARD
BEGIN:DAYLIGHT
TZOFFSETFROM:-0500
TZOFFSETTO:-0400
TZNAME:EDT
DTSTART:20270314T070000
END:DAYLIGHT
BEGIN:STANDARD
TZOFFSETFROM:-0400
TZOFFSETTO:-0500
TZNAME:EST
DTSTART:20271107T060000
END:STANDARD
END:VTIMEZONE
BEGIN:VEVENT
DTSTART;VALUE=DATE:20260301
DTEND;VALUE=DATE:20260302
DTSTAMP:20260424T115256
CREATED:20260109T165506Z
LAST-MODIFIED:20260109T165952Z
UID:10002736-1772323200-1772409599@diosohio.org
SUMMARY:ECM Cycle 1 grant deadline
DESCRIPTION:The 2026 ECM winter grant application cycle is February 1 through March 1. More information here.
URL:https://diosohio.org/event/ecm-cycle-1-grant-deadline-2026/
CATEGORIES:Deadline
ATTACH;FMTTYPE=image/png:https://diosohio.org/wp-content/uploads/2023/03/default-featured-image.png
END:VEVENT
BEGIN:VEVENT
DTSTART;VALUE=DATE:20260306
DTEND;VALUE=DATE:20260309
DTSTAMP:20260424T115256
CREATED:20251020T194135Z
LAST-MODIFIED:20251020T194135Z
UID:10002634-1772755200-1773014399@diosohio.org
SUMMARY:Deacons' School
DESCRIPTION:Deacons’ School meets at Procter Center.
URL:https://diosohio.org/event/deacons-school-mar-2026/
LOCATION:Procter Center\, 11235 St. Rt. 38 SE\, London\, OH\, 43140\, United States
CATEGORIES:Diocese,Ordination Process
ATTACH;FMTTYPE=image/png:https://diosohio.org/wp-content/uploads/2023/03/default-featured-image.png
END:VEVENT
BEGIN:VEVENT
DTSTART;TZID=America/New_York:20260306T100000
DTEND;TZID=America/New_York:20260306T150000
DTSTAMP:20260424T115256
CREATED:20260113T200719Z
LAST-MODIFIED:20260302T162123Z
UID:10002744-1772791200-1772809200@diosohio.org
SUMMARY:Southwest Regional Staff Work Day
DESCRIPTION:In 2025\, we took important steps in reinvigorating connections across churches at the regional level in the Diocese of Southern Ohio. We experimented with Regional Staff Work Days\, in which diocesan staff traveled together to sites around the diocese\, increasing access to in-person meetings and fellowship with local leaders. At the same time\, a task force met and gathered with lay and clergy leaders for conversation and input about the ways we gather across geography\, a process that resulted in the creation of four new regions. \nAs a continuation of that investment in accessibility and connection\, the diocesan staff will once again hit the road in 2026\, offering opportunities to meet\, learn\, celebrate\, and connect beyond the walls of your own church. \nIn each region of the diocese\, the diocesan staff will be present for Staff Work Days\, offering the opportunity for drop-in fellowship and appointments with local leaders\, reducing barriers for face-to-face connection. \nSouthwest Region: Friday\, March 6 \n10-11 am – Drop-in Fellowship Hour with light snacks and coffee.\n11-3 pm – Staff available for pre-made appointments. \nNo RSVP required to join the Regional Staff Days\, but please make an appointment if wanting to meet with staff. \nSchedule with staff member \nPlease note: The Leadership Day originally scheduled for Saturday\, March 7 has been cancelled.
URL:https://diosohio.org/event/southwest-regional-staff-work-day/
LOCATION:Church of The Advent Cincinnati\, 2366 Kemper Ln\, Cincinnati\, OH\, 45206-2611\, US
CATEGORIES:Diocese
ATTACH;FMTTYPE=image/png:https://diosohio.org/wp-content/uploads/2023/03/default-featured-image.png
END:VEVENT
BEGIN:VEVENT
DTSTART;VALUE=DATE:20260308
DTEND;VALUE=DATE:20260309
DTSTAMP:20260424T115256
CREATED:20251007T200447Z
LAST-MODIFIED:20251010T182838Z
UID:10002592-1772928000-1773014399@diosohio.org
SUMMARY:Bishop White visitation: All Saints\, Portsmouth
DESCRIPTION:Bishop White episcopal visitation to All Saints\, Portsmouth
URL:https://diosohio.org/event/episcopal-visitation-all-saints-portsmouth/
LOCATION:All Saints Portsmouth\, 610 4th St\, Portsmouth\, OH\, 45662-3921\, US
CATEGORIES:Bishop
ATTACH;FMTTYPE=image/png:https://diosohio.org/wp-content/uploads/2023/03/default-featured-image.png
END:VEVENT
BEGIN:VEVENT
DTSTART;TZID=America/New_York:20260310T180000
DTEND;TZID=America/New_York:20260310T200000
DTSTAMP:20260424T115256
CREATED:20260107T190101Z
LAST-MODIFIED:20260128T220351Z
UID:10002731-1773165600-1773172800@diosohio.org
SUMMARY:Feast Day of Harriet Tubman: Holy Eucharist & Teach-In
DESCRIPTION:March 10 is the anniversary of the death of freedom fighter Harriet Ross Tubman. The Episcopal Church has recognized Harriet Tubman with a feast on March 10 to coincide with other national celebrations of her legacy of faith\, freedom and liberation. \nAll are invited to come and celebrate an inaugural Eucharist at St. Andrew’s\, Evanston\, to commemorate this year’s Feast Day; the Rt. Rev. Kristin Uffelman White\, bishop of Southern Ohio\, presiding and the Rev. Julia Joyce-Miesse\, rector serving St. Luke’s\, Granville\, preaching. \nThe Eucharist will include congregational singing of spirituals and freedom songs and a teach-in sermon about the life and witness of Harriet Tubman. A light reception will follow the Eucharist. \nJoin us! No RSVPs required. \n5:30 pm Gospel Hymnsing led by Jason Holmes\n6 pm Service \nQuestions about this event? \nContact the Rev. Aaron Rogers\, missioner for Black ministries\, at arogers@diosohio.org.
URL:https://diosohio.org/event/feast-day-of-harriet-tubman/
LOCATION:St Andrew’s Cincinnati\, 1809 Rutland Ave\, Cincinnati\, OH\, 45207-1219\, US
CATEGORIES:Diocese
ATTACH;FMTTYPE=image/png:https://diosohio.org/wp-content/uploads/2026/01/tubman-2026.png
END:VEVENT
BEGIN:VEVENT
DTSTART;TZID=America/New_York:20260311T100000
DTEND;TZID=America/New_York:20260311T110000
DTSTAMP:20260424T115256
CREATED:20260130T202138Z
LAST-MODIFIED:20260130T202138Z
UID:10002839-1773223200-1773226800@diosohio.org
SUMMARY:Parish Administrators Network
DESCRIPTION:A monthly Zoom call to bring together those who are tasked with the administration of a church\, both paid and volunteer. The group meets monthly to share information and best practices\, and to be a source of collegiality and support to those who often work alone. \nRegister in advance for this meeting:\nhttps://us02web.zoom.us/meeting/register/8fSZiO3kRBKvVUforHjgrQ \nAfter registering\, you will receive a confirmation email from Zoom containing information about joining the meeting. \nIf you have questions about this gathering\, please contact Julie Murray\, canon for community engagement\, at jmurray@diosohio.org.
URL:https://diosohio.org/event/parish-administrators-network/2026-03-11/
CATEGORIES:Meeting
ATTACH;FMTTYPE=image/png:https://diosohio.org/wp-content/uploads/2023/03/default-featured-image.png
END:VEVENT
BEGIN:VEVENT
DTSTART;TZID=America/New_York:20260312T100000
DTEND;TZID=America/New_York:20260312T120000
DTSTAMP:20260424T115256
CREATED:20260129T162955Z
LAST-MODIFIED:20260129T162955Z
UID:10002768-1773309600-1773316800@diosohio.org
SUMMARY:Trustees of the Diocese
DESCRIPTION:Meetings are held at Diocesan House (412 Sycamore) Zoom is available. Morning Prayer is offered at 9:30 AM.
URL:https://diosohio.org/event/trustees-of-the-diocese-3/2026-03-12/
LOCATION:Diocesan House\, 412 Sycamore Street\, Cincinnati\, Ohio\, 45202
CATEGORIES:Meeting
ATTACH;FMTTYPE=image/png:https://diosohio.org/wp-content/uploads/2023/03/default-featured-image.png
END:VEVENT
BEGIN:VEVENT
DTSTART;TZID=America/New_York:20260312T180000
DTEND;TZID=America/New_York:20260312T193000
DTSTAMP:20260424T115256
CREATED:20260206T175910Z
LAST-MODIFIED:20260206T175910Z
UID:10002852-1773338400-1773343800@diosohio.org
SUMMARY:Columbus-area LGBTQ+ Affinity Group gathering: Game Night
DESCRIPTION:You’re invited for a relaxed evening of board games and fellowship. Please feel free to bring your favorite board game and a snack or beverage (non-alcoholic) to share. \nLocation: meeting room of the Columbus Metropolitan Library—Franklinton Branch (1061 W. Town St\, Columbus OH 43222)
URL:https://diosohio.org/event/columbus-area-lgbtq-affinity-group-gathering-mar-2026/
LOCATION:Columbus Metropolitan Library—Franklinton Branch\, 1061 W Town St\, Columbus\, 43222\, United States
CATEGORIES:LGBTQ+ Ministry
ATTACH;FMTTYPE=image/png:https://diosohio.org/wp-content/uploads/2025/04/DSO_Pride_SHIELD_thumbnail.png
ORGANIZER;CN="Columbus-area LGBTQ+ Affinity Group":MAILTO:lgbtq-columbus@diosohio.org
END:VEVENT
BEGIN:VEVENT
DTSTART;TZID=America/New_York:20260313T173000
DTEND;TZID=America/New_York:20260315T120000
DTSTAMP:20260424T115256
CREATED:20251217T152649Z
LAST-MODIFIED:20260123T154913Z
UID:10002686-1773423000-1773576000@diosohio.org
SUMMARY:Deacons Retreat
DESCRIPTION:The deacons of the Diocese of Southern Ohio are invited for our inaugural retreat with Bishop White. Intended as a time of learning\, refreshment\, and renewal\, our weekend will offer space for conversation and rest\, strengthening connections among those called to the diaconate across the diocese. \nBishop White will join us on Saturday\, offering time for shared worship and encouragement as the community looks ahead together. \nMarch 13-15\, 2026\nArrive by 5:30 on Friday\nDinner to follow.\nDepart by noon on Sunday \nOpen to all deacons canonically resident or licensed to serve in the Diocese of Southern Ohio. Deadline to register March 1. No Cost. Register here. \nQuestions about this event?\nContact the Rev. Anne Reed\, convener of the Deacon Council\, at dcnareed@gmail.com.
URL:https://diosohio.org/event/deacons-retreat/
LOCATION:Procter Center\, 11235 St. Rt. 38 SE\, London\, OH\, 43140\, United States
CATEGORIES:Clergy,Diocese
ATTACH;FMTTYPE=image/png:https://diosohio.org/wp-content/uploads/2023/03/default-featured-image.png
END:VEVENT
BEGIN:VEVENT
DTSTART;TZID=America/New_York:20260314T100000
DTEND;TZID=America/New_York:20260314T130000
DTSTAMP:20260424T115256
CREATED:20250717T151149Z
LAST-MODIFIED:20250717T151149Z
UID:10002076-1773482400-1773493200@diosohio.org
SUMMARY:Diocesan Council
DESCRIPTION:
URL:https://diosohio.org/event/diocesan-council-7/2026-03-14/
LOCATION:Procter Center\, 11235 St. Rt. 38 SE\, London\, OH\, 43140\, United States
CATEGORIES:Meeting
ATTACH;FMTTYPE=image/png:https://diosohio.org/wp-content/uploads/2023/03/default-featured-image.png
END:VEVENT
BEGIN:VEVENT
DTSTART;TZID=America/New_York:20260314T100000
DTEND;TZID=America/New_York:20260314T140000
DTSTAMP:20260424T115256
CREATED:20260226T161616Z
LAST-MODIFIED:20260226T161616Z
UID:10002874-1773482400-1773496800@diosohio.org
SUMMARY:Freecycle Open House
DESCRIPTION:Parish leaders are invited to a diocesanwide Freecycle event at the former Iglesia Episcopal Espíritu Santo (IEES) building on Saturday\, March 14th from 10-2 pm. \nWhen a church closes\, where does all of the stuff end up? While much of the liturgical items from recently closed properties are (or will be) also available on our Diocesan Freecycle page\, at this particular site\, there are many large and non-liturgical items that also available at no cost to our diocesan congregations. On March 14\, many items will be available for pick-up\, including assorted furniture\, nursery furniture\, tables and chairs\, shelving\, office equipment\, and much more. \nBring a truck and help put these items\, lovingly given to the church\, back into active ministry! \nQuestions about this event and program?\nPlease contact the Rev. Derrick Fetz\, missioner for stewardship\, at dfetz@diosohio.org.
URL:https://diosohio.org/event/freecycle-open-house/
LOCATION:Iglesia Episcopal del Espiritu Santo\, 11381 Hanover Rd\, Cincinnati\, OH\, 45240\, United States
CATEGORIES:Diocese
ATTACH;FMTTYPE=image/png:https://diosohio.org/wp-content/uploads/2026/02/freecycle-2026.png
END:VEVENT
BEGIN:VEVENT
DTSTART;TZID=America/New_York:20260321T100000
DTEND;TZID=America/New_York:20260321T120000
DTSTAMP:20260424T115256
CREATED:20260319T201743Z
LAST-MODIFIED:20260421T160325Z
UID:10002895-1774087200-1774094400@diosohio.org
SUMMARY:Historically Black Churches Quarterly Prayer Breakfast
DESCRIPTION:The four historically Black congregations of the diocese will gather for their first quarterly prayer breakfast on Saturday\, March 21 at 10 am at St. Simon of Cyrene\, Lincoln Heights. \nThe quarterly gatherings will be an opportunity for our historically Black congregations to fellowship together and share information with each other. \nQuestions about this event? \nContact the Rev. Canon Aaron Rogers\, canon for ministry\, at arogers@diosohio.org.
URL:https://diosohio.org/event/historically-black-churches-quarterly-prayer-breakfast/
LOCATION:St Simon of Cyrene Cincinnati\, 810 Matthews Dr\, Cincinnati\, OH\, 45215-1837
CATEGORIES:Black Ministries
ATTACH;FMTTYPE=image/png:https://diosohio.org/wp-content/uploads/2023/03/default-featured-image.png
END:VEVENT
BEGIN:VEVENT
DTSTART;TZID=America/New_York:20260325T170000
DTEND;TZID=America/New_York:20260325T190000
DTSTAMP:20260424T115256
CREATED:20260319T210630Z
LAST-MODIFIED:20260319T210747Z
UID:10002898-1774458000-1774465200@diosohio.org
SUMMARY:Cincinnati-area LGBTQ+ Affinity Group gathering
DESCRIPTION:Queer community isn’t just for June! Meet other LGBTQ+ folks and allies from Episcopal churches around the area on the last Wednesday of every month in a relaxed\, casual setting at Queen City Exchange. Appetizers are provided\, and alcoholic and non-alcoholic drinks are available.
URL:https://diosohio.org/event/cincinnati-area-lgbtq-affinity-group-gathering/2026-03-25/
LOCATION:Queen City Exchange\, 32 W Court Street\, Cincinnati\, OH\, 45202\, United States
CATEGORIES:LGBTQ+ Ministry
ATTACH;FMTTYPE=image/png:https://diosohio.org/wp-content/uploads/2025/06/mothly-gathering-graphic-e1773954350271.png
ORGANIZER;CN="LGBTQ+ Alliance":MAILTO:lgbtq@diosohio.org
END:VEVENT
BEGIN:VEVENT
DTSTART;VALUE=DATE:20260327
DTEND;VALUE=DATE:20260329
DTSTAMP:20260424T115256
CREATED:20250402T150253Z
LAST-MODIFIED:20260313T165744Z
UID:10002001-1774569600-1774742399@diosohio.org
SUMMARY:LGBTQ+ Summit/Retreat
DESCRIPTION:In a world that often expects our silence or our sorrow\, LGBTQ+ Episcopalians and their allies are invited to gather for our second annual diocesan LGBTQ+ retreat\, a weekend of Defiant Queer Joy. \nExploring our theme\, Unbounded and Radiant: Defiant Joy for the Queer Follower of Christ\, we will examine and reclaim a truth as old as the empty tomb: that our very existence is a living testimony to the Paschal Mystery. This retreat offers a celebration of the unique ways the LGBTQ+ community mirrors the movement from the shadows of the cross to the brilliance of new life. \nThe Rev. Julia Joyce-Miesse\, rector serving St. Luke’s\, Granville\, will serve as our chaplain for the weekend with music led by Anny Stevens-Gleason\, minister for congregational development at Church of the Redeemer\, Hyde Park and member of the diocesan liturgical commission. Our time together will culminate in a celebratory Eucharist\, Bishop Kristin White celebrating. \nTogether\, we’ll create a sacred space for fellowship and teaching\, rest and play\, and further form connection with one another as fertile ground from which a revolutionary hope springs forth. Join us as we embody the truth that our joy is not just a feeling—it is a sacred\, defiant act of faith that invites the whole world into a deeper understanding of God’s transformative love. \nMarch 27-28\, 2026 \nFriday\n4 pm Check-in opens\n6 pm Dinner \nSaturday\n3:30 pm Closing Eucharist with Bishop White\n5 pm Departure \nCost \n$50/person for commuters\n$75/person for a double (shared) room\n$125/person for a single room \nScholarship assistance is available. \nWe hope to include everyone that wants to join us for the LGBTQ+ retreat. If you are able\, we encourage room sharing to maximize our capacity for folks to attend. Registration deadline is March 21\, or until capacity is reached. \nREGISTER HERE \nQuestions about this event?\nContact Canon Julie Murray\, canon for community engagement\, at jmurray@diosohio.org
URL:https://diosohio.org/event/lgbtq-summit-retreat/
LOCATION:Procter Center\, 11235 St. Rt. 38 SE\, London\, OH\, 43140\, United States
CATEGORIES:LGBTQ+ Ministry
ATTACH;FMTTYPE=image/png:https://diosohio.org/wp-content/uploads/2026/02/lgbtq-retreat-2026.png
ORGANIZER;CN="LGBTQ+ Alliance":MAILTO:lgbtq@diosohio.org
END:VEVENT
BEGIN:VEVENT
DTSTART;VALUE=DATE:20260329
DTEND;VALUE=DATE:20260330
DTSTAMP:20260424T115256
CREATED:20251007T200557Z
LAST-MODIFIED:20251010T184128Z
UID:10002593-1774742400-1774828799@diosohio.org
SUMMARY:Bishop White: Palm Sunday
DESCRIPTION:Bishop White visits Christ Church Cathedral for Palm Sunday.
URL:https://diosohio.org/event/bishop-white-palm-sunday/
LOCATION:Christ Church Cathedral Cincinnati\, 318 E 4th St\, Cincinnati\, OH\, 45202-4202\, US
CATEGORIES:Bishop
ATTACH;FMTTYPE=image/png:https://diosohio.org/wp-content/uploads/2023/03/default-featured-image.png
END:VEVENT
BEGIN:VEVENT
DTSTART;TZID=America/New_York:20260330T121500
DTEND;TZID=America/New_York:20260330T130000
DTSTAMP:20260424T115256
CREATED:20260310T143900Z
LAST-MODIFIED:20260310T143900Z
UID:10002883-1774872900-1774875600@diosohio.org
SUMMARY:Holy Monday Service of Prayer & Public Witness
DESCRIPTION:Responding to the Presiding Bishop’s call for public worship on the Monday of Holy Week\, Bishop White invites the Dioceses of Ohio and Southern Ohio to a service of prayer and public witness inside the rotunda at the Ohio Statehouse. \nHoly Week draws Christians into the story of Jesus’ final days—days marked by courage\, confrontation with injustice\, and a steadfast commitment to love in the face of fear and violence. In this moment in our common life\, many feel the weight of division\, hostility\, and rising extremism in public life. As people of faith\, we gather not to deepen those divisions but to bear witness to another way. \nThrough prayer\, song\, and presence in the public square\, we will offer a visible reminder that the Gospel calls Christians to stand for human dignity\, mercy\, and peace. In a time when fear and anger so often dominate the conversation\, this is an opportunity for the church to proclaim that love guides the way. \nBishop White will officiate and Erika Mueller (Trinity\, Capitol Square) will lead us in song. \nMonday\, March 30\,12:15 pm \nThe Ohio Statehouse\nIn the Rotunda \n1 Capitol Sq\,\nColumbus\, OH 43215 \nRSVPs are not required. \nQuestions about this event? \nContact Sarah Beegle\, executive assistant to Bishop White\, at sbeegle@diosohio.org.
URL:https://diosohio.org/event/holy-monday-service-of-prayer-public-witness/
LOCATION:Ohio Statehouse\, 1 Capitol Square\, Columbus\, 43215\, United States
CATEGORIES:Advocacy
ATTACH;FMTTYPE=image/png:https://diosohio.org/wp-content/uploads/2026/03/public-witness-2026.png
END:VEVENT
BEGIN:VEVENT
DTSTART;TZID=America/New_York:20260330T193000
DTEND;TZID=America/New_York:20260330T203000
DTSTAMP:20260424T115256
CREATED:20260324T200036Z
LAST-MODIFIED:20260330T200546Z
UID:10002909-1774899000-1774902600@diosohio.org
SUMMARY:Holy Monday Online Worship
DESCRIPTION:Responding to the Presiding Bishop’s call for public worship on the Monday of Holy Week\, the Rt. Rev. Anne B. Jolly\, Bishop of the Diocese of Ohio\, and the Rt. Rev. Kristin Uffelman White\, Bishop of the Diocese of Southern Ohio\, ask Episcopalians across Ohio to join in two collaborative prayer gatherings. \nAt 12:15 pm\, the bishops will host a Service of Prayer & Public Witness in the rotunda at the Ohio Statehouse. See the full invitation here. \nAt 7:30 pm\, Bishops Jolly and White will host a collaborative online service on Zoom\, giving people across Ohio another opportunity to gather in prayer. With readings and music offered by participants from both dioceses\, we will witness to our conviction that Christians must come together across our unholy divisions. \nEveryone is invited to join one or both of these shared services. \nClick here to join the 7:30 pm Zoom \nQuestions about this event? \nContact Canon Katie Forsyth\, canon for communications\, at kforsyth@diosohio.org.
URL:https://diosohio.org/event/holy-monday-online-worship/
CATEGORIES:Advocacy
ATTACH;FMTTYPE=image/png:https://diosohio.org/wp-content/uploads/2026/03/holy-monday-online-2026.png
END:VEVENT
END:VCALENDAR