BEGIN:VCALENDAR
VERSION:2.0
PRODID:-//Diocese of Southern Ohio - ECPv6.15.20//NONSGML v1.0//EN
CALSCALE:GREGORIAN
METHOD:PUBLISH
X-ORIGINAL-URL:https://diosohio.org
X-WR-CALDESC:Events for Diocese of Southern Ohio
REFRESH-INTERVAL;VALUE=DURATION:PT1H
X-Robots-Tag:noindex
X-PUBLISHED-TTL:PT1H
BEGIN:VTIMEZONE
TZID:America/New_York
BEGIN:DAYLIGHT
TZOFFSETFROM:-0500
TZOFFSETTO:-0400
TZNAME:EDT
DTSTART:20250309T070000
END:DAYLIGHT
BEGIN:STANDARD
TZOFFSETFROM:-0400
TZOFFSETTO:-0500
TZNAME:EST
DTSTART:20251102T060000
END:STANDARD
BEGIN:DAYLIGHT
TZOFFSETFROM:-0500
TZOFFSETTO:-0400
TZNAME:EDT
DTSTART:20260308T070000
END:DAYLIGHT
BEGIN:STANDARD
TZOFFSETFROM:-0400
TZOFFSETTO:-0500
TZNAME:EST
DTSTART:20261101T060000
END:STANDARD
BEGIN:DAYLIGHT
TZOFFSETFROM:-0500
TZOFFSETTO:-0400
TZNAME:EDT
DTSTART:20270314T070000
END:DAYLIGHT
BEGIN:STANDARD
TZOFFSETFROM:-0400
TZOFFSETTO:-0500
TZNAME:EST
DTSTART:20271107T060000
END:STANDARD
END:VTIMEZONE
BEGIN:VEVENT
DTSTART;VALUE=DATE:20260501
DTEND;VALUE=DATE:20260504
DTSTAMP:20260424T115542
CREATED:20251020T194235Z
LAST-MODIFIED:20260319T155227Z
UID:10002635-1777593600-1777852799@diosohio.org
SUMMARY:Deacons' School
DESCRIPTION:Deacons’ School meets at Procter Center.
URL:https://diosohio.org/event/deacons-school-may-2026/
LOCATION:Procter Center\, 11235 St. Rt. 38 SE\, London\, OH\, 43140\, United States
CATEGORIES:Deacons,Diocese,Ordination Process
ATTACH;FMTTYPE=image/png:https://diosohio.org/wp-content/uploads/2023/03/default-featured-image.png
END:VEVENT
BEGIN:VEVENT
DTSTART;TZID=America/New_York:20260501T090000
DTEND;TZID=America/New_York:20260501T120000
DTSTAMP:20260424T115542
CREATED:20260420T151310Z
LAST-MODIFIED:20260420T151310Z
UID:10002913-1777626000-1777636800@diosohio.org
SUMMARY:AI & Prompting: ﻿ ﻿Empowering the Church for Today and Tomorrow
DESCRIPTION:Join leaders across Southern Ohio for a Zoom intensive on AI use and church ministry\, led by church communications professional and AI-leader\, Katie Allred. This Zoom workshop is geared toward clergy and lay leaders as well as communications staff and volunteers. \nThis hands-on training session is designed to help ministry leaders confidently use artificial intelligence in their daily work. The workshop covers the foundations of generative tools and effective prompting techniques—including role-based prompting and iterative refinement—and features a live challenge where attendees apply these skills to real-world tasks. \nThe session also prioritizes ethics and safety\, dedicating time to the specific risks churches face\, such as protecting missionary communications and safeguarding sensitive data like counseling notes and giving records. Participants will leave with a clear framework for responsible AI use that aligns with their mission and values\, centered on the principle: “Automate the Temporary. Invest in the Eternal.” \nFriday\, May 1\n9 am – Noon\nThis online workshop will take place on Zoom. \nInvitees: Ministry leaders\, both lay and ordained\, especially parish clergy\, lay leaders and staff\, and communications staff and volunteers. No cost\, and no deadline to register. \nREGISTER HERE \nQuestions about this event? \nContact Canon Katie Forsyth\, canon for communications\, at kforsyth@diosohio.org. \n\nAbout our Workshop Presenter \nKatie Allred is a consultant\, educator\, and community strategist working at the intersection of AI\, faith\, and digital community. She founded ChurchCommunications.com\, growing it to over 35\,000 members\, and currently leads a consulting practice helping mission-driven organizations implement AI strategy. Katie also serves as Head of Community at Public Democracy and has prior experience at Meta managing faith community and Scaled Creator Partnerships. She teaches at the University of Florida and Middle Tennessee State University and is based in Nolensville\, Tennessee. \n 
URL:https://diosohio.org/event/ai-prompting-empowering-the-church-for-today-and-tomorrow/
CATEGORIES:Webinar
ATTACH;FMTTYPE=image/png:https://diosohio.org/wp-content/uploads/2026/04/ai-2026.png
END:VEVENT
BEGIN:VEVENT
DTSTART;TZID=America/New_York:20260506T180000
DTEND;TZID=America/New_York:20260506T200000
DTSTAMP:20260424T115542
CREATED:20260113T201206Z
LAST-MODIFIED:20260316T135715Z
UID:10002747-1778090400-1778097600@diosohio.org
SUMMARY:Celebration of New Ministry and Installation of the Rev. Michael Tigner at St. James\, Zanesville
DESCRIPTION:The Rt. Rev. Kristin Uffelman White\,\nTenth Bishop of the Episcopal Diocese of Southern Ohio\, \nand the people of \nSt. James Episcopal Church \nin Zanesville\, Ohio\, \ncordially invite our wider diocese to join us for a\ncelebration of new ministry and the installation of our new rector\, \nthe Rev. Michael Tigner \non \nWednesday\, May 6\, 2026\nat 6:00 pm \nCommemorating the Feast of George of Lydda \nA celebratory reception will follow the service.\nClergy are invited to vest and process (choir dress with red stoles). \nSt. James Episcopal Church\n155 N. 6th Street\nZanesville\, OH 43701\nstjameszanesville.org
URL:https://diosohio.org/event/celebration-of-new-ministry-and-installation-of-the-rev-michael-tigner-at-st-james-zanesville/
LOCATION:St James Zanesville\, 155 N 6th St\, Zanesville\, OH\, 43701-3603\, US
CATEGORIES:Clergy,Diocese
ATTACH;FMTTYPE=image/png:https://diosohio.org/wp-content/uploads/2026/03/tigner-install-2026.png
END:VEVENT
BEGIN:VEVENT
DTSTART;TZID=America/New_York:20260507T183000
DTEND;TZID=America/New_York:20260507T193000
DTSTAMP:20260424T115542
CREATED:20260210T183252Z
LAST-MODIFIED:20260423T192923Z
UID:10002855-1778178600-1778182200@diosohio.org
SUMMARY:Wardens Network Zoom call
DESCRIPTION:Join with junior and senior wardens from across the diocese to build community\, share resources\, reflect on Bishop White’s “Year of Jesus” through Bible Study\, and explore leadership skills and best practices. Together\, we’ll deepen relationships and strengthen our shared ministry in a collaborative and supportive space. \nDates \nMay 7\nAugust 13\nOctober 28\n6:30 – 7:30 pm\nThis online workshop will take place on Zoom. Can’t make all three? Join as much as you are able. \nOpen to all junior and senior wardens serving congregations in the Diocese of Southern Ohio. \nREGISTER HERE \nThe focus for our May 7 Zoom gathering is on building healthy leadership teams\, with practical tools and conversation to support your work. If you have topic suggestions for future gatherings\, please email the Rev. Derrick Fetz. \nQuestions about this event? \nContact the Rev. Derrick Fetz\, Missioner for Congregational Vitality\, at dfetz@diosohio.org.
URL:https://diosohio.org/event/warden-zoom-calls/2026-05-07/
CATEGORIES:Diocese
ATTACH;FMTTYPE=image/png:https://diosohio.org/wp-content/uploads/2026/04/wardens-2026.png
END:VEVENT
BEGIN:VEVENT
DTSTART;TZID=America/New_York:20260509T100000
DTEND;TZID=America/New_York:20260509T130000
DTSTAMP:20260424T115542
CREATED:20250717T151149Z
LAST-MODIFIED:20250717T151149Z
UID:10002077-1778320800-1778331600@diosohio.org
SUMMARY:Diocesan Council
DESCRIPTION:
URL:https://diosohio.org/event/diocesan-council-7/2026-05-09/
LOCATION:Procter Center\, 11235 St. Rt. 38 SE\, London\, OH\, 43140\, United States
CATEGORIES:Meeting
ATTACH;FMTTYPE=image/png:https://diosohio.org/wp-content/uploads/2023/03/default-featured-image.png
END:VEVENT
BEGIN:VEVENT
DTSTART;VALUE=DATE:20260510
DTEND;VALUE=DATE:20260511
DTSTAMP:20260424T115542
CREATED:20251010T184550Z
LAST-MODIFIED:20251010T184550Z
UID:10002602-1778371200-1778457599@diosohio.org
SUMMARY:Bishop White visitation: St. George's\, Dayton
DESCRIPTION:Bishop White’s episcopal visitation at St. George’s\, Dayton
URL:https://diosohio.org/event/bishop-white-visitation-st-georges-dayton/
LOCATION:St George’s Dayton\, 5520 Far Hills Ave\, Dayton\, OH\, 45429-2204\, US
CATEGORIES:Bishop
ATTACH;FMTTYPE=image/png:https://diosohio.org/wp-content/uploads/2023/03/default-featured-image.png
END:VEVENT
BEGIN:VEVENT
DTSTART;TZID=America/New_York:20260513T100000
DTEND;TZID=America/New_York:20260513T110000
DTSTAMP:20260424T115542
CREATED:20260130T202138Z
LAST-MODIFIED:20260130T202138Z
UID:10002841-1778666400-1778670000@diosohio.org
SUMMARY:Parish Administrators Network
DESCRIPTION:A monthly Zoom call to bring together those who are tasked with the administration of a church\, both paid and volunteer. The group meets monthly to share information and best practices\, and to be a source of collegiality and support to those who often work alone. \nRegister in advance for this meeting:\nhttps://us02web.zoom.us/meeting/register/8fSZiO3kRBKvVUforHjgrQ \nAfter registering\, you will receive a confirmation email from Zoom containing information about joining the meeting. \nIf you have questions about this gathering\, please contact Julie Murray\, canon for community engagement\, at jmurray@diosohio.org.
URL:https://diosohio.org/event/parish-administrators-network/2026-05-13/
CATEGORIES:Meeting
ATTACH;FMTTYPE=image/png:https://diosohio.org/wp-content/uploads/2023/03/default-featured-image.png
END:VEVENT
BEGIN:VEVENT
DTSTART;TZID=America/New_York:20260514T180000
DTEND;TZID=America/New_York:20260514T193000
DTSTAMP:20260424T115542
CREATED:20260206T180833Z
LAST-MODIFIED:20260206T180833Z
UID:10002854-1778781600-1778787000@diosohio.org
SUMMARY:Columbus-area LGBTQ+ Affinity Group gathering at Slammers
DESCRIPTION:This month we’ll gather at Slammers (bar/pizzeria) to share in conversation and laughter. For the adventuresome\, Thursday Trivia begins at 7pm! \nLocation: Slammers (202 E Long St\, Columbus OH 43215) \nAbout the Venue: Slammers opened in 1993 and is famous for their pizza and fun\, easy-going atmosphere. People of all ages and walks of life enjoy stopping by after work for happy hour specials or spending an evening out with friends.
URL:https://diosohio.org/event/columbus-area-lgbtq-affinity-group-gathering-may-2026/
LOCATION:Slammers\, 202 E Long St\, Columbus\, 43215\, United States
CATEGORIES:LGBTQ+ Ministry
ATTACH;FMTTYPE=image/png:https://diosohio.org/wp-content/uploads/2025/04/DSO_Pride_SHIELD_thumbnail.png
ORGANIZER;CN="Columbus-area LGBTQ+ Affinity Group":MAILTO:lgbtq-columbus@diosohio.org
END:VEVENT
BEGIN:VEVENT
DTSTART;VALUE=DATE:20260520
DTEND;VALUE=DATE:20260521
DTSTAMP:20260424T115542
CREATED:20260109T164641Z
LAST-MODIFIED:20260109T164927Z
UID:10002733-1779264000-1779296400@diosohio.org
SUMMARY:Church Foundation Grant and Loan deadline
DESCRIPTION:Meeting Church Foundation grant and loan deadlines ensures your application will be considered at the next quarterly meeting of the Church Foundation.\n\n2026 submission deadlines \n\nFebruary 20 in preparation for the Church Foundation’s March meeting\nMay 20 in preparation for the Church Foundation’s June meeting\nAugust 20 in preparation for Church Foundation’s September meeting\nNovember 20 in preparation for the Church Foundation’s December meeting\n\nMore information on Church Foundation grants and loans can be found here.
URL:https://diosohio.org/event/church-foundation-grant-and-loan-deadline/2026-05-20/
CATEGORIES:Deadline
ATTACH;FMTTYPE=image/png:https://diosohio.org/wp-content/uploads/2023/03/default-featured-image.png
END:VEVENT
BEGIN:VEVENT
DTSTART;VALUE=DATE:20260524
DTEND;VALUE=DATE:20260525
DTSTAMP:20260424T115542
CREATED:20251010T184920Z
LAST-MODIFIED:20260316T140726Z
UID:10002603-1779580800-1779667199@diosohio.org
SUMMARY:Bishop White: Pentecost
DESCRIPTION:Bishop White visits Christ Church Cathedral for Pentecost.
URL:https://diosohio.org/event/bishop-white-pentecost/
LOCATION:Christ Church Cathedral Cincinnati\, 318 E 4th St\, Cincinnati\, OH\, 45202-4202\, US
CATEGORIES:Bishop
ATTACH;FMTTYPE=image/png:https://diosohio.org/wp-content/uploads/2023/03/default-featured-image.png
END:VEVENT
BEGIN:VEVENT
DTSTART;TZID=America/New_York:20260524T100000
DTEND;TZID=America/New_York:20260524T113000
DTSTAMP:20260424T115542
CREATED:20260320T174324Z
LAST-MODIFIED:20260320T174324Z
UID:10002907-1779616800-1779622200@diosohio.org
SUMMARY:Pentecost Area-wide Confirmation Service
DESCRIPTION:The Diocese of Southern Ohio will hold an area-wide confirmation on Pentecost on May 24\, 2026\, at Christ Church Cathedral (318 East 4th St.\, Cincinnati\, OH 45202) as a part of their regular 10 a.m. liturgy. \nThose being confirmed or received or reaffirmed should plan to arrive at the Cathedral by 9 a.m. for final preparations and time with Bishop White. \nClergy should use this form to register people from your faith community for confirmation\, reception\, or reaffirmation.
URL:https://diosohio.org/event/pentecost-confirmation-service/
LOCATION:Christ Church Cathedral Cincinnati\, 318 E 4th St\, Cincinnati\, OH\, 45202-4202\, US
CATEGORIES:Bishop,Diocese
ATTACH;FMTTYPE=image/png:https://diosohio.org/wp-content/uploads/2023/03/default-featured-image.png
END:VEVENT
BEGIN:VEVENT
DTSTART;TZID=America/New_York:20260527T170000
DTEND;TZID=America/New_York:20260527T190000
DTSTAMP:20260424T115542
CREATED:20260319T210630Z
LAST-MODIFIED:20260319T210747Z
UID:10002900-1779901200-1779908400@diosohio.org
SUMMARY:Cincinnati-area LGBTQ+ Affinity Group gathering
DESCRIPTION:Queer community isn’t just for June! Meet other LGBTQ+ folks and allies from Episcopal churches around the area on the last Wednesday of every month in a relaxed\, casual setting at Queen City Exchange. Appetizers are provided\, and alcoholic and non-alcoholic drinks are available.
URL:https://diosohio.org/event/cincinnati-area-lgbtq-affinity-group-gathering/2026-05-27/
LOCATION:Queen City Exchange\, 32 W Court Street\, Cincinnati\, OH\, 45202\, United States
CATEGORIES:LGBTQ+ Ministry
ATTACH;FMTTYPE=image/png:https://diosohio.org/wp-content/uploads/2025/06/mothly-gathering-graphic-e1773954350271.png
ORGANIZER;CN="LGBTQ+ Alliance":MAILTO:lgbtq@diosohio.org
END:VEVENT
BEGIN:VEVENT
DTSTART;VALUE=DATE:20260529
DTEND;VALUE=DATE:20260601
DTSTAMP:20260424T115542
CREATED:20260319T204600Z
LAST-MODIFIED:20260319T204916Z
UID:10002896-1780012800-1780271999@diosohio.org
SUMMARY:Rainbows of Hope: Queer Joy in the Struggle Across the Ages
DESCRIPTION:May 29 – 31\, 2026 at Transfiguration Spirituality Center in Glendale\, OH \nThe Rev. Charles Graves\, IV\, facilitating \nJoin TSC for a time of refreshment\, renewal\, and hope in a time of profound disorientation. We will look back on the perseverance of LGBTQ+ “saints” of the past\, equip ourselves with fortitude for the present\, and seek encouragement for an uncertain future. This retreat will be a powerful experience of spiritual renewal for both traditionally religious and nonreligious LGBTQ+ people of varied backgrounds. \nFor information and registration\, please visit the Events Page at the TSC website at www.ctretreats.org
URL:https://diosohio.org/event/rainbows-of-hope-queer-joy-in-the-struggle-across-the-ages/
LOCATION:Transfiguration Spirituality Center\, 469 Albion Ave\, Glendale\, Ohio\, 45246
CATEGORIES:Community,LGBTQ+ Ministry
ATTACH;FMTTYPE=image/png:https://diosohio.org/wp-content/uploads/2026/03/Rainbows-of-Hope-Flyer-e1773953136137.png
ORGANIZER;CN="Transfiguration Spirituality Center":MAILTO:ctretreats@gmail.com
END:VEVENT
BEGIN:VEVENT
DTSTART;VALUE=DATE:20260531
DTEND;VALUE=DATE:20260601
DTSTAMP:20260424T115542
CREATED:20251010T185030Z
LAST-MODIFIED:20251010T185030Z
UID:10002604-1780185600-1780271999@diosohio.org
SUMMARY:Bishop White visitation: Trinity\, Newark
DESCRIPTION:Bishop White’s episcopal visitation to Trinity\, Newark
URL:https://diosohio.org/event/bishop-white-visitation-trinity-newark/
LOCATION:Trinity Newark\, 76 E Main St\, Newark\, OH\, 43055-5604\, US
CATEGORIES:Bishop
ATTACH;FMTTYPE=image/png:https://diosohio.org/wp-content/uploads/2023/03/default-featured-image.png
END:VEVENT
BEGIN:VEVENT
DTSTART;TZID=America/New_York:20260531T120000
DTEND;TZID=America/New_York:20260531T220000
DTSTAMP:20260424T115542
CREATED:20260421T155240Z
LAST-MODIFIED:20260421T155240Z
UID:10002915-1780228800-1780264800@diosohio.org
SUMMARY:End of School Year Youth Event
DESCRIPTION:Join youth from across the diocese for an end-of-the-school-year celebration at Kings Island in Mason! \nWe’ll spend time together focused on fun and fellowship; a chance to give thanks for the hard work of the last school year and look ahead to summer. All completing 6th through 12th graders are invited to join us for this event. If you have your own season pass\, please indicate that in the registration. For those that do not have a season pass\, your ticket will be covered (but bring extra money for concessions and other spending at the park!). \nChurches are encouraged to bring groups and carpool. \nSunday\, May 31\, 2026 \nNoon – Meet at the Front Gates\nDepart at any time with parents/chaperones. The park closes at 10 pm. \nKings Island\n6300 Kings Island Drive\nMason\, Ohio 45034 \nAll youth completing 6th-12th grades with their parents or youth group leaders are welcome. Tickets are free! Participants should bring extra funds for concessions and any other in-park purchases. Registration deadline is May 24. This deadline is firm to allow adequate time to pre-purchase tickets. \nREGISTER HERE \nQuestions about this event? \nContact Tym House\, minister for mission and family discipleship at Church of the Redeemer\, Hyde Park\, at tym@redeemer-cincy.org.
URL:https://diosohio.org/event/end-of-school-year-youth-event/
LOCATION:Kings Island\, 6300 Kings Island Dr\, Mason\, 45034\, United States
CATEGORIES:Children & Youth,Diocese
ATTACH;FMTTYPE=image/png:https://diosohio.org/wp-content/uploads/2026/04/end-of-year-2026.png
END:VEVENT
END:VCALENDAR