BEGIN:VCALENDAR
VERSION:2.0
PRODID:-//Diocese of Southern Ohio - ECPv6.15.20//NONSGML v1.0//EN
CALSCALE:GREGORIAN
METHOD:PUBLISH
X-ORIGINAL-URL:https://diosohio.org
X-WR-CALDESC:Events for Diocese of Southern Ohio
REFRESH-INTERVAL;VALUE=DURATION:PT1H
X-Robots-Tag:noindex
X-PUBLISHED-TTL:PT1H
BEGIN:VTIMEZONE
TZID:America/New_York
BEGIN:DAYLIGHT
TZOFFSETFROM:-0500
TZOFFSETTO:-0400
TZNAME:EDT
DTSTART:20250309T070000
END:DAYLIGHT
BEGIN:STANDARD
TZOFFSETFROM:-0400
TZOFFSETTO:-0500
TZNAME:EST
DTSTART:20251102T060000
END:STANDARD
BEGIN:DAYLIGHT
TZOFFSETFROM:-0500
TZOFFSETTO:-0400
TZNAME:EDT
DTSTART:20260308T070000
END:DAYLIGHT
BEGIN:STANDARD
TZOFFSETFROM:-0400
TZOFFSETTO:-0500
TZNAME:EST
DTSTART:20261101T060000
END:STANDARD
BEGIN:DAYLIGHT
TZOFFSETFROM:-0500
TZOFFSETTO:-0400
TZNAME:EDT
DTSTART:20270314T070000
END:DAYLIGHT
BEGIN:STANDARD
TZOFFSETFROM:-0400
TZOFFSETTO:-0500
TZNAME:EST
DTSTART:20271107T060000
END:STANDARD
END:VTIMEZONE
BEGIN:VEVENT
DTSTART;VALUE=DATE:20260701
DTEND;VALUE=DATE:20260702
DTSTAMP:20260424T144705
CREATED:20260109T165822Z
LAST-MODIFIED:20260109T170020Z
UID:10002737-1782864000-1782950399@diosohio.org
SUMMARY:ECM Cycle 2 grant deadline
DESCRIPTION:The 2026 ECM Cycle 2 grant application cycle is June 1 through July 1. More information here.
URL:https://diosohio.org/event/ecm-cycle-2-grant-deadline-2026/
CATEGORIES:Deadline
ATTACH;FMTTYPE=image/png:https://diosohio.org/wp-content/uploads/2023/03/default-featured-image.png
END:VEVENT
BEGIN:VEVENT
DTSTART;VALUE=DATE:20260710
DTEND;VALUE=DATE:20260713
DTSTAMP:20260424T144705
CREATED:20260319T204841Z
LAST-MODIFIED:20260319T204841Z
UID:10002897-1783641600-1783900799@diosohio.org
SUMMARY:The Divine Knows My Prounouns
DESCRIPTION:July 10 – 12\, 2026 at Transfiguration Spirituality Center in Glendale\, OH \nDouglas Argue and Alejandro Rodriguez\, facilitating \nImagine a brave space where transgender individuals are free to be themselves. Where they are honored and celebrated. A place where they are free to explore their relationship with the Divine\, however they define that. A place where their families and allies can learn how to best support their transgender loved one’s spiritual journey. That’s what we’ll be creating together when we for our second annual The Divine Knows My Pronouns Retreat. Attendees at last year’s event called this event “life changing” and “life saving.” \nFor information and registration\, please visit the Events Page at our website at www.ctretreats.org
URL:https://diosohio.org/event/the-divine-knows-my-prounouns/
LOCATION:Transfiguration Spirituality Center\, 469 Albion Ave\, Glendale\, Ohio\, 45246
CATEGORIES:Community,LGBTQ+ Ministry
ATTACH;FMTTYPE=image/png:https://diosohio.org/wp-content/uploads/2026/03/Divine-Pronouns-2026-e1773953306938.png
ORGANIZER;CN="Transfiguration Spirituality Center":MAILTO:ctretreats@gmail.com
END:VEVENT
BEGIN:VEVENT
DTSTART;VALUE=DATE:20260712
DTEND;VALUE=DATE:20260713
DTSTAMP:20260424T144705
CREATED:20251010T185641Z
LAST-MODIFIED:20251010T185641Z
UID:10002606-1783814400-1783900799@diosohio.org
SUMMARY:Bishop White visitation: St. Alban's\, Bexley
DESCRIPTION:Bishop White’s episcopal visitation to St. Alban’s\, Bexley
URL:https://diosohio.org/event/bishop-white-visitation-st-albans-bexley/
LOCATION:St Alban’s Bexley\, 333 S Drexel Ave\, Columbus\, OH\, 43209-2139\, US
CATEGORIES:Bishop
ATTACH;FMTTYPE=image/png:https://diosohio.org/wp-content/uploads/2023/03/default-featured-image.png
END:VEVENT
BEGIN:VEVENT
DTSTART;VALUE=DATE:20260715
DTEND;VALUE=DATE:20260716
DTSTAMP:20260424T144705
CREATED:20260316T140445Z
LAST-MODIFIED:20260316T140445Z
UID:10002887-1784073600-1784159999@diosohio.org
SUMMARY:Faith in Life Grant application deadline
DESCRIPTION:Learn more
URL:https://diosohio.org/event/faith-in-life-grant-application-deadline-2/
CATEGORIES:Deadline
ATTACH;FMTTYPE=image/png:https://diosohio.org/wp-content/uploads/2023/03/default-featured-image.png
END:VEVENT
BEGIN:VEVENT
DTSTART;TZID=America/New_York:20260724T100000
DTEND;TZID=America/New_York:20260724T150000
DTSTAMP:20260424T144705
CREATED:20260113T201257Z
LAST-MODIFIED:20260302T161357Z
UID:10002748-1784887200-1784905200@diosohio.org
SUMMARY:Eastern Regional Staff Work Day
DESCRIPTION:In 2025\, we took important steps in reinvigorating connections across churches at the regional level in the Diocese of Southern Ohio. We experimented with Regional Staff Work Days\, in which diocesan staff traveled together to sites around the diocese\, increasing access to in-person meetings and fellowship with local leaders. At the same time\, a task force met and gathered with lay and clergy leaders for conversation and input about the ways we gather across geography\, a process that resulted in the creation of four new regions. \nAs a continuation of that investment in accessibility and connection\, the diocesan staff will once again hit the road in 2026\, offering opportunities to meet\, learn\, celebrate\, and connect beyond the walls of your own church. \nIn each region of the diocese\, the diocesan staff will be present for Staff Work Days\, offering the opportunity for drop-in fellowship and appointments with local leaders\, reducing barriers for face-to-face connection. \nEastern Region: Friday\, July 24\, Good Shepherd\, Athens \n10-11 am – Drop-in Fellowship Hour with light snacks and coffee.\n11-3 pm – Staff available for pre-made appointments. \nNo RSVP required to join the Regional Staff Days\, but please make an appointment if wanting to meet with staff. \nSchedule with staff member
URL:https://diosohio.org/event/eastern-regional-staff-work-day/
LOCATION:Church of The Good Shepherd Athens\, 64 University Terrace\, Athens\, OH\, 45701-2913\, US
CATEGORIES:Diocese
ATTACH;FMTTYPE=image/png:https://diosohio.org/wp-content/uploads/2023/03/default-featured-image.png
END:VEVENT
BEGIN:VEVENT
DTSTART;TZID=America/New_York:20260725T100000
DTEND;TZID=America/New_York:20260725T140000
DTSTAMP:20260424T144705
CREATED:20260302T161552Z
LAST-MODIFIED:20260302T161652Z
UID:10002876-1784973600-1784988000@diosohio.org
SUMMARY:Eastern Region Vestry and Wardens Day
DESCRIPTION:All returning and newly elected vestry members\, junior and senior wardens\, and their clergy are invited to spend a day at Good Shepherd\, Athens\, reflecting on Scripture through prayer and conversation\, considering together their charge as leaders of congregations\, building connections with leaders from across the diocese\, learning content from the College for Congregational Development\, and more. \nAll vestry members\, senior and junior wardens\, and their clergy are invited to attend. There is no cost for this event. \nRegistration coming soon.
URL:https://diosohio.org/event/eastern-region-vestry-and-wardens-day/
LOCATION:Church of The Good Shepherd Athens\, 64 University Terrace\, Athens\, OH\, 45701-2913\, US
CATEGORIES:Diocese
ATTACH;FMTTYPE=image/png:https://diosohio.org/wp-content/uploads/2023/03/default-featured-image.png
END:VEVENT
BEGIN:VEVENT
DTSTART;VALUE=DATE:20260726
DTEND;VALUE=DATE:20260727
DTSTAMP:20260424T144705
CREATED:20251010T185807Z
LAST-MODIFIED:20251010T185807Z
UID:10002607-1785024000-1785110399@diosohio.org
SUMMARY:Bishop White visitation: St. Philip's\, Circleville
DESCRIPTION:Bishop White’s episcopal visitation to St. Philip’s\, Circleville
URL:https://diosohio.org/event/bishop-white-visitation-st-philips-circleville/
LOCATION:St Philip’s Circleville\, 129 W. Mound Street\, Circleville\, OH\, 43113-0484\, US
CATEGORIES:Bishop
ATTACH;FMTTYPE=image/png:https://diosohio.org/wp-content/uploads/2023/03/default-featured-image.png
END:VEVENT
BEGIN:VEVENT
DTSTART;TZID=America/New_York:20260729T170000
DTEND;TZID=America/New_York:20260729T190000
DTSTAMP:20260424T144705
CREATED:20260319T210630Z
LAST-MODIFIED:20260319T210747Z
UID:10002902-1785344400-1785351600@diosohio.org
SUMMARY:Cincinnati-area LGBTQ+ Affinity Group gathering
DESCRIPTION:Queer community isn’t just for June! Meet other LGBTQ+ folks and allies from Episcopal churches around the area on the last Wednesday of every month in a relaxed\, casual setting at Queen City Exchange. Appetizers are provided\, and alcoholic and non-alcoholic drinks are available.
URL:https://diosohio.org/event/cincinnati-area-lgbtq-affinity-group-gathering/2026-07-29/
LOCATION:Queen City Exchange\, 32 W Court Street\, Cincinnati\, OH\, 45202\, United States
CATEGORIES:LGBTQ+ Ministry
ATTACH;FMTTYPE=image/png:https://diosohio.org/wp-content/uploads/2025/06/mothly-gathering-graphic-e1773954350271.png
ORGANIZER;CN="LGBTQ+ Alliance":MAILTO:lgbtq@diosohio.org
END:VEVENT
END:VCALENDAR