BEGIN:VCALENDAR
VERSION:2.0
PRODID:-//Diocese of Southern Ohio - ECPv6.15.20//NONSGML v1.0//EN
CALSCALE:GREGORIAN
METHOD:PUBLISH
X-ORIGINAL-URL:https://diosohio.org
X-WR-CALDESC:Events for Diocese of Southern Ohio
REFRESH-INTERVAL;VALUE=DURATION:PT1H
X-Robots-Tag:noindex
X-PUBLISHED-TTL:PT1H
BEGIN:VTIMEZONE
TZID:America/New_York
BEGIN:DAYLIGHT
TZOFFSETFROM:-0500
TZOFFSETTO:-0400
TZNAME:EDT
DTSTART:20250309T070000
END:DAYLIGHT
BEGIN:STANDARD
TZOFFSETFROM:-0400
TZOFFSETTO:-0500
TZNAME:EST
DTSTART:20251102T060000
END:STANDARD
BEGIN:DAYLIGHT
TZOFFSETFROM:-0500
TZOFFSETTO:-0400
TZNAME:EDT
DTSTART:20260308T070000
END:DAYLIGHT
BEGIN:STANDARD
TZOFFSETFROM:-0400
TZOFFSETTO:-0500
TZNAME:EST
DTSTART:20261101T060000
END:STANDARD
BEGIN:DAYLIGHT
TZOFFSETFROM:-0500
TZOFFSETTO:-0400
TZNAME:EDT
DTSTART:20270314T070000
END:DAYLIGHT
BEGIN:STANDARD
TZOFFSETFROM:-0400
TZOFFSETTO:-0500
TZNAME:EST
DTSTART:20271107T060000
END:STANDARD
END:VTIMEZONE
BEGIN:VEVENT
DTSTART;VALUE=DATE:20261001
DTEND;VALUE=DATE:20261002
DTSTAMP:20260425T100328
CREATED:20260316T140506Z
LAST-MODIFIED:20260316T140506Z
UID:10002888-1790812800-1790899199@diosohio.org
SUMMARY:Faith in Life Grant application deadline
DESCRIPTION:Learn more
URL:https://diosohio.org/event/faith-in-life-grant-application-deadline-3/
CATEGORIES:Deadline
ATTACH;FMTTYPE=image/png:https://diosohio.org/wp-content/uploads/2023/03/default-featured-image.png
END:VEVENT
BEGIN:VEVENT
DTSTART;TZID=America/New_York:20261001T180000
DTEND;TZID=America/New_York:20261001T200000
DTSTAMP:20260425T100328
CREATED:20260113T192433Z
LAST-MODIFIED:20260113T194353Z
UID:10002738-1790877600-1790884800@diosohio.org
SUMMARY:Pre-convention meeting for East Region
DESCRIPTION:More information TBA.
URL:https://diosohio.org/event/pre-convention-meeting-for-east-region/
CATEGORIES:Convention
ATTACH;FMTTYPE=image/png:https://diosohio.org/wp-content/uploads/2023/03/default-featured-image.png
END:VEVENT
BEGIN:VEVENT
DTSTART;VALUE=DATE:20261004
DTEND;VALUE=DATE:20261005
DTSTAMP:20260425T100328
CREATED:20251010T190702Z
LAST-MODIFIED:20251010T190702Z
UID:10002609-1791072000-1791158399@diosohio.org
SUMMARY:Bishop White visitation: St. John's\, Columbus
DESCRIPTION:Bishop White’s episcopal visitation at St. John’s\, Columbus
URL:https://diosohio.org/event/bishop-white-visitation-st-johns-columbus/
LOCATION:St John’s Columbus\, 1003 W Town St\, Columbus\, OH\, 43222-1438\, US
CATEGORIES:Bishop
ATTACH;FMTTYPE=image/png:https://diosohio.org/wp-content/uploads/2023/03/default-featured-image.png
END:VEVENT
BEGIN:VEVENT
DTSTART;VALUE=DATE:20261004
DTEND;VALUE=DATE:20261005
DTSTAMP:20260425T100328
CREATED:20251010T190800Z
LAST-MODIFIED:20251010T190800Z
UID:10002610-1791072000-1791158399@diosohio.org
SUMMARY:Bishop White: Evensong
DESCRIPTION:Bishop White at St. Mark’s\, Columbus\, for Evensong.
URL:https://diosohio.org/event/bishop-white-evensong/
LOCATION:St Mark’s Columbus\, 2151 Dorset Rd\, Columbus\, OH\, 43221-3103\, US
CATEGORIES:Bishop
ATTACH;FMTTYPE=image/png:https://diosohio.org/wp-content/uploads/2023/03/default-featured-image.png
END:VEVENT
BEGIN:VEVENT
DTSTART;VALUE=DATE:20261006
DTEND;VALUE=DATE:20261007
DTSTAMP:20260425T100328
CREATED:20260113T192827Z
LAST-MODIFIED:20260127T161904Z
UID:10002742-1791244800-1791331199@diosohio.org
SUMMARY:Nominations deadline
DESCRIPTION:The deadline to receive nominations for elections at the 152nd annual convention is set for 45 days prior to convention.
URL:https://diosohio.org/event/nominations-deadline-2026/
CATEGORIES:Convention,Deadline
ATTACH;FMTTYPE=image/png:https://diosohio.org/wp-content/uploads/2023/03/default-featured-image.png
END:VEVENT
BEGIN:VEVENT
DTSTART;VALUE=DATE:20261006
DTEND;VALUE=DATE:20261007
DTSTAMP:20260425T100328
CREATED:20260113T192935Z
LAST-MODIFIED:20260127T161933Z
UID:10002743-1791244800-1791331199@diosohio.org
SUMMARY:Resolutions deadline
DESCRIPTION:The deadline to submit resolutions for consideration at the 152nd convention is set for 45 days prior to convention.
URL:https://diosohio.org/event/resolutions-deadline-2026/
CATEGORIES:Convention,Deadline
ATTACH;FMTTYPE=image/png:https://diosohio.org/wp-content/uploads/2023/03/default-featured-image.png
END:VEVENT
BEGIN:VEVENT
DTSTART;TZID=America/New_York:20261006T180000
DTEND;TZID=America/New_York:20261006T200000
DTSTAMP:20260425T100328
CREATED:20260113T192527Z
LAST-MODIFIED:20260113T194331Z
UID:10002739-1791309600-1791316800@diosohio.org
SUMMARY:Pre-convention meeting for West Region
DESCRIPTION:More information TBA.
URL:https://diosohio.org/event/pre-convention-meeting-for-west-region/
CATEGORIES:Convention
ATTACH;FMTTYPE=image/png:https://diosohio.org/wp-content/uploads/2023/03/default-featured-image.png
END:VEVENT
BEGIN:VEVENT
DTSTART;TZID=America/New_York:20261007T180000
DTEND;TZID=America/New_York:20261007T200000
DTSTAMP:20260425T100328
CREATED:20260113T192622Z
LAST-MODIFIED:20260113T194313Z
UID:10002740-1791396000-1791403200@diosohio.org
SUMMARY:Pre-convention meeting for Central Region
DESCRIPTION:More information TBA.
URL:https://diosohio.org/event/pre-convention-meeting-for-central-region/
CATEGORIES:Convention
ATTACH;FMTTYPE=image/png:https://diosohio.org/wp-content/uploads/2023/03/default-featured-image.png
END:VEVENT
BEGIN:VEVENT
DTSTART;TZID=America/New_York:20261008T180000
DTEND;TZID=America/New_York:20261008T200000
DTSTAMP:20260425T100328
CREATED:20260113T192713Z
LAST-MODIFIED:20260113T194252Z
UID:10002741-1791482400-1791489600@diosohio.org
SUMMARY:Pre-convention meeting for Southwest Region
DESCRIPTION:More information TBA.
URL:https://diosohio.org/event/pre-convention-meeting-for-southwest-region/
CATEGORIES:Convention
ATTACH;FMTTYPE=image/png:https://diosohio.org/wp-content/uploads/2023/03/default-featured-image.png
END:VEVENT
BEGIN:VEVENT
DTSTART;TZID=America/New_York:20261008T183000
DTEND;TZID=America/New_York:20261008T193000
DTSTAMP:20260425T100328
CREATED:20260210T183252Z
LAST-MODIFIED:20260423T192923Z
UID:10002857-1791484200-1791487800@diosohio.org
SUMMARY:Wardens Network Zoom call
DESCRIPTION:Join with junior and senior wardens from across the diocese to build community\, share resources\, reflect on Bishop White’s “Year of Jesus” through Bible Study\, and explore leadership skills and best practices. Together\, we’ll deepen relationships and strengthen our shared ministry in a collaborative and supportive space. \nDates \nMay 7\nAugust 13\nOctober 28\n6:30 – 7:30 pm\nThis online workshop will take place on Zoom. Can’t make all three? Join as much as you are able. \nOpen to all junior and senior wardens serving congregations in the Diocese of Southern Ohio. \nREGISTER HERE \nThe focus for our May 7 Zoom gathering is on building healthy leadership teams\, with practical tools and conversation to support your work. If you have topic suggestions for future gatherings\, please email the Rev. Derrick Fetz. \nQuestions about this event? \nContact the Rev. Derrick Fetz\, Missioner for Congregational Vitality\, at dfetz@diosohio.org.
URL:https://diosohio.org/event/warden-zoom-calls/2026-10-08/
CATEGORIES:Diocese
ATTACH;FMTTYPE=image/png:https://diosohio.org/wp-content/uploads/2026/04/wardens-2026.png
END:VEVENT
BEGIN:VEVENT
DTSTART;TZID=America/New_York:20261017T100000
DTEND;TZID=America/New_York:20261017T130000
DTSTAMP:20260425T100328
CREATED:20250717T151149Z
LAST-MODIFIED:20250717T151149Z
UID:10002079-1792231200-1792242000@diosohio.org
SUMMARY:Diocesan Council
DESCRIPTION:
URL:https://diosohio.org/event/diocesan-council-7/2026-10-17/
LOCATION:Procter Center\, 11235 St. Rt. 38 SE\, London\, OH\, 43140\, United States
CATEGORIES:Meeting
ATTACH;FMTTYPE=image/png:https://diosohio.org/wp-content/uploads/2023/03/default-featured-image.png
END:VEVENT
BEGIN:VEVENT
DTSTART;VALUE=DATE:20261018
DTEND;VALUE=DATE:20261019
DTSTAMP:20260425T100328
CREATED:20251031T161447Z
LAST-MODIFIED:20251031T161447Z
UID:10002642-1792281600-1792367999@diosohio.org
SUMMARY:Bishop White visitation: St. Peter's\, Gallipolis/Grace\, Pomeroy
DESCRIPTION:Bishop White episcopal visitation to St. Peter’s\, Gallipolis and Grace Church\, Pomeroy
URL:https://diosohio.org/event/bishop-white-visitation-st-peters-gallipolis-grace-pomeroy/
CATEGORIES:Bishop
ATTACH;FMTTYPE=image/png:https://diosohio.org/wp-content/uploads/2023/03/default-featured-image.png
END:VEVENT
BEGIN:VEVENT
DTSTART;VALUE=DATE:20261023
DTEND;VALUE=DATE:20261025
DTSTAMP:20260425T100328
CREATED:20251217T162326Z
LAST-MODIFIED:20251217T162326Z
UID:10002708-1792713600-1792886399@diosohio.org
SUMMARY:Commission on Ministry
DESCRIPTION:Commission on Ministry meets at Procter Center. Fall Meeting and Postulancy and Candidacy/Ordination Interviews.
URL:https://diosohio.org/event/commission-on-ministry-oct-2026/
LOCATION:Procter Center\, 11235 St. Rt. 38 SE\, London\, OH\, 43140\, United States
CATEGORIES:Meeting,Ordination Process
ATTACH;FMTTYPE=image/png:https://diosohio.org/wp-content/uploads/2023/03/default-featured-image.png
END:VEVENT
BEGIN:VEVENT
DTSTART;VALUE=DATE:20261025
DTEND;VALUE=DATE:20261026
DTSTAMP:20260425T100328
CREATED:20251010T190927Z
LAST-MODIFIED:20251010T190927Z
UID:10002611-1792886400-1792972799@diosohio.org
SUMMARY:Bishop White visitation: St. Andrew's\, Pickerington
DESCRIPTION:Bishop White’s episcopal visitation at St. Andrew’s\, Pickerington.
URL:https://diosohio.org/event/bishop-white-visitation-st-andrews-pickerington/
LOCATION:St Andrew’s Pickerington\, 8630 Refugee Rd\, Pickerington\, OH\, 43147-9509\, US
CATEGORIES:Bishop
ATTACH;FMTTYPE=image/png:https://diosohio.org/wp-content/uploads/2023/03/default-featured-image.png
END:VEVENT
BEGIN:VEVENT
DTSTART;TZID=America/New_York:20261028T170000
DTEND;TZID=America/New_York:20261028T190000
DTSTAMP:20260425T100328
CREATED:20260319T210630Z
LAST-MODIFIED:20260319T210747Z
UID:10002905-1793206800-1793214000@diosohio.org
SUMMARY:Cincinnati-area LGBTQ+ Affinity Group gathering
DESCRIPTION:Queer community isn’t just for June! Meet other LGBTQ+ folks and allies from Episcopal churches around the area on the last Wednesday of every month in a relaxed\, casual setting at Queen City Exchange. Appetizers are provided\, and alcoholic and non-alcoholic drinks are available.
URL:https://diosohio.org/event/cincinnati-area-lgbtq-affinity-group-gathering/2026-10-28/
LOCATION:Queen City Exchange\, 32 W Court Street\, Cincinnati\, OH\, 45202\, United States
CATEGORIES:LGBTQ+ Ministry
ATTACH;FMTTYPE=image/png:https://diosohio.org/wp-content/uploads/2025/06/mothly-gathering-graphic-e1773954350271.png
ORGANIZER;CN="LGBTQ+ Alliance":MAILTO:lgbtq@diosohio.org
END:VEVENT
END:VCALENDAR