BEGIN:VCALENDAR
VERSION:2.0
PRODID:-//Diocese of Southern Ohio - ECPv6.15.20//NONSGML v1.0//EN
CALSCALE:GREGORIAN
METHOD:PUBLISH
X-WR-CALNAME:Diocese of Southern Ohio
X-ORIGINAL-URL:https://diosohio.org
X-WR-CALDESC:Events for Diocese of Southern Ohio
REFRESH-INTERVAL;VALUE=DURATION:PT1H
X-Robots-Tag:noindex
X-PUBLISHED-TTL:PT1H
BEGIN:VTIMEZONE
TZID:America/New_York
BEGIN:DAYLIGHT
TZOFFSETFROM:-0500
TZOFFSETTO:-0400
TZNAME:EDT
DTSTART:20250309T070000
END:DAYLIGHT
BEGIN:STANDARD
TZOFFSETFROM:-0400
TZOFFSETTO:-0500
TZNAME:EST
DTSTART:20251102T060000
END:STANDARD
BEGIN:DAYLIGHT
TZOFFSETFROM:-0500
TZOFFSETTO:-0400
TZNAME:EDT
DTSTART:20260308T070000
END:DAYLIGHT
BEGIN:STANDARD
TZOFFSETFROM:-0400
TZOFFSETTO:-0500
TZNAME:EST
DTSTART:20261101T060000
END:STANDARD
BEGIN:DAYLIGHT
TZOFFSETFROM:-0500
TZOFFSETTO:-0400
TZNAME:EDT
DTSTART:20270314T070000
END:DAYLIGHT
BEGIN:STANDARD
TZOFFSETFROM:-0400
TZOFFSETTO:-0500
TZNAME:EST
DTSTART:20271107T060000
END:STANDARD
END:VTIMEZONE
BEGIN:VEVENT
DTSTART;VALUE=DATE:20261004
DTEND;VALUE=DATE:20261005
DTSTAMP:20260424T212607
CREATED:20251010T190702Z
LAST-MODIFIED:20251010T190702Z
UID:10002609-1791072000-1791158399@diosohio.org
SUMMARY:Bishop White visitation: St. John's\, Columbus
DESCRIPTION:Bishop White’s episcopal visitation at St. John’s\, Columbus
URL:https://diosohio.org/event/bishop-white-visitation-st-johns-columbus/
LOCATION:St John’s Columbus\, 1003 W Town St\, Columbus\, OH\, 43222-1438\, US
CATEGORIES:Bishop
ATTACH;FMTTYPE=image/png:https://diosohio.org/wp-content/uploads/2023/03/default-featured-image.png
END:VEVENT
BEGIN:VEVENT
DTSTART;VALUE=DATE:20261004
DTEND;VALUE=DATE:20261005
DTSTAMP:20260424T212607
CREATED:20251010T190800Z
LAST-MODIFIED:20251010T190800Z
UID:10002610-1791072000-1791158399@diosohio.org
SUMMARY:Bishop White: Evensong
DESCRIPTION:Bishop White at St. Mark’s\, Columbus\, for Evensong.
URL:https://diosohio.org/event/bishop-white-evensong/
LOCATION:St Mark’s Columbus\, 2151 Dorset Rd\, Columbus\, OH\, 43221-3103\, US
CATEGORIES:Bishop
ATTACH;FMTTYPE=image/png:https://diosohio.org/wp-content/uploads/2023/03/default-featured-image.png
END:VEVENT
BEGIN:VEVENT
DTSTART;VALUE=DATE:20261018
DTEND;VALUE=DATE:20261019
DTSTAMP:20260424T212607
CREATED:20251031T161447Z
LAST-MODIFIED:20251031T161447Z
UID:10002642-1792281600-1792367999@diosohio.org
SUMMARY:Bishop White visitation: St. Peter's\, Gallipolis/Grace\, Pomeroy
DESCRIPTION:Bishop White episcopal visitation to St. Peter’s\, Gallipolis and Grace Church\, Pomeroy
URL:https://diosohio.org/event/bishop-white-visitation-st-peters-gallipolis-grace-pomeroy/
LOCATION:OH
CATEGORIES:Bishop
ATTACH;FMTTYPE=image/png:https://diosohio.org/wp-content/uploads/2023/03/default-featured-image.png
END:VEVENT
BEGIN:VEVENT
DTSTART;VALUE=DATE:20261025
DTEND;VALUE=DATE:20261026
DTSTAMP:20260424T212607
CREATED:20251010T190927Z
LAST-MODIFIED:20251010T190927Z
UID:10002611-1792886400-1792972799@diosohio.org
SUMMARY:Bishop White visitation: St. Andrew's\, Pickerington
DESCRIPTION:Bishop White’s episcopal visitation at St. Andrew’s\, Pickerington.
URL:https://diosohio.org/event/bishop-white-visitation-st-andrews-pickerington/
LOCATION:St Andrew’s Pickerington\, 8630 Refugee Rd\, Pickerington\, OH\, 43147-9509\, US
CATEGORIES:Bishop
ATTACH;FMTTYPE=image/png:https://diosohio.org/wp-content/uploads/2023/03/default-featured-image.png
END:VEVENT
END:VCALENDAR