BEGIN:VCALENDAR
VERSION:2.0
PRODID:-//Diocese of Southern Ohio - ECPv6.15.20//NONSGML v1.0//EN
CALSCALE:GREGORIAN
METHOD:PUBLISH
X-ORIGINAL-URL:https://diosohio.org
X-WR-CALDESC:Events for Diocese of Southern Ohio
REFRESH-INTERVAL;VALUE=DURATION:PT1H
X-Robots-Tag:noindex
X-PUBLISHED-TTL:PT1H
BEGIN:VTIMEZONE
TZID:America/New_York
BEGIN:DAYLIGHT
TZOFFSETFROM:-0500
TZOFFSETTO:-0400
TZNAME:EDT
DTSTART:20250309T070000
END:DAYLIGHT
BEGIN:STANDARD
TZOFFSETFROM:-0400
TZOFFSETTO:-0500
TZNAME:EST
DTSTART:20251102T060000
END:STANDARD
BEGIN:DAYLIGHT
TZOFFSETFROM:-0500
TZOFFSETTO:-0400
TZNAME:EDT
DTSTART:20260308T070000
END:DAYLIGHT
BEGIN:STANDARD
TZOFFSETFROM:-0400
TZOFFSETTO:-0500
TZNAME:EST
DTSTART:20261101T060000
END:STANDARD
BEGIN:DAYLIGHT
TZOFFSETFROM:-0500
TZOFFSETTO:-0400
TZNAME:EDT
DTSTART:20270314T070000
END:DAYLIGHT
BEGIN:STANDARD
TZOFFSETFROM:-0400
TZOFFSETTO:-0500
TZNAME:EST
DTSTART:20271107T060000
END:STANDARD
END:VTIMEZONE
BEGIN:VEVENT
DTSTART;VALUE=DATE:20261018
DTEND;VALUE=DATE:20261019
DTSTAMP:20260424T123252
CREATED:20251031T161447Z
LAST-MODIFIED:20251031T161447Z
UID:10002642-1792281600-1792367999@diosohio.org
SUMMARY:Bishop White visitation: St. Peter's\, Gallipolis/Grace\, Pomeroy
DESCRIPTION:Bishop White episcopal visitation to St. Peter’s\, Gallipolis and Grace Church\, Pomeroy
URL:https://diosohio.org/event/bishop-white-visitation-st-peters-gallipolis-grace-pomeroy/
LOCATION:OH
CATEGORIES:Bishop
ATTACH;FMTTYPE=image/png:https://diosohio.org/wp-content/uploads/2023/03/default-featured-image.png
END:VEVENT
BEGIN:VEVENT
DTSTART;VALUE=DATE:20261025
DTEND;VALUE=DATE:20261026
DTSTAMP:20260424T123252
CREATED:20251010T190927Z
LAST-MODIFIED:20251010T190927Z
UID:10002611-1792886400-1792972799@diosohio.org
SUMMARY:Bishop White visitation: St. Andrew's\, Pickerington
DESCRIPTION:Bishop White’s episcopal visitation at St. Andrew’s\, Pickerington.
URL:https://diosohio.org/event/bishop-white-visitation-st-andrews-pickerington/
LOCATION:St Andrew’s Pickerington\, 8630 Refugee Rd\, Pickerington\, OH\, 43147-9509\, US
CATEGORIES:Bishop
ATTACH;FMTTYPE=image/png:https://diosohio.org/wp-content/uploads/2023/03/default-featured-image.png
END:VEVENT
BEGIN:VEVENT
DTSTART;VALUE=DATE:20261101
DTEND;VALUE=DATE:20261102
DTSTAMP:20260424T123252
CREATED:20251010T191049Z
LAST-MODIFIED:20260105T160744Z
UID:10002612-1793491200-1793577599@diosohio.org
SUMMARY:Bishop White visitation: All Saints\, Washington Court House
DESCRIPTION:Bishop White’s episcopal visitation to All Saints\, Washington Court House
URL:https://diosohio.org/event/bishop-white-visitation-all-saints-washington-court-house/
LOCATION:All Saints Washington Court House\, 733 State Route 41 Sw\, Washington Court House\, OH\, 43160-8797
CATEGORIES:Bishop
ATTACH;FMTTYPE=image/png:https://diosohio.org/wp-content/uploads/2023/03/default-featured-image.png
END:VEVENT
BEGIN:VEVENT
DTSTART;VALUE=DATE:20261108
DTEND;VALUE=DATE:20261109
DTSTAMP:20260424T123252
CREATED:20260105T160925Z
LAST-MODIFIED:20260105T160925Z
UID:10002714-1794096000-1794182399@diosohio.org
SUMMARY:Bishop White visitation: St. John's\, Worthington
DESCRIPTION:Bishop White’s episcopal visitation to St. John’s\, Worthington
URL:https://diosohio.org/event/bishop-white-visitation-st-johns-worthington/
LOCATION:St John’s Worthington\, 700 High St\, Worthington\, OH\, 43085-4137\, US
CATEGORIES:Bishop
ATTACH;FMTTYPE=image/png:https://diosohio.org/wp-content/uploads/2023/03/default-featured-image.png
END:VEVENT
BEGIN:VEVENT
DTSTART;VALUE=DATE:20261206
DTEND;VALUE=DATE:20261207
DTSTAMP:20260424T123252
CREATED:20251010T192515Z
LAST-MODIFIED:20251010T192515Z
UID:10002613-1796515200-1796601599@diosohio.org
SUMMARY:Bishop White visitation: St. Luke's\, Granville
DESCRIPTION:Bishop White’s episcopal visitation to St. Luke’s\, Granville
URL:https://diosohio.org/event/bishop-white-visitation-st-lukes-granville/
LOCATION:St Luke’s Granville\, Po Box 82\, 107 E Broadway\, Granville\, OH\, 43023-0082\, US
CATEGORIES:Bishop
ATTACH;FMTTYPE=image/png:https://diosohio.org/wp-content/uploads/2023/03/default-featured-image.png
END:VEVENT
BEGIN:VEVENT
DTSTART;VALUE=DATE:20261224
DTEND;VALUE=DATE:20261225
DTSTAMP:20260424T123252
CREATED:20251010T192618Z
LAST-MODIFIED:20251010T192618Z
UID:10002614-1798070400-1798156799@diosohio.org
SUMMARY:Bishop White: Christmas Eve
DESCRIPTION:Bishop White visits Christ Church Cathedral for Christmas Eve
URL:https://diosohio.org/event/bishop-white-christmas-eve/
LOCATION:Christ Church Cathedral Cincinnati\, 318 E 4th St\, Cincinnati\, OH\, 45202-4202\, US
CATEGORIES:Bishop
ATTACH;FMTTYPE=image/png:https://diosohio.org/wp-content/uploads/2023/03/default-featured-image.png
END:VEVENT
END:VCALENDAR