BEGIN:VCALENDAR
VERSION:2.0
PRODID:-//Diocese of Southern Ohio - ECPv6.15.20//NONSGML v1.0//EN
CALSCALE:GREGORIAN
METHOD:PUBLISH
X-WR-CALNAME:Diocese of Southern Ohio
X-ORIGINAL-URL:https://diosohio.org
X-WR-CALDESC:Events for Diocese of Southern Ohio
REFRESH-INTERVAL;VALUE=DURATION:PT1H
X-Robots-Tag:noindex
X-PUBLISHED-TTL:PT1H
BEGIN:VTIMEZONE
TZID:America/New_York
BEGIN:DAYLIGHT
TZOFFSETFROM:-0500
TZOFFSETTO:-0400
TZNAME:EDT
DTSTART:20250309T070000
END:DAYLIGHT
BEGIN:STANDARD
TZOFFSETFROM:-0400
TZOFFSETTO:-0500
TZNAME:EST
DTSTART:20251102T060000
END:STANDARD
BEGIN:DAYLIGHT
TZOFFSETFROM:-0500
TZOFFSETTO:-0400
TZNAME:EDT
DTSTART:20260308T070000
END:DAYLIGHT
BEGIN:STANDARD
TZOFFSETFROM:-0400
TZOFFSETTO:-0500
TZNAME:EST
DTSTART:20261101T060000
END:STANDARD
BEGIN:DAYLIGHT
TZOFFSETFROM:-0500
TZOFFSETTO:-0400
TZNAME:EDT
DTSTART:20270314T070000
END:DAYLIGHT
BEGIN:STANDARD
TZOFFSETFROM:-0400
TZOFFSETTO:-0500
TZNAME:EST
DTSTART:20271107T060000
END:STANDARD
END:VTIMEZONE
BEGIN:VEVENT
DTSTART;VALUE=DATE:20260529
DTEND;VALUE=DATE:20260601
DTSTAMP:20260424T131611
CREATED:20260319T204600Z
LAST-MODIFIED:20260319T204916Z
UID:10002896-1780012800-1780271999@diosohio.org
SUMMARY:Rainbows of Hope: Queer Joy in the Struggle Across the Ages
DESCRIPTION:May 29 – 31\, 2026 at Transfiguration Spirituality Center in Glendale\, OH \nThe Rev. Charles Graves\, IV\, facilitating \nJoin TSC for a time of refreshment\, renewal\, and hope in a time of profound disorientation. We will look back on the perseverance of LGBTQ+ “saints” of the past\, equip ourselves with fortitude for the present\, and seek encouragement for an uncertain future. This retreat will be a powerful experience of spiritual renewal for both traditionally religious and nonreligious LGBTQ+ people of varied backgrounds. \nFor information and registration\, please visit the Events Page at the TSC website at www.ctretreats.org
URL:https://diosohio.org/event/rainbows-of-hope-queer-joy-in-the-struggle-across-the-ages/
LOCATION:Transfiguration Spirituality Center\, 469 Albion Ave\, Glendale\, Ohio\, 45246
CATEGORIES:Community,LGBTQ+ Ministry
ATTACH;FMTTYPE=image/png:https://diosohio.org/wp-content/uploads/2026/03/Rainbows-of-Hope-Flyer-e1773953136137.png
ORGANIZER;CN="Transfiguration Spirituality Center":MAILTO:ctretreats@gmail.com
END:VEVENT
BEGIN:VEVENT
DTSTART;VALUE=DATE:20260531
DTEND;VALUE=DATE:20260601
DTSTAMP:20260424T131611
CREATED:20251010T185030Z
LAST-MODIFIED:20251010T185030Z
UID:10002604-1780185600-1780271999@diosohio.org
SUMMARY:Bishop White visitation: Trinity\, Newark
DESCRIPTION:Bishop White’s episcopal visitation to Trinity\, Newark
URL:https://diosohio.org/event/bishop-white-visitation-trinity-newark/
LOCATION:Trinity Newark\, 76 E Main St\, Newark\, OH\, 43055-5604\, US
CATEGORIES:Bishop
ATTACH;FMTTYPE=image/png:https://diosohio.org/wp-content/uploads/2023/03/default-featured-image.png
END:VEVENT
BEGIN:VEVENT
DTSTART;TZID=America/New_York:20260531T120000
DTEND;TZID=America/New_York:20260531T220000
DTSTAMP:20260424T131611
CREATED:20260421T155240Z
LAST-MODIFIED:20260421T155240Z
UID:10002915-1780228800-1780264800@diosohio.org
SUMMARY:End of School Year Youth Event
DESCRIPTION:Join youth from across the diocese for an end-of-the-school-year celebration at Kings Island in Mason! \nWe’ll spend time together focused on fun and fellowship; a chance to give thanks for the hard work of the last school year and look ahead to summer. All completing 6th through 12th graders are invited to join us for this event. If you have your own season pass\, please indicate that in the registration. For those that do not have a season pass\, your ticket will be covered (but bring extra money for concessions and other spending at the park!). \nChurches are encouraged to bring groups and carpool. \nSunday\, May 31\, 2026 \nNoon – Meet at the Front Gates\nDepart at any time with parents/chaperones. The park closes at 10 pm. \nKings Island\n6300 Kings Island Drive\nMason\, Ohio 45034 \nAll youth completing 6th-12th grades with their parents or youth group leaders are welcome. Tickets are free! Participants should bring extra funds for concessions and any other in-park purchases. Registration deadline is May 24. This deadline is firm to allow adequate time to pre-purchase tickets. \nREGISTER HERE \nQuestions about this event? \nContact Tym House\, minister for mission and family discipleship at Church of the Redeemer\, Hyde Park\, at tym@redeemer-cincy.org.
URL:https://diosohio.org/event/end-of-school-year-youth-event/
LOCATION:Kings Island\, 6300 Kings Island Dr\, Mason\, 45034\, United States
CATEGORIES:Children & Youth,Diocese
ATTACH;FMTTYPE=image/png:https://diosohio.org/wp-content/uploads/2026/04/end-of-year-2026.png
END:VEVENT
END:VCALENDAR