BEGIN:VCALENDAR
VERSION:2.0
PRODID:-//Diocese of Southern Ohio - ECPv6.15.20//NONSGML v1.0//EN
CALSCALE:GREGORIAN
METHOD:PUBLISH
X-ORIGINAL-URL:https://diosohio.org
X-WR-CALDESC:Events for Diocese of Southern Ohio
REFRESH-INTERVAL;VALUE=DURATION:PT1H
X-Robots-Tag:noindex
X-PUBLISHED-TTL:PT1H
BEGIN:VTIMEZONE
TZID:America/New_York
BEGIN:DAYLIGHT
TZOFFSETFROM:-0500
TZOFFSETTO:-0400
TZNAME:EDT
DTSTART:20230312T070000
END:DAYLIGHT
BEGIN:STANDARD
TZOFFSETFROM:-0400
TZOFFSETTO:-0500
TZNAME:EST
DTSTART:20231105T060000
END:STANDARD
BEGIN:DAYLIGHT
TZOFFSETFROM:-0500
TZOFFSETTO:-0400
TZNAME:EDT
DTSTART:20240310T070000
END:DAYLIGHT
BEGIN:STANDARD
TZOFFSETFROM:-0400
TZOFFSETTO:-0500
TZNAME:EST
DTSTART:20241103T060000
END:STANDARD
BEGIN:DAYLIGHT
TZOFFSETFROM:-0500
TZOFFSETTO:-0400
TZNAME:EDT
DTSTART:20250309T070000
END:DAYLIGHT
BEGIN:STANDARD
TZOFFSETFROM:-0400
TZOFFSETTO:-0500
TZNAME:EST
DTSTART:20251102T060000
END:STANDARD
END:VTIMEZONE
BEGIN:VEVENT
DTSTART;TZID=America/New_York:20240513T190000
DTEND;TZID=America/New_York:20240513T200000
DTSTAMP:20260425T205056
CREATED:20240430T154237Z
LAST-MODIFIED:20240513T151929Z
UID:10001472-1715626800-1715630400@diosohio.org
SUMMARY:Affirming Congregations - POSTPONED
DESCRIPTION:Due to illness\, this Zoom presentation has been postponed until Monday\, May 20 at 7 p.m. Anyone who has previously registered has been automatically registered for the rescheduled meeting. \nIn the Episcopal Church\, we say that all are welcome\, but what does it mean to actually be an affirming congregation? Join us for a conversation about how congregations can be affirming\, safe places for all of God’s children\, and what work your congregation may need to do to get there. \nRegister in advance for this meeting at https://us02web.zoom.us/meeting/register/tZYlf-Ghpj4jH9LtY9PXjNWbdffG3THa-36Q \nAfter registering\, you will receive a confirmation email containing information about joining the meeting. \n*This conversation may also be helpful for anyone planning to volunteer at Pride.
URL:https://diosohio.org/event/affirming-congregations/
CATEGORIES:LGBTQ+ Ministry,Pride
ATTACH;FMTTYPE=image/jpeg:https://diosohio.org/wp-content/uploads/2024/04/All-are-welcome-here-e1714504558741.jpg
END:VEVENT
BEGIN:VEVENT
DTSTART;TZID=America/New_York:20240529T170000
DTEND;TZID=America/New_York:20240529T183000
DTSTAMP:20260425T205056
CREATED:20240118T153728Z
LAST-MODIFIED:20260319T205929Z
UID:10001303-1717002000-1717007400@diosohio.org
SUMMARY:Cincinnati LGBTQIA+ Affinity Group gathering
DESCRIPTION:Cincinnati-area Episcopal LGBTQIA+ individuals\, friends and allies gather for happy hour on the last Wednesday of the month (except March and December) at Queen City Exchange. \nAll are welcome to attend this Happy Hour and planning meeting for our LGBTQ+ Network events! Join us for light appetizers and beverages (alcoholic and non-alcoholic drinks available)
URL:https://diosohio.org/event/lgbtqia-affinity-group-gathering/2024-05-29/
LOCATION:Queen City Exchange\, 32 W Court Street\, Cincinnati\, OH\, 45202\, United States
CATEGORIES:LGBTQ+ Ministry,Pride
ATTACH;FMTTYPE=image/jpeg:https://diosohio.org/wp-content/uploads/2024/01/inclusive-pride-flag_507x507.jpeg
END:VEVENT
END:VCALENDAR