BEGIN:VCALENDAR
VERSION:2.0
PRODID:-//Diocese of Southern Ohio - ECPv6.15.20//NONSGML v1.0//EN
CALSCALE:GREGORIAN
METHOD:PUBLISH
X-WR-CALNAME:Diocese of Southern Ohio
X-ORIGINAL-URL:https://diosohio.org
X-WR-CALDESC:Events for Diocese of Southern Ohio
REFRESH-INTERVAL;VALUE=DURATION:PT1H
X-Robots-Tag:noindex
X-PUBLISHED-TTL:PT1H
BEGIN:VTIMEZONE
TZID:America/New_York
BEGIN:DAYLIGHT
TZOFFSETFROM:-0500
TZOFFSETTO:-0400
TZNAME:EDT
DTSTART:20230312T070000
END:DAYLIGHT
BEGIN:STANDARD
TZOFFSETFROM:-0400
TZOFFSETTO:-0500
TZNAME:EST
DTSTART:20231105T060000
END:STANDARD
BEGIN:DAYLIGHT
TZOFFSETFROM:-0500
TZOFFSETTO:-0400
TZNAME:EDT
DTSTART:20240310T070000
END:DAYLIGHT
BEGIN:STANDARD
TZOFFSETFROM:-0400
TZOFFSETTO:-0500
TZNAME:EST
DTSTART:20241103T060000
END:STANDARD
BEGIN:DAYLIGHT
TZOFFSETFROM:-0500
TZOFFSETTO:-0400
TZNAME:EDT
DTSTART:20250309T070000
END:DAYLIGHT
BEGIN:STANDARD
TZOFFSETFROM:-0400
TZOFFSETTO:-0500
TZNAME:EST
DTSTART:20251102T060000
END:STANDARD
END:VTIMEZONE
BEGIN:VEVENT
DTSTART;TZID=America/New_York:20240623T170000
DTEND;TZID=America/New_York:20240623T190000
DTSTAMP:20260425T205032
CREATED:20240521T182202Z
LAST-MODIFIED:20240607T165630Z
UID:10001496-1719162000-1719169200@diosohio.org
SUMMARY:Cincinnati Pride Mass
DESCRIPTION:Pride represents a joyous time of celebration of the vast and beautiful array of God’s creation\, made manifest in LGBTQ+ individuals and communities. \nJoin us for a Pride service with Eucharist on Sunday\, June 23 at 5 p.m. at Christ Church Cathedral. \n\nThe Rt. Rev. Nedi Revira\, Presiding\nThe Rev. Canon Jodi Baron\, Preaching\nThe Very Rev. Owen Thompson\, Assisting\nCathedral Choir\n\nA potluck and fellowship will follow in the library at 6:15 pm. Parking validation will be provided for the Queen City Garage on 4th Street. Sign up for the the potluck at https://cincinnaticathedral.com/lgbtq/
URL:https://diosohio.org/event/cincinnati-pride-mass/
LOCATION:Christ Church Cathedral Cincinnati\, 318 E 4th St\, Cincinnati\, OH\, 45202-4202\, US
CATEGORIES:LGBTQ+ Ministry,Pride
ATTACH;FMTTYPE=image/png:https://diosohio.org/wp-content/uploads/2024/05/2024-Pride-Liturgy-poster-8.5-x-11-in.png
END:VEVENT
BEGIN:VEVENT
DTSTART;TZID=America/New_York:20240626T170000
DTEND;TZID=America/New_York:20240626T183000
DTSTAMP:20260425T205032
CREATED:20240118T153728Z
LAST-MODIFIED:20260319T205929Z
UID:10001304-1719421200-1719426600@diosohio.org
SUMMARY:Cincinnati LGBTQIA+ Affinity Group gathering
DESCRIPTION:Cincinnati-area Episcopal LGBTQIA+ individuals\, friends and allies gather for happy hour on the last Wednesday of the month (except March and December) at Queen City Exchange. \nAll are welcome to attend this Happy Hour and planning meeting for our LGBTQ+ Network events! Join us for light appetizers and beverages (alcoholic and non-alcoholic drinks available)
URL:https://diosohio.org/event/lgbtqia-affinity-group-gathering/2024-06-26/
LOCATION:Queen City Exchange\, 32 W Court Street\, Cincinnati\, OH\, 45202\, United States
CATEGORIES:LGBTQ+ Ministry,Pride
ATTACH;FMTTYPE=image/jpeg:https://diosohio.org/wp-content/uploads/2024/01/inclusive-pride-flag_507x507.jpeg
END:VEVENT
BEGIN:VEVENT
DTSTART;TZID=America/New_York:20240629T110000
DTEND;TZID=America/New_York:20240629T180000
DTSTAMP:20260425T205032
CREATED:20240606T153255Z
LAST-MODIFIED:20240606T153255Z
UID:10001571-1719658800-1719684000@diosohio.org
SUMMARY:Zanesville Pride
DESCRIPTION:Zanesville Pride will be held Saturday\, June 29 at at Zane’s Landing Park from 11 a.m. to 6 p.m. Learn more here. \nTo volunteer to be a part of the Episcopal Church presence\, click here.
URL:https://diosohio.org/event/zanesville-pride-2/
LOCATION:Zane’s Landing Park\, West Market Street\, Zanesville\, 43701\, United States
CATEGORIES:LGBTQ+ Ministry,Pride
ATTACH;FMTTYPE=image/jpeg:https://diosohio.org/wp-content/uploads/2024/06/340745133_929564061690970_8882402648244532822_n.jpg
END:VEVENT
END:VCALENDAR