BEGIN:VCALENDAR
VERSION:2.0
PRODID:-//Diocese of Southern Ohio - ECPv6.15.20//NONSGML v1.0//EN
CALSCALE:GREGORIAN
METHOD:PUBLISH
X-WR-CALNAME:Diocese of Southern Ohio
X-ORIGINAL-URL:https://diosohio.org
X-WR-CALDESC:Events for Diocese of Southern Ohio
REFRESH-INTERVAL;VALUE=DURATION:PT1H
X-Robots-Tag:noindex
X-PUBLISHED-TTL:PT1H
BEGIN:VTIMEZONE
TZID:America/New_York
BEGIN:DAYLIGHT
TZOFFSETFROM:-0500
TZOFFSETTO:-0400
TZNAME:EDT
DTSTART:20230312T070000
END:DAYLIGHT
BEGIN:STANDARD
TZOFFSETFROM:-0400
TZOFFSETTO:-0500
TZNAME:EST
DTSTART:20231105T060000
END:STANDARD
BEGIN:DAYLIGHT
TZOFFSETFROM:-0500
TZOFFSETTO:-0400
TZNAME:EDT
DTSTART:20240310T070000
END:DAYLIGHT
BEGIN:STANDARD
TZOFFSETFROM:-0400
TZOFFSETTO:-0500
TZNAME:EST
DTSTART:20241103T060000
END:STANDARD
BEGIN:DAYLIGHT
TZOFFSETFROM:-0500
TZOFFSETTO:-0400
TZNAME:EDT
DTSTART:20250309T070000
END:DAYLIGHT
BEGIN:STANDARD
TZOFFSETFROM:-0400
TZOFFSETTO:-0500
TZNAME:EST
DTSTART:20251102T060000
END:STANDARD
END:VTIMEZONE
BEGIN:VEVENT
DTSTART;TZID=America/New_York:20240630T170000
DTEND;TZID=America/New_York:20240630T210000
DTSTAMP:20260425T163933
CREATED:20240610T180409Z
LAST-MODIFIED:20240624T152013Z
UID:10001572-1719766800-1719781200@diosohio.org
SUMMARY:The Feast of Pauli Murray
DESCRIPTION:On the eve of the Rev. Dr. Pauli Murray’s feast day\, Church of the Redeemer\, Cincinnati\, will celebrate with a contemplative evening service at 5 p.m. A showing of the documentary “My Name is Pauli Murray” will follow the service. This documentary looks at the life and ideas of Pauli Murray\, a non-binary Black lawyer\, activist\, priest\, and poet who influenced both Ruth Bader Ginsburg and Thurgood Marshall. Register here.
URL:https://diosohio.org/event/the-feast-of-pauli-murray/
LOCATION:Church of The Redeemer Cincinnati\, 2944 Erie Ave\, Cincinnati\, OH\, 45208-2404\, US
CATEGORIES:LGBTQ+ Ministry,Pride
ATTACH;FMTTYPE=image/png:https://diosohio.org/wp-content/uploads/2024/06/Pauli-Murray-Feast-Day-Service-8.5-x-11-in.png
END:VEVENT
END:VCALENDAR