BEGIN:VCALENDAR
VERSION:2.0
PRODID:-//Diocese of Southern Ohio - ECPv6.15.20//NONSGML v1.0//EN
CALSCALE:GREGORIAN
METHOD:PUBLISH
X-WR-CALNAME:Diocese of Southern Ohio
X-ORIGINAL-URL:https://diosohio.org
X-WR-CALDESC:Events for Diocese of Southern Ohio
REFRESH-INTERVAL;VALUE=DURATION:PT1H
X-Robots-Tag:noindex
X-PUBLISHED-TTL:PT1H
BEGIN:VTIMEZONE
TZID:America/New_York
BEGIN:DAYLIGHT
TZOFFSETFROM:-0500
TZOFFSETTO:-0400
TZNAME:EDT
DTSTART:20230312T070000
END:DAYLIGHT
BEGIN:STANDARD
TZOFFSETFROM:-0400
TZOFFSETTO:-0500
TZNAME:EST
DTSTART:20231105T060000
END:STANDARD
BEGIN:DAYLIGHT
TZOFFSETFROM:-0500
TZOFFSETTO:-0400
TZNAME:EDT
DTSTART:20240310T070000
END:DAYLIGHT
BEGIN:STANDARD
TZOFFSETFROM:-0400
TZOFFSETTO:-0500
TZNAME:EST
DTSTART:20241103T060000
END:STANDARD
BEGIN:DAYLIGHT
TZOFFSETFROM:-0500
TZOFFSETTO:-0400
TZNAME:EDT
DTSTART:20250309T070000
END:DAYLIGHT
BEGIN:STANDARD
TZOFFSETFROM:-0400
TZOFFSETTO:-0500
TZNAME:EST
DTSTART:20251102T060000
END:STANDARD
END:VTIMEZONE
BEGIN:VEVENT
DTSTART;TZID=America/New_York:20241016T180000
DTEND;TZID=America/New_York:20241016T200000
DTSTAMP:20260425T110259
CREATED:20240924T191539Z
LAST-MODIFIED:20240924T191616Z
UID:10001670-1729101600-1729108800@diosohio.org
SUMMARY:Columbus-area LGBTQ Episcopal fellowship group
DESCRIPTION:The newly-forming LGBT Episcopal fellowship group will hold its second gathering on Wednesday\, October 16\, from 6 to 8 p.m. at Bexley Coffee Shop\, 492 N Cassady Ave. in Bexley. The purpose of group is to provide community and fellowship for LGBTQ Episcopalians in Central Ohio\, and to build a community to help manpower events such as Pride and the Columbus Pride mass. Please bring yourself and enjoy a cappuccino. NOTE: Bexley Coffee Shop is open special hours for this event. \nFor more details contact Russell Brohl russellbrohl40@gmail.com.
URL:https://diosohio.org/event/columbus-area-lgbtq-episcopal-fellowship-group-2/
LOCATION:Bexley Coffee Shop\, 492 N Cassady Ave\, Columbus\, 43209\, United States
CATEGORIES:Community,LGBTQ+ Ministry,Pride
ATTACH;FMTTYPE=image/jpeg:https://diosohio.org/wp-content/uploads/2024/01/inclusive-pride-flag_507x507.jpeg
END:VEVENT
END:VCALENDAR