BEGIN:VCALENDAR
VERSION:2.0
PRODID:-//Diocese of Southern Ohio - ECPv6.15.20//NONSGML v1.0//EN
CALSCALE:GREGORIAN
METHOD:PUBLISH
X-ORIGINAL-URL:https://diosohio.org
X-WR-CALDESC:Events for Diocese of Southern Ohio
REFRESH-INTERVAL;VALUE=DURATION:PT1H
X-Robots-Tag:noindex
X-PUBLISHED-TTL:PT1H
BEGIN:VTIMEZONE
TZID:America/New_York
BEGIN:DAYLIGHT
TZOFFSETFROM:-0500
TZOFFSETTO:-0400
TZNAME:EDT
DTSTART:20220313T070000
END:DAYLIGHT
BEGIN:STANDARD
TZOFFSETFROM:-0400
TZOFFSETTO:-0500
TZNAME:EST
DTSTART:20221106T060000
END:STANDARD
BEGIN:DAYLIGHT
TZOFFSETFROM:-0500
TZOFFSETTO:-0400
TZNAME:EDT
DTSTART:20230312T070000
END:DAYLIGHT
BEGIN:STANDARD
TZOFFSETFROM:-0400
TZOFFSETTO:-0500
TZNAME:EST
DTSTART:20231105T060000
END:STANDARD
BEGIN:DAYLIGHT
TZOFFSETFROM:-0500
TZOFFSETTO:-0400
TZNAME:EDT
DTSTART:20240310T070000
END:DAYLIGHT
BEGIN:STANDARD
TZOFFSETFROM:-0400
TZOFFSETTO:-0500
TZNAME:EST
DTSTART:20241103T060000
END:STANDARD
BEGIN:DAYLIGHT
TZOFFSETFROM:-0500
TZOFFSETTO:-0400
TZNAME:EDT
DTSTART:20250309T070000
END:DAYLIGHT
BEGIN:STANDARD
TZOFFSETFROM:-0400
TZOFFSETTO:-0500
TZNAME:EST
DTSTART:20251102T060000
END:STANDARD
END:VTIMEZONE
BEGIN:VEVENT
DTSTART;TZID=America/New_York:20240608T100000
DTEND;TZID=America/New_York:20240608T110000
DTSTAMP:20260425T175657
CREATED:20240530T185508Z
LAST-MODIFIED:20240605T133950Z
UID:10001564-1717840800-1717844400@diosohio.org
SUMMARY:Pride Service
DESCRIPTION:A Pride service will be held at St. Philip’s\, Circleville\, on Saturday\, June 8 at 10 a.m. Archdeacon Paul Scanlan officiating.
URL:https://diosohio.org/event/pride-service/
LOCATION:St Philip’s Circleville\, 129 W. Mound Street\, Circleville\, OH\, 43113-0484\, US
CATEGORIES:LGBTQ+ Ministry,Pride
ATTACH;FMTTYPE=image/png:https://diosohio.org/wp-content/uploads/2023/03/default-featured-image.png
END:VEVENT
BEGIN:VEVENT
DTSTART;TZID=America/New_York:20240602T130000
DTEND;TZID=America/New_York:20240602T170000
DTSTAMP:20260425T175657
CREATED:20240521T181056Z
LAST-MODIFIED:20240521T181056Z
UID:10001494-1717333200-1717347600@diosohio.org
SUMMARY:Worthington Pride
DESCRIPTION:Worthington Pride will be held Sunday\, June 2 from 1 to 5 p.m. in the Worthington Historic District. Learn more here. \nTo volunteer to be a part of the Episcopal Church presence\, click here.
URL:https://diosohio.org/event/worthington-pride/
CATEGORIES:LGBTQ+ Ministry,Pride
ATTACH;FMTTYPE=image/jpeg:https://diosohio.org/wp-content/uploads/2024/05/436334836_821414423357921_2646849593445144009_n.jpg
END:VEVENT
BEGIN:VEVENT
DTSTART;TZID=America/New_York:20240601T110000
DTEND;TZID=America/New_York:20240601T190000
DTSTAMP:20260425T175657
CREATED:20240205T185002Z
LAST-MODIFIED:20240521T181945Z
UID:10001339-1717239600-1717268400@diosohio.org
SUMMARY:Hamilton Pride Festival
DESCRIPTION:The Hamilton Pride Festival will be held Saturday\, June 1\, at Marcum Park. A rally and march will begin at 11 a.m. at Rotary Park. Click here for more information. \nTo volunteer to be a part of the Episcopal Church presence\, click here.
URL:https://diosohio.org/event/hamilton-pride-festival/
LOCATION:Marcum Park\, 106 N Second St\, Hamilton\, 45011\, United States
CATEGORIES:LGBTQ+ Ministry,Pride
ATTACH;FMTTYPE=image/png:https://diosohio.org/wp-content/uploads/2023/05/HamiltonPride_ProgressPrideFlag.png
END:VEVENT
BEGIN:VEVENT
DTSTART;TZID=America/New_York:20240601T110000
DTEND;TZID=America/New_York:20240601T160000
DTSTAMP:20260425T175657
CREATED:20240205T185542Z
LAST-MODIFIED:20240430T200222Z
UID:10001340-1717239600-1717257600@diosohio.org
SUMMARY:Dayton Pride Festival
DESCRIPTION:The Dayton Pride Festival will take place Saturday\, June 1 on North St. Clair Street in downtown Dayton. Click here for more information. \nTo volunteer to be a part of the Episcopal Church presence\, click here.
URL:https://diosohio.org/event/dayton-pride-festival/
LOCATION:Dayton Pride\, 136 N St Clair St\, Dayton\, 45402\, United States
CATEGORIES:LGBTQ+ Ministry,Pride
ATTACH;FMTTYPE=image/png:https://diosohio.org/wp-content/uploads/2024/02/Dayton-Pride.png
END:VEVENT
BEGIN:VEVENT
DTSTART;TZID=America/New_York:20240601T100000
DTEND;TZID=America/New_York:20240601T170000
DTSTAMP:20260425T175657
CREATED:20240430T194636Z
LAST-MODIFIED:20240430T205050Z
UID:10001476-1717236000-1717261200@diosohio.org
SUMMARY:Delaware Pride Festival
DESCRIPTION:Delaware Pride will take place on Saturday\, June 1\, from 10 a.m. to 5 p.m. at Boardman Arts Park. Click here for more information. \nTo volunteer to be a part of the Episcopal Church presence\, click here.
URL:https://diosohio.org/event/delaware-pride-2/
LOCATION:Boardman Arts Park\, 154 W William St\, Delaware\, United States
CATEGORIES:LGBTQ+ Ministry,Pride
ATTACH;FMTTYPE=image/png:https://diosohio.org/wp-content/uploads/2024/04/Delaware-Pride.png
END:VEVENT
BEGIN:VEVENT
DTSTART;TZID=America/New_York:20240529T170000
DTEND;TZID=America/New_York:20240529T183000
DTSTAMP:20260425T175657
CREATED:20240118T153728Z
LAST-MODIFIED:20260319T205929Z
UID:10001303-1717002000-1717007400@diosohio.org
SUMMARY:Cincinnati LGBTQIA+ Affinity Group gathering
DESCRIPTION:Cincinnati-area Episcopal LGBTQIA+ individuals\, friends and allies gather for happy hour on the last Wednesday of the month (except March and December) at Queen City Exchange. \nAll are welcome to attend this Happy Hour and planning meeting for our LGBTQ+ Network events! Join us for light appetizers and beverages (alcoholic and non-alcoholic drinks available)
URL:https://diosohio.org/event/lgbtqia-affinity-group-gathering/2024-05-29/
LOCATION:Queen City Exchange\, 32 W Court Street\, Cincinnati\, OH\, 45202\, United States
CATEGORIES:LGBTQ+ Ministry,Pride
ATTACH;FMTTYPE=image/jpeg:https://diosohio.org/wp-content/uploads/2024/01/inclusive-pride-flag_507x507.jpeg
END:VEVENT
BEGIN:VEVENT
DTSTART;TZID=America/New_York:20240513T190000
DTEND;TZID=America/New_York:20240513T200000
DTSTAMP:20260425T175657
CREATED:20240430T154237Z
LAST-MODIFIED:20240513T151929Z
UID:10001472-1715626800-1715630400@diosohio.org
SUMMARY:Affirming Congregations - POSTPONED
DESCRIPTION:Due to illness\, this Zoom presentation has been postponed until Monday\, May 20 at 7 p.m. Anyone who has previously registered has been automatically registered for the rescheduled meeting. \nIn the Episcopal Church\, we say that all are welcome\, but what does it mean to actually be an affirming congregation? Join us for a conversation about how congregations can be affirming\, safe places for all of God’s children\, and what work your congregation may need to do to get there. \nRegister in advance for this meeting at https://us02web.zoom.us/meeting/register/tZYlf-Ghpj4jH9LtY9PXjNWbdffG3THa-36Q \nAfter registering\, you will receive a confirmation email containing information about joining the meeting. \n*This conversation may also be helpful for anyone planning to volunteer at Pride.
URL:https://diosohio.org/event/affirming-congregations/
CATEGORIES:LGBTQ+ Ministry,Pride
ATTACH;FMTTYPE=image/jpeg:https://diosohio.org/wp-content/uploads/2024/04/All-are-welcome-here-e1714504558741.jpg
END:VEVENT
BEGIN:VEVENT
DTSTART;TZID=America/New_York:20240424T170000
DTEND;TZID=America/New_York:20240424T183000
DTSTAMP:20260425T175657
CREATED:20240118T153728Z
LAST-MODIFIED:20260319T205929Z
UID:10001302-1713978000-1713983400@diosohio.org
SUMMARY:Cincinnati LGBTQIA+ Affinity Group gathering
DESCRIPTION:Cincinnati-area Episcopal LGBTQIA+ individuals\, friends and allies gather for happy hour on the last Wednesday of the month (except March and December) at Queen City Exchange. \nAll are welcome to attend this Happy Hour and planning meeting for our LGBTQ+ Network events! Join us for light appetizers and beverages (alcoholic and non-alcoholic drinks available)
URL:https://diosohio.org/event/lgbtqia-affinity-group-gathering/2024-04-24/
LOCATION:Queen City Exchange\, 32 W Court Street\, Cincinnati\, OH\, 45202\, United States
CATEGORIES:LGBTQ+ Ministry,Pride
ATTACH;FMTTYPE=image/jpeg:https://diosohio.org/wp-content/uploads/2024/01/inclusive-pride-flag_507x507.jpeg
END:VEVENT
BEGIN:VEVENT
DTSTART;TZID=America/New_York:20240228T170000
DTEND;TZID=America/New_York:20240228T183000
DTSTAMP:20260425T175657
CREATED:20240118T153728Z
LAST-MODIFIED:20260319T205929Z
UID:10001300-1709139600-1709145000@diosohio.org
SUMMARY:Cincinnati LGBTQIA+ Affinity Group gathering
DESCRIPTION:Cincinnati-area Episcopal LGBTQIA+ individuals\, friends and allies gather for happy hour on the last Wednesday of the month (except March and December) at Queen City Exchange. \nAll are welcome to attend this Happy Hour and planning meeting for our LGBTQ+ Network events! Join us for light appetizers and beverages (alcoholic and non-alcoholic drinks available)
URL:https://diosohio.org/event/lgbtqia-affinity-group-gathering/2024-02-28/
LOCATION:Queen City Exchange\, 32 W Court Street\, Cincinnati\, OH\, 45202\, United States
CATEGORIES:LGBTQ+ Ministry,Pride
ATTACH;FMTTYPE=image/jpeg:https://diosohio.org/wp-content/uploads/2024/01/inclusive-pride-flag_507x507.jpeg
END:VEVENT
BEGIN:VEVENT
DTSTART;TZID=America/New_York:20240227T063000
DTEND;TZID=America/New_York:20240227T200000
DTSTAMP:20260425T175657
CREATED:20240205T180338Z
LAST-MODIFIED:20240205T192725Z
UID:10001335-1709015400-1709064000@diosohio.org
SUMMARY:Pride planning kick-off meeting
DESCRIPTION:The Episcopal Church has a legacy of inclusion\, aspiring to tell and exemplify God’s love for every human being. The Diocese of Southern Ohio is committed to providing a significant presence of The Episcopal Church at Pride celebrations in our communities. Across the region\, we sponsor festivals and booths\, march in parades\, and hold Pride Masses. \nPlanning for Pride will begin with a kick-off meeting on Tuesday\, February 27 at 6:30 p.m. Anyone who is interested in being a part of an Episcopal Church presence at a Pride festival in your community is encouraged to attend. We will use this time to learn general information about Pride festivals around the diocese and organize and break into local cohorts to continue planning on the local level. \nRegister in advance for this meeting at https://us02web.zoom.us/meeting/register/tZYkcO6qrz0uGtBsjVDyM9LHAPumV32IMTwK. After registering\, you will receive a confirmation email containing information about joining the meeting. \nContact Julie Murray\, canon for communications and community engagement\, for questions or more information.
URL:https://diosohio.org/event/pride-planning-kick-off-meeting/
CATEGORIES:LGBTQ+ Ministry,Pride
ATTACH;FMTTYPE=image/png:https://diosohio.org/wp-content/uploads/2023/03/default-featured-image.png
END:VEVENT
BEGIN:VEVENT
DTSTART;TZID=America/New_York:20240131T170000
DTEND;TZID=America/New_York:20240131T183000
DTSTAMP:20260425T175657
CREATED:20240118T153728Z
LAST-MODIFIED:20260319T205929Z
UID:10001299-1706720400-1706725800@diosohio.org
SUMMARY:Cincinnati LGBTQIA+ Affinity Group gathering
DESCRIPTION:Cincinnati-area Episcopal LGBTQIA+ individuals\, friends and allies gather for happy hour on the last Wednesday of the month (except March and December) at Queen City Exchange. \nAll are welcome to attend this Happy Hour and planning meeting for our LGBTQ+ Network events! Join us for light appetizers and beverages (alcoholic and non-alcoholic drinks available)
URL:https://diosohio.org/event/lgbtqia-affinity-group-gathering/2024-01-31/
LOCATION:Queen City Exchange\, 32 W Court Street\, Cincinnati\, OH\, 45202\, United States
CATEGORIES:LGBTQ+ Ministry,Pride
ATTACH;FMTTYPE=image/jpeg:https://diosohio.org/wp-content/uploads/2024/01/inclusive-pride-flag_507x507.jpeg
END:VEVENT
BEGIN:VEVENT
DTSTART;TZID=America/New_York:20230819T100000
DTEND;TZID=America/New_York:20230819T140000
DTSTAMP:20260425T175657
CREATED:20230515T184206Z
LAST-MODIFIED:20230515T184206Z
UID:10000712-1692439200-1692453600@diosohio.org
SUMMARY:First Capital Pride (Chillicothe)
DESCRIPTION:Pride Festival\, Walk and Resource Fair\nSaturday\, August 19\, 2023\n10 a.m. to 2 p.m. at Yoctangee Park. Learn more here.
URL:https://diosohio.org/event/first-capital-pride-chillicothe/
CATEGORIES:Pride
ATTACH;FMTTYPE=image/png:https://diosohio.org/wp-content/uploads/2023/03/default-featured-image.png
END:VEVENT
BEGIN:VEVENT
DTSTART;TZID=America/New_York:20230628T170000
DTEND;TZID=America/New_York:20230628T183000
DTSTAMP:20260425T175657
CREATED:20230531T171911Z
LAST-MODIFIED:20230531T172709Z
UID:10000720-1687971600-1687977000@diosohio.org
SUMMARY:LGBTQ+ Happy Hour
DESCRIPTION:Episcopal LBGTQ+ Happy Hour at Queen City Exchange \n32 W. Court Street (Downtown business district) \nWednesday\, June 28\n5 to 6:30 p.m. \nEpiscopal LBGTQ+ folks and allies are invited to the first Episcopal LBGTQ+ Happy Hour at Queen City Exchange. Come for fellowship and to meet new people. All are welcome!
URL:https://diosohio.org/event/lgbtq-happy-hour/
LOCATION:Queen City Exchange\, 32 W Court Street\, Cincinnati\, OH\, 45202\, United States
CATEGORIES:Pride
ATTACH;FMTTYPE=image/png:https://diosohio.org/wp-content/uploads/2023/03/default-featured-image.png
END:VEVENT
BEGIN:VEVENT
DTSTART;TZID=America/New_York:20230625T170000
DTEND;TZID=America/New_York:20230625T190000
DTSTAMP:20260425T175657
CREATED:20230505T143418Z
LAST-MODIFIED:20230620T204307Z
UID:10000705-1687712400-1687719600@diosohio.org
SUMMARY:Pride Eucharist
DESCRIPTION:Pride represents a joyous time of celebrating the vast and beautiful array of God’s creation\, made manifest in LGBTQ+ individuals and communities. Join us for a Pride Service with Eucharist on Sunday\, June 25 at 5 p.m. The Rev. Olivia Hamilton\, preaching\, the Rt. Rev. Nedi Rivera\, presiding. Potluck meal to follow. Please bring a dish to share! \nSponsored by Christ Church Cathedral and the Diocese of Southern Ohio. \n\nJoin Christ Church Cathedral for a Pride Service with Eucharist on Sunday\, June 25 at 5 p.m. The Rev. Olivia Hamilton of Calvary\, Clifton will preach and the Rt. Rev. Nedi Rivera will preside. Clergy are invited to vest for the service.\nThere will be a 3 p.m. rehearsal for the choir — all are welcome to join in and sing with the cathedral choir\nA 6:15 p.m. potluck supper will follow. Please bring a dish to share.
URL:https://diosohio.org/event/pride-mass-2/
LOCATION:Christ Church Cathedral Cincinnati\, 318 E 4th St\, Cincinnati\, OH\, 45202-4202\, US
CATEGORIES:Pride
ATTACH;FMTTYPE=image/png:https://diosohio.org/wp-content/uploads/2023/03/default-featured-image.png
END:VEVENT
BEGIN:VEVENT
DTSTART;TZID=America/New_York:20230624T170000
DTEND;TZID=America/New_York:20230624T210000
DTSTAMP:20260425T175657
CREATED:20230510T153627Z
LAST-MODIFIED:20230510T154127Z
UID:10000708-1687626000-1687640400@diosohio.org
SUMMARY:Granville Pride
DESCRIPTION:Granville Pride \nParade begins at 5 p.m. and marches through the village. Post-parade festival begins at 6 p.m. at Denison’s Lamson Lodge. Learn more here. Sign up to be a part of the Episcopal Church presence at Pride here.
URL:https://diosohio.org/event/granville-pride/
CATEGORIES:Pride
ATTACH;FMTTYPE=image/png:https://diosohio.org/wp-content/uploads/2023/03/default-featured-image.png
END:VEVENT
BEGIN:VEVENT
DTSTART;TZID=America/New_York:20230624T120000
DTEND;TZID=America/New_York:20230624T210000
DTSTAMP:20260425T175657
CREATED:20230505T143759Z
LAST-MODIFIED:20230505T143759Z
UID:10000707-1687608000-1687640400@diosohio.org
SUMMARY:Zanesville Pride
DESCRIPTION:Zanesville Pride \nJune 24\, 2023\n12 to 9 p.m.\nZane’s Landing Park. Learn more here. Sign up to be a part of the Episcopal Church presence at Pride here.
URL:https://diosohio.org/event/zanesville-pride/
CATEGORIES:Pride
ATTACH;FMTTYPE=image/png:https://diosohio.org/wp-content/uploads/2023/03/default-featured-image.png
END:VEVENT
BEGIN:VEVENT
DTSTART;TZID=America/New_York:20230624T110000
DTEND;TZID=America/New_York:20230624T210000
DTSTAMP:20260425T175657
CREATED:20230505T143618Z
LAST-MODIFIED:20230620T204228Z
UID:10000706-1687604400-1687640400@diosohio.org
SUMMARY:Cincinnati Pride
DESCRIPTION:The parade steps off downtown at 11 a.m. The parade route begins at 7th & Plum\, travels down Vine Street past Fountain Square and ends at the Cincinnati Pride Festival at Sawyer Point & Yeatman’s Cove. Festival hours are 12 to 9 p.m. Learn more here. Sign up to be a part of the Episcopal Church presence at Pride here. \nThere are several opportunities to participate in Cincinnati Pride events: \nFriday June 23 5 to 8 p.m.: Float Trailer decoration \nMooney-Bullock Farm 5614 Winton Ridge Ln. Cincinnati\, OH 45232 \n\nThe diocese\, with support from Christ Church Cathedral\, will be entering a float in the parade. Help decorate the float — there will be pizza!\n\nSaturday June 24 starting at 10:15 a.m.: Diocesan Parade Float   \nRed line\, float 37 \n\nCongregations are welcome and encouraged to walk and bring church banners\, wear your church t-shirts or hats\, and other gear\, and be a large presence in the parade as a group. There will be water available for parade participants.\nIf your church is bringing a large delegation there is no need to have everyone sign up\, but if one person could sign up and put the expected number in the “note to organizers” section\, it would be most appreciated.\nDownload logistical information and a map.\n\nSaturday\, June 24 from 12 p.m. to 8 p.m.: Pride Festival \nSawyer Point \n\nCongregations are invited to bring materials from their church for the diocesan booth. There will also be fun giveaways. Learn more about the festival.\n\nSunday\, June 25 at 5 p.m.: Pride Eucharist \nChrist Church Cathedral \n\nJoin Christ Church Cathedral for a Pride Service with Eucharist on Sunday\, June 25 at 5 p.m. The Rev. Olivia Hamilton of Calvary\, Clifton will preach and the Rt. Rev. Nedi Rivera will preside. Clergy are invited to vest for the service.\nThere will be a 3 p.m. rehearsal for the choir — all are welcome to join in and sing with the cathedral choir\nA 6:15 p.m. potluck supper will follow. Please bring a dish to share.\n\nWednesday\, June 28: LGBTQIA+ Happy Hour \nQueen City Exchange – 32 West Court Street Cincinnati\, OH 45202 \n\nAppetizers will be provided\nAlcoholic and non-alcoholic beverages for sale
URL:https://diosohio.org/event/cincinnati-pride/
CATEGORIES:Pride
ATTACH;FMTTYPE=image/png:https://diosohio.org/wp-content/uploads/2023/03/default-featured-image.png
END:VEVENT
BEGIN:VEVENT
DTSTART;VALUE=DATE:20230623
DTEND;VALUE=DATE:20230626
DTSTAMP:20260425T175657
CREATED:20230620T185926Z
LAST-MODIFIED:20230620T185926Z
UID:10000724-1687478400-1687737599@diosohio.org
SUMMARY:Springfield Pride
DESCRIPTION:June 23-25\, 2023\n\n \n\nLearn more on the Equality Springfield website and the Springfield News-Sun. Sign up to be a part of the Episcopal Church presence at Pride here.
URL:https://diosohio.org/event/springfield-pride/
CATEGORIES:Pride
ATTACH;FMTTYPE=image/png:https://diosohio.org/wp-content/uploads/2023/03/default-featured-image.png
END:VEVENT
BEGIN:VEVENT
DTSTART;TZID=America/New_York:20230617T103000
DTEND;TZID=America/New_York:20230617T200000
DTSTAMP:20260425T175657
CREATED:20230505T143222Z
LAST-MODIFIED:20230505T143222Z
UID:10000704-1686997800-1687032000@diosohio.org
SUMMARY:Stonewall Columbus Pride
DESCRIPTION:Stonewall Columbus Pride \nJune 16\, 4 to 10 p.m.\nJune 17\, 11 a.m. to 8 p.m. \nThe Pride March steps off at 10:30 a.m. at Broad & High Streets. The Pride Festival and Resource Fair is held at Goodale Park. Learn more here. \nSign up to be a part of the Episcopal Church presence at Pride here.
URL:https://diosohio.org/event/stonewall-columbus-pride/2023-06-17/
CATEGORIES:Pride
ATTACH;FMTTYPE=image/png:https://diosohio.org/wp-content/uploads/2023/03/default-featured-image.png
END:VEVENT
BEGIN:VEVENT
DTSTART;TZID=America/New_York:20230616T160000
DTEND;TZID=America/New_York:20230616T220000
DTSTAMP:20260425T175657
CREATED:20230505T143222Z
LAST-MODIFIED:20230505T143222Z
UID:10000703-1686931200-1686952800@diosohio.org
SUMMARY:Stonewall Columbus Pride
DESCRIPTION:Stonewall Columbus Pride \nJune 16\, 4 to 10 p.m.\nJune 17\, 11 a.m. to 8 p.m. \nThe Pride March steps off at 10:30 a.m. at Broad & High Streets. The Pride Festival and Resource Fair is held at Goodale Park. Learn more here. \nSign up to be a part of the Episcopal Church presence at Pride here.
URL:https://diosohio.org/event/stonewall-columbus-pride/2023-06-16/
CATEGORIES:Pride
ATTACH;FMTTYPE=image/png:https://diosohio.org/wp-content/uploads/2023/03/default-featured-image.png
END:VEVENT
BEGIN:VEVENT
DTSTART;TZID=America/New_York:20230615T173000
DTEND;TZID=America/New_York:20230615T203000
DTSTAMP:20260425T175657
CREATED:20230504T141436Z
LAST-MODIFIED:20230613T190420Z
UID:10000697-1686850200-1686861000@diosohio.org
SUMMARY:Pride Mass (reception 5:30 p.m.\, service 6:30 p.m.)
DESCRIPTION:Columbus Pride Mass at Trinity on Capitol Square. Reception begins at 5:30 p.m.; service is at 6:30 p.m.
URL:https://diosohio.org/event/pride-mass/
LOCATION:Trinity Capitol Square\, 125 E Broad St\, Columbus\, OH\, 43215-3605\, US
CATEGORIES:Pride
ATTACH;FMTTYPE=image/png:https://diosohio.org/wp-content/uploads/2023/03/default-featured-image.png
END:VEVENT
BEGIN:VEVENT
DTSTART;TZID=America/New_York:20230611T200000
DTEND;TZID=America/New_York:20230611T220000
DTSTAMP:20260425T175657
CREATED:20230522T195303Z
LAST-MODIFIED:20230525T185202Z
UID:10000717-1686513600-1686520800@diosohio.org
SUMMARY:Light the World with Love
DESCRIPTION:St. John’s\, Worthington\, will host an outdoor light show June 9-11 in celebration of PRIDE. \nWhat: Light the World with Love – Light show\, with live performances by the Worthington Chorus and St. John’s Choir. Kona Ice (Friday and Saturday) and Chill Joy Frozen Treats (Sunday)\nWhere: St. John’s Episcopal Church\, 700 High Street\, Worthington\, OH\, near the SE Green\nWhen: June 9\,10\,11 from 8 to 10 p.m.\n \n 
URL:https://diosohio.org/event/light-the-world-with-love/2023-06-11/
LOCATION:St John’s Worthington\, 700 High St\, Worthington\, OH\, 43085-4137\, US
CATEGORIES:Community,Pride
ATTACH;FMTTYPE=image/png:https://diosohio.org/wp-content/uploads/2023/03/default-featured-image.png
END:VEVENT
BEGIN:VEVENT
DTSTART;TZID=America/New_York:20230611T130000
DTEND;TZID=America/New_York:20230611T170000
DTSTAMP:20260425T175657
CREATED:20230505T142739Z
LAST-MODIFIED:20230524T170619Z
UID:10000702-1686488400-1686502800@diosohio.org
SUMMARY:Upper Arlington Pride
DESCRIPTION:UA Pride \nJune 11\, 2013\n1 to 5 p.m.\nThe Festival is held at Sunny 95 Park. Learn more here. Sign up to be a part of the Episcopal Church presence at Pride here.
URL:https://diosohio.org/event/upper-arlington-pride/
CATEGORIES:Pride
ATTACH;FMTTYPE=image/png:https://diosohio.org/wp-content/uploads/2023/03/default-featured-image.png
END:VEVENT
BEGIN:VEVENT
DTSTART;TZID=America/New_York:20230610T200000
DTEND;TZID=America/New_York:20230610T220000
DTSTAMP:20260425T175657
CREATED:20230522T195303Z
LAST-MODIFIED:20230525T185202Z
UID:10000716-1686427200-1686434400@diosohio.org
SUMMARY:Light the World with Love
DESCRIPTION:St. John’s\, Worthington\, will host an outdoor light show June 9-11 in celebration of PRIDE. \nWhat: Light the World with Love – Light show\, with live performances by the Worthington Chorus and St. John’s Choir. Kona Ice (Friday and Saturday) and Chill Joy Frozen Treats (Sunday)\nWhere: St. John’s Episcopal Church\, 700 High Street\, Worthington\, OH\, near the SE Green\nWhen: June 9\,10\,11 from 8 to 10 p.m.\n \n 
URL:https://diosohio.org/event/light-the-world-with-love/2023-06-10/
LOCATION:St John’s Worthington\, 700 High St\, Worthington\, OH\, 43085-4137\, US
CATEGORIES:Community,Pride
ATTACH;FMTTYPE=image/png:https://diosohio.org/wp-content/uploads/2023/03/default-featured-image.png
END:VEVENT
BEGIN:VEVENT
DTSTART;TZID=America/New_York:20230610T170000
DTEND;TZID=America/New_York:20230610T220000
DTSTAMP:20260425T175657
CREATED:20230505T142552Z
LAST-MODIFIED:20230505T142552Z
UID:10000701-1686416400-1686434400@diosohio.org
SUMMARY:Westwood Pride
DESCRIPTION:Westwood Pride \nJune 10\, 2023\n5 to 10 p.m.\nWestwood Town Hall. Learn more here. Sign up to be a part of the Episcopal Church presence at Pride here.
URL:https://diosohio.org/event/westwood-pride/
CATEGORIES:Pride
ATTACH;FMTTYPE=image/png:https://diosohio.org/wp-content/uploads/2023/03/default-featured-image.png
END:VEVENT
BEGIN:VEVENT
DTSTART;TZID=America/New_York:20230610T140000
DTEND;TZID=America/New_York:20230610T200000
DTSTAMP:20260425T175657
CREATED:20230524T164550Z
LAST-MODIFIED:20230524T164550Z
UID:10000719-1686405600-1686427200@diosohio.org
SUMMARY:Westerville Pride
DESCRIPTION:Westerville’s 3rd Annual Pride Fest! Visit tables with info on local organizations\, check out local vendors as they feature special Pride themed wares\, and participate in family-friendly events such as a children’s story hour and other performances. St. Matthew’s will host the Episcopal presence. \nLearn more here. Sign up to volunteer here.
URL:https://diosohio.org/event/westerville-pride/
CATEGORIES:Pride
ATTACH;FMTTYPE=image/png:https://diosohio.org/wp-content/uploads/2023/03/default-featured-image.png
END:VEVENT
BEGIN:VEVENT
DTSTART;TZID=America/New_York:20230610T120000
DTEND;TZID=America/New_York:20230610T170000
DTSTAMP:20260425T175657
CREATED:20230510T191334Z
LAST-MODIFIED:20230510T191334Z
UID:10000709-1686398400-1686416400@diosohio.org
SUMMARY:Pride New Albany Market
DESCRIPTION:Pride New Albany Market \nJune 10\, 2023\n12 to 5 p.m. \nThe first Pride New Albany Market! This vibrant market brings Pride New Albany Business Allies (All Saints\, New Albany\, is a an Ally) together to celebrate our inclusive community while highlighting local goods and services for everyone to enjoy. Open to all ages. Bring your furry friends! \nLearn more here.
URL:https://diosohio.org/event/pride-new-albany-market/
CATEGORIES:Pride
ATTACH;FMTTYPE=image/png:https://diosohio.org/wp-content/uploads/2023/03/default-featured-image.png
END:VEVENT
BEGIN:VEVENT
DTSTART;TZID=America/New_York:20230609T200000
DTEND;TZID=America/New_York:20230609T220000
DTSTAMP:20260425T175657
CREATED:20230522T195303Z
LAST-MODIFIED:20230525T185202Z
UID:10000715-1686340800-1686348000@diosohio.org
SUMMARY:Light the World with Love
DESCRIPTION:St. John’s\, Worthington\, will host an outdoor light show June 9-11 in celebration of PRIDE. \nWhat: Light the World with Love – Light show\, with live performances by the Worthington Chorus and St. John’s Choir. Kona Ice (Friday and Saturday) and Chill Joy Frozen Treats (Sunday)\nWhere: St. John’s Episcopal Church\, 700 High Street\, Worthington\, OH\, near the SE Green\nWhen: June 9\,10\,11 from 8 to 10 p.m.\n \n 
URL:https://diosohio.org/event/light-the-world-with-love/2023-06-09/
LOCATION:St John’s Worthington\, 700 High St\, Worthington\, OH\, 43085-4137\, US
CATEGORIES:Community,Pride
ATTACH;FMTTYPE=image/png:https://diosohio.org/wp-content/uploads/2023/03/default-featured-image.png
END:VEVENT
BEGIN:VEVENT
DTSTART;TZID=America/New_York:20230603T110000
DTEND;TZID=America/New_York:20230603T180000
DTSTAMP:20260425T175657
CREATED:20230504T205646Z
LAST-MODIFIED:20230504T205646Z
UID:10000700-1685790000-1685815200@diosohio.org
SUMMARY:Hamilton Pride
DESCRIPTION:Hamilton Ohio Pride\nA march through downtown Hamilton begins at 11 a.m. The Festival will be held from 12 to 6 p.m. at Marcum Park. Learn more here. Sign up to be a part of the Episcopal Church presence at Pride here.
URL:https://diosohio.org/event/hamilton-pride/
CATEGORIES:Pride
ATTACH;FMTTYPE=image/png:https://diosohio.org/wp-content/uploads/2023/03/default-featured-image.png
END:VEVENT
BEGIN:VEVENT
DTSTART;TZID=America/New_York:20230603T110000
DTEND;TZID=America/New_York:20230603T160000
DTSTAMP:20260425T175657
CREATED:20230504T195630Z
LAST-MODIFIED:20230504T200022Z
UID:10000698-1685790000-1685808000@diosohio.org
SUMMARY:Dayton Pride
DESCRIPTION:Dayton Pride\nJune 3\, 2023\n12 to 4 p.m. \nThe parade steps off at 11 a.m. at Cooper Park\, winds through downtown and ends at the Pride Festival at Courthouse Square. Learn more here. Sign up to be a part of the Episcopal Church presence at Pride here.
URL:https://diosohio.org/event/dayton-pride/
CATEGORIES:Pride
ATTACH;FMTTYPE=image/png:https://diosohio.org/wp-content/uploads/2023/03/default-featured-image.png
END:VEVENT
BEGIN:VEVENT
DTSTART;TZID=America/New_York:20230603T100000
DTEND;TZID=America/New_York:20230603T170000
DTSTAMP:20260425T175657
CREATED:20230504T195952Z
LAST-MODIFIED:20230504T195952Z
UID:10000699-1685786400-1685811600@diosohio.org
SUMMARY:Delaware Pride
DESCRIPTION:Delaware Ohio Pride Festival\nJune 3\, 2023\n10 a.m. to 5 p.m.\nBoardman Park\nLearn more here. Sign up to be a part of the Episcopal Church presence at Pride here.
URL:https://diosohio.org/event/delaware-pride/
CATEGORIES:Pride
ATTACH;FMTTYPE=image/png:https://diosohio.org/wp-content/uploads/2023/03/default-featured-image.png
END:VEVENT
END:VCALENDAR