BEGIN:VCALENDAR
VERSION:2.0
PRODID:-//Diocese of Southern Ohio - ECPv6.15.20//NONSGML v1.0//EN
CALSCALE:GREGORIAN
METHOD:PUBLISH
X-WR-CALNAME:Diocese of Southern Ohio
X-ORIGINAL-URL:https://diosohio.org
X-WR-CALDESC:Events for Diocese of Southern Ohio
REFRESH-INTERVAL;VALUE=DURATION:PT1H
X-Robots-Tag:noindex
X-PUBLISHED-TTL:PT1H
BEGIN:VTIMEZONE
TZID:America/New_York
BEGIN:DAYLIGHT
TZOFFSETFROM:-0500
TZOFFSETTO:-0400
TZNAME:EDT
DTSTART:20250309T070000
END:DAYLIGHT
BEGIN:STANDARD
TZOFFSETFROM:-0400
TZOFFSETTO:-0500
TZNAME:EST
DTSTART:20251102T060000
END:STANDARD
BEGIN:DAYLIGHT
TZOFFSETFROM:-0500
TZOFFSETTO:-0400
TZNAME:EDT
DTSTART:20260308T070000
END:DAYLIGHT
BEGIN:STANDARD
TZOFFSETFROM:-0400
TZOFFSETTO:-0500
TZNAME:EST
DTSTART:20261101T060000
END:STANDARD
BEGIN:DAYLIGHT
TZOFFSETFROM:-0500
TZOFFSETTO:-0400
TZNAME:EDT
DTSTART:20270314T070000
END:DAYLIGHT
BEGIN:STANDARD
TZOFFSETFROM:-0400
TZOFFSETTO:-0500
TZNAME:EST
DTSTART:20271107T060000
END:STANDARD
END:VTIMEZONE
BEGIN:VEVENT
DTSTART;VALUE=DATE:20260405
DTEND;VALUE=DATE:20260406
DTSTAMP:20260424T144648
CREATED:20251010T183652Z
LAST-MODIFIED:20251010T184419Z
UID:10002599-1775347200-1775433599@diosohio.org
SUMMARY:Bishop White: Easter Sunday
DESCRIPTION:Bishop White visits Christ Church Cathedral Easter Sunday
URL:https://diosohio.org/event/bishop-white-easter-sunday/
LOCATION:Christ Church Cathedral Cincinnati\, 318 E 4th St\, Cincinnati\, OH\, 45202-4202\, US
CATEGORIES:Bishop
ATTACH;FMTTYPE=image/png:https://diosohio.org/wp-content/uploads/2023/03/default-featured-image.png
END:VEVENT
BEGIN:VEVENT
DTSTART;VALUE=DATE:20260407
DTEND;VALUE=DATE:20260418
DTSTAMP:20260424T144648
CREATED:20251217T171133Z
LAST-MODIFIED:20260319T145632Z
UID:10002712-1775520000-1776470399@diosohio.org
SUMMARY:Immersive Liturgical Spanish Course
DESCRIPTION:Clergy and lay worship leaders will join our missioner for Latino ministries\, the Rev. Gerardo Romo Garcia\, for a ten-day immersion course to grow in skill and confidence in leading worship and proclaiming the Gospel in Spanish. \nWith colleagues in the Anglican Diocese of Mexico\, participants will learn pronunciation\, vocabulary\, and practice leading the Daily Office and offering sacraments (according to the participants’ order of ministry). \nQuestions about this event?\nContact the Rev. Gerardo Romo Garcia\, missioner for Latino ministries\, at gromo@diosohio.org.
URL:https://diosohio.org/event/immersive-liturgical-spanish-course/
LOCATION:Anglican Diocese of Mexico Conference Center\, La Otra Banda 40\, Loreto\, Mexico City\, 01090\, Mexico
CATEGORIES:Diocese,Latino Ministries
ATTACH;FMTTYPE=image/png:https://diosohio.org/wp-content/uploads/2025/12/Immersion-Course-e1765991592930.png
END:VEVENT
BEGIN:VEVENT
DTSTART;TZID=America/New_York:20260407T180000
DTEND;TZID=America/New_York:20260407T193000
DTSTAMP:20260424T144648
CREATED:20260309T154207Z
LAST-MODIFIED:20260309T154207Z
UID:10002878-1775584800-1775590200@diosohio.org
SUMMARY:African Americans and the Bible Book Study
DESCRIPTION:Tuesdays in April from 6-7:30 pm on Zoom\nJoin the Episcopal Diocese of Southern Ohio this April for an engaging and transformative formation opportunity: African Americans and the Bible. \nThis four-week study invites participants into a deeper understanding of the historical and cultural relationship between African Americans and Holy Scripture. Grounded in The Talking Book by Allen Dwight Callahan\, this course explores how African Americans encountered\, interpreted\, proclaimed\, and embodied the Bible in the midst of enslavement and the ongoing struggle for freedom and dignity. \nFor generations\, the Bible has been more than a sacred text in African American communities—it has been a source of hope\, resistance\, identity\, spiritual wrestling\, and spiritual power. Together\, we will examine how this “talking book” has shaped faith\, worship\, preaching\, and public witness. Participants will gain a richer appreciation for Scripture as it has been read and lived through the cultural lens of African Americans\, broadening and deepening their own engagement with the Word of God. \nWhether you are clergy\, a lay leader\, or someone seeking to grow in faith and understanding\, this study offers space for learning\, reflection\, and meaningful conversation. Come ready to listen\, to learn\, and to encounter the Bible anew. We look forward to walking this journey together. \n\nQuestions about this event and program?\n\nContact the Rev. Aaron Rogers\, missioner for Black ministries\, at arogers@diosohio.org. \nRegistration \nThere is no cost for this program and no deadline to register. The first ten people to register will receive a complimentary copy of The Talking Book by Dr. Callahan. \nREGISTER HERE
URL:https://diosohio.org/event/african-americans-and-the-bible-book-study/2026-04-07/
CATEGORIES:Black Ministries
ATTACH;FMTTYPE=image/png:https://diosohio.org/wp-content/uploads/2026/02/aa-bible-2026.png
END:VEVENT
BEGIN:VEVENT
DTSTART;TZID=America/New_York:20260408T100000
DTEND;TZID=America/New_York:20260408T110000
DTSTAMP:20260424T144648
CREATED:20260130T202138Z
LAST-MODIFIED:20260130T202138Z
UID:10002840-1775642400-1775646000@diosohio.org
SUMMARY:Parish Administrators Network
DESCRIPTION:A monthly Zoom call to bring together those who are tasked with the administration of a church\, both paid and volunteer. The group meets monthly to share information and best practices\, and to be a source of collegiality and support to those who often work alone. \nRegister in advance for this meeting:\nhttps://us02web.zoom.us/meeting/register/8fSZiO3kRBKvVUforHjgrQ \nAfter registering\, you will receive a confirmation email from Zoom containing information about joining the meeting. \nIf you have questions about this gathering\, please contact Julie Murray\, canon for community engagement\, at jmurray@diosohio.org.
URL:https://diosohio.org/event/parish-administrators-network/2026-04-08/
CATEGORIES:Meeting
ATTACH;FMTTYPE=image/png:https://diosohio.org/wp-content/uploads/2023/03/default-featured-image.png
END:VEVENT
BEGIN:VEVENT
DTSTART;TZID=America/New_York:20260409T180000
DTEND;TZID=America/New_York:20260409T193000
DTSTAMP:20260424T144648
CREATED:20260206T180526Z
LAST-MODIFIED:20260206T180526Z
UID:10002853-1775757600-1775763000@diosohio.org
SUMMARY:Columbus-area LGBTQ+ Affinity Group gathering: Poetry Evening
DESCRIPTION:Join us for a lively exploration and discussion of the poetry collection 44 Poems on Being with Each Other (2025) by Pádraig Ó Tuama. Please feel free to bring a snack or beverage (non-alcoholic) to share. \nLocation: meeting room of the Columbus Metropolitan Library—Franklinton Branch (1061 W Town St\, Columbus OH 43222) \nAbout the Author: Pádraig Ó Tuama is an Irish poet\, theologian\, and conflict mediator who presents the podcast Poetry Unbound. \nAbout the Text: With an observant eye\, Pádraig Ó Tuama shares an enlightening meditation on each poem\, revealing the ways we relate to each other\, the world around us\, and ourselves. Blending humor with insight\, tension with tenderness\, complexity with care\, 44 Poems on Being with Each Other articulates the power of poetry itself. Through careful and incisive readings\, it illuminates aspects of the human condition\, particularly the ways we are inextricably linked to each other\, and provides inspiration for grounded self-reflection. It is an anthology that will delight readers\, just as Pádraig’s podcast has done for millions around the world.
URL:https://diosohio.org/event/columbus-area-lgbtq-affinity-group-gathering-apr-2026/
LOCATION:Columbus Metropolitan Library—Franklinton Branch\, 1061 W Town St\, Columbus\, 43222\, United States
CATEGORIES:LGBTQ+ Ministry
ATTACH;FMTTYPE=image/png:https://diosohio.org/wp-content/uploads/2025/04/DSO_Pride_SHIELD_thumbnail.png
ORGANIZER;CN="Columbus-area LGBTQ+ Affinity Group":MAILTO:lgbtq-columbus@diosohio.org
END:VEVENT
END:VCALENDAR