BEGIN:VCALENDAR
VERSION:2.0
PRODID:-//Diocese of Southern Ohio - ECPv6.15.20//NONSGML v1.0//EN
CALSCALE:GREGORIAN
METHOD:PUBLISH
X-WR-CALNAME:Diocese of Southern Ohio
X-ORIGINAL-URL:https://diosohio.org
X-WR-CALDESC:Events for Diocese of Southern Ohio
REFRESH-INTERVAL;VALUE=DURATION:PT1H
X-Robots-Tag:noindex
X-PUBLISHED-TTL:PT1H
BEGIN:VTIMEZONE
TZID:America/New_York
BEGIN:DAYLIGHT
TZOFFSETFROM:-0500
TZOFFSETTO:-0400
TZNAME:EDT
DTSTART:20250309T070000
END:DAYLIGHT
BEGIN:STANDARD
TZOFFSETFROM:-0400
TZOFFSETTO:-0500
TZNAME:EST
DTSTART:20251102T060000
END:STANDARD
BEGIN:DAYLIGHT
TZOFFSETFROM:-0500
TZOFFSETTO:-0400
TZNAME:EDT
DTSTART:20260308T070000
END:DAYLIGHT
BEGIN:STANDARD
TZOFFSETFROM:-0400
TZOFFSETTO:-0500
TZNAME:EST
DTSTART:20261101T060000
END:STANDARD
BEGIN:DAYLIGHT
TZOFFSETFROM:-0500
TZOFFSETTO:-0400
TZNAME:EDT
DTSTART:20270314T070000
END:DAYLIGHT
BEGIN:STANDARD
TZOFFSETFROM:-0400
TZOFFSETTO:-0500
TZNAME:EST
DTSTART:20271107T060000
END:STANDARD
END:VTIMEZONE
BEGIN:VEVENT
DTSTART;VALUE=DATE:20260510
DTEND;VALUE=DATE:20260511
DTSTAMP:20260425T083200
CREATED:20251010T184550Z
LAST-MODIFIED:20251010T184550Z
UID:10002602-1778371200-1778457599@diosohio.org
SUMMARY:Bishop White visitation: St. George's\, Dayton
DESCRIPTION:Bishop White’s episcopal visitation at St. George’s\, Dayton
URL:https://diosohio.org/event/bishop-white-visitation-st-georges-dayton/
LOCATION:St George’s Dayton\, 5520 Far Hills Ave\, Dayton\, OH\, 45429-2204\, US
CATEGORIES:Bishop
ATTACH;FMTTYPE=image/png:https://diosohio.org/wp-content/uploads/2023/03/default-featured-image.png
END:VEVENT
BEGIN:VEVENT
DTSTART;TZID=America/New_York:20260513T100000
DTEND;TZID=America/New_York:20260513T110000
DTSTAMP:20260425T083200
CREATED:20260130T202138Z
LAST-MODIFIED:20260130T202138Z
UID:10002841-1778666400-1778670000@diosohio.org
SUMMARY:Parish Administrators Network
DESCRIPTION:A monthly Zoom call to bring together those who are tasked with the administration of a church\, both paid and volunteer. The group meets monthly to share information and best practices\, and to be a source of collegiality and support to those who often work alone. \nRegister in advance for this meeting:\nhttps://us02web.zoom.us/meeting/register/8fSZiO3kRBKvVUforHjgrQ \nAfter registering\, you will receive a confirmation email from Zoom containing information about joining the meeting. \nIf you have questions about this gathering\, please contact Julie Murray\, canon for community engagement\, at jmurray@diosohio.org.
URL:https://diosohio.org/event/parish-administrators-network/2026-05-13/
CATEGORIES:Meeting
ATTACH;FMTTYPE=image/png:https://diosohio.org/wp-content/uploads/2023/03/default-featured-image.png
END:VEVENT
BEGIN:VEVENT
DTSTART;TZID=America/New_York:20260514T180000
DTEND;TZID=America/New_York:20260514T193000
DTSTAMP:20260425T083200
CREATED:20260206T180833Z
LAST-MODIFIED:20260206T180833Z
UID:10002854-1778781600-1778787000@diosohio.org
SUMMARY:Columbus-area LGBTQ+ Affinity Group gathering at Slammers
DESCRIPTION:This month we’ll gather at Slammers (bar/pizzeria) to share in conversation and laughter. For the adventuresome\, Thursday Trivia begins at 7pm! \nLocation: Slammers (202 E Long St\, Columbus OH 43215) \nAbout the Venue: Slammers opened in 1993 and is famous for their pizza and fun\, easy-going atmosphere. People of all ages and walks of life enjoy stopping by after work for happy hour specials or spending an evening out with friends.
URL:https://diosohio.org/event/columbus-area-lgbtq-affinity-group-gathering-may-2026/
LOCATION:Slammers\, 202 E Long St\, Columbus\, 43215\, United States
CATEGORIES:LGBTQ+ Ministry
ATTACH;FMTTYPE=image/png:https://diosohio.org/wp-content/uploads/2025/04/DSO_Pride_SHIELD_thumbnail.png
ORGANIZER;CN="Columbus-area LGBTQ+ Affinity Group":MAILTO:lgbtq-columbus@diosohio.org
END:VEVENT
END:VCALENDAR