BEGIN:VCALENDAR
VERSION:2.0
PRODID:-//Diocese of Southern Ohio - ECPv6.15.20//NONSGML v1.0//EN
CALSCALE:GREGORIAN
METHOD:PUBLISH
X-WR-CALNAME:Diocese of Southern Ohio
X-ORIGINAL-URL:https://diosohio.org
X-WR-CALDESC:Events for Diocese of Southern Ohio
REFRESH-INTERVAL;VALUE=DURATION:PT1H
X-Robots-Tag:noindex
X-PUBLISHED-TTL:PT1H
BEGIN:VTIMEZONE
TZID:America/New_York
BEGIN:DAYLIGHT
TZOFFSETFROM:-0500
TZOFFSETTO:-0400
TZNAME:EDT
DTSTART:20220313T070000
END:DAYLIGHT
BEGIN:STANDARD
TZOFFSETFROM:-0400
TZOFFSETTO:-0500
TZNAME:EST
DTSTART:20221106T060000
END:STANDARD
BEGIN:DAYLIGHT
TZOFFSETFROM:-0500
TZOFFSETTO:-0400
TZNAME:EDT
DTSTART:20230312T070000
END:DAYLIGHT
BEGIN:STANDARD
TZOFFSETFROM:-0400
TZOFFSETTO:-0500
TZNAME:EST
DTSTART:20231105T060000
END:STANDARD
BEGIN:DAYLIGHT
TZOFFSETFROM:-0500
TZOFFSETTO:-0400
TZNAME:EDT
DTSTART:20240310T070000
END:DAYLIGHT
BEGIN:STANDARD
TZOFFSETFROM:-0400
TZOFFSETTO:-0500
TZNAME:EST
DTSTART:20241103T060000
END:STANDARD
END:VTIMEZONE
BEGIN:VEVENT
DTSTART;TZID=America/New_York:20230801T120000
DTEND;TZID=America/New_York:20230801T130000
DTSTAMP:20260425T071508
CREATED:20230626T185329Z
LAST-MODIFIED:20230721T155344Z
UID:10000899-1690891200-1690894800@diosohio.org
SUMMARY:Dismantling Racism Training (August 1\, 2\, 3\, 8\, 9\, 10 at 12 p.m.)
DESCRIPTION:Dismantling Racism trainings \nUsing Picture Books for Racial Healing: A Dismantling Racism certification course \nPicture books offer an excellent way to discover\, discuss\, and share stories about topics that many people did not study in school but that are crucial to the work of repairing\, healing\, and seeing God in each other. \nTrainings\, which are limited to 20 participants\, will take place: \n\nAugust (1\, 2\, 3\, 8\, 9\, 10 from 12 to 1 p.m.) Sign up here.\nAugust (13\, 23\, 30 from 6:30 to 8:30 p.m.). Registration closed (session is full).\nSeptember (12\, 19\, 26 from 6 to 8 p.m.). Sign up here.\nOctober (10\, 17\, 24 from 6 to 8 p.m.). Sign up here.\nNovember (1\, 8\, 15 from 1 to 3 p.m.). Sign up here.\n\nEmail Director of Dismantling Racism Miriam McKenney to learn more.
URL:https://diosohio.org/event/dismantling-racism-training-august-1-2-3-8-9-10-at-12-p-m/2023-08-01/
LOCATION:Zoom\, OH\, United States
CATEGORIES:Becoming Beloved Community,Dismantling Racism Training,Training
ATTACH;FMTTYPE=image/png:https://diosohio.org/wp-content/uploads/2023/03/default-featured-image.png
END:VEVENT
BEGIN:VEVENT
DTSTART;TZID=America/New_York:20230615T120000
DTEND;TZID=America/New_York:20230615T130000
DTSTAMP:20260425T071508
CREATED:20230408T005335Z
LAST-MODIFIED:20230626T185405Z
UID:10000185-1686830400-1686834000@diosohio.org
SUMMARY:Dismantling Racism Training (June)
DESCRIPTION:Using Picture Books for Racial Healing: A Dismantling Racism certification course \nPicture books offer an excellent way to discover\, discuss\, and share stories about topics that many people did not study in school but that are crucial to the work of repairing\, healing\, and seeing God in each other. \nEmail Director of Dismantling Racism Miriam McKenney to learn more.
URL:https://diosohio.org/event/dismantling-racism-training-june/2023-06-15/
CATEGORIES:Becoming Beloved Community,Dismantling Racism Training,Training
ATTACH;FMTTYPE=image/png:https://diosohio.org/wp-content/uploads/2023/03/default-featured-image.png
END:VEVENT
BEGIN:VEVENT
DTSTART;TZID=America/New_York:20230614T120000
DTEND;TZID=America/New_York:20230614T130000
DTSTAMP:20260425T071508
CREATED:20230408T005335Z
LAST-MODIFIED:20230626T185405Z
UID:10000184-1686744000-1686747600@diosohio.org
SUMMARY:Dismantling Racism Training (June)
DESCRIPTION:Using Picture Books for Racial Healing: A Dismantling Racism certification course \nPicture books offer an excellent way to discover\, discuss\, and share stories about topics that many people did not study in school but that are crucial to the work of repairing\, healing\, and seeing God in each other. \nEmail Director of Dismantling Racism Miriam McKenney to learn more.
URL:https://diosohio.org/event/dismantling-racism-training-june/2023-06-14/
CATEGORIES:Becoming Beloved Community,Dismantling Racism Training,Training
ATTACH;FMTTYPE=image/png:https://diosohio.org/wp-content/uploads/2023/03/default-featured-image.png
END:VEVENT
BEGIN:VEVENT
DTSTART;TZID=America/New_York:20230613T120000
DTEND;TZID=America/New_York:20230613T130000
DTSTAMP:20260425T071508
CREATED:20230408T005335Z
LAST-MODIFIED:20230626T185405Z
UID:10000183-1686657600-1686661200@diosohio.org
SUMMARY:Dismantling Racism Training (June)
DESCRIPTION:Using Picture Books for Racial Healing: A Dismantling Racism certification course \nPicture books offer an excellent way to discover\, discuss\, and share stories about topics that many people did not study in school but that are crucial to the work of repairing\, healing\, and seeing God in each other. \nEmail Director of Dismantling Racism Miriam McKenney to learn more.
URL:https://diosohio.org/event/dismantling-racism-training-june/2023-06-13/
CATEGORIES:Becoming Beloved Community,Dismantling Racism Training,Training
ATTACH;FMTTYPE=image/png:https://diosohio.org/wp-content/uploads/2023/03/default-featured-image.png
END:VEVENT
BEGIN:VEVENT
DTSTART;VALUE=DATE:20230610
DTEND;VALUE=DATE:20230611
DTSTAMP:20260425T071508
CREATED:20230522T195646Z
LAST-MODIFIED:20230522T195759Z
UID:10000718-1686355200-1686441599@diosohio.org
SUMMARY:We Belong: Connecting in Community
DESCRIPTION:Save the date for We Belong: Connecting in Community. More information TBA
URL:https://diosohio.org/event/we-belong-connecting-in-community/
LOCATION:Procter Center\, 11235 St. Rt. 38 SE\, London\, OH\, 43140\, United States
CATEGORIES:Becoming Beloved Community
ATTACH;FMTTYPE=image/png:https://diosohio.org/wp-content/uploads/2023/03/default-featured-image.png
END:VEVENT
BEGIN:VEVENT
DTSTART;TZID=America/New_York:20230608T120000
DTEND;TZID=America/New_York:20230608T130000
DTSTAMP:20260425T071508
CREATED:20230408T005335Z
LAST-MODIFIED:20230626T185405Z
UID:10000180-1686225600-1686229200@diosohio.org
SUMMARY:Dismantling Racism Training (June)
DESCRIPTION:Using Picture Books for Racial Healing: A Dismantling Racism certification course \nPicture books offer an excellent way to discover\, discuss\, and share stories about topics that many people did not study in school but that are crucial to the work of repairing\, healing\, and seeing God in each other. \nEmail Director of Dismantling Racism Miriam McKenney to learn more.
URL:https://diosohio.org/event/dismantling-racism-training-june/2023-06-08/
CATEGORIES:Becoming Beloved Community,Dismantling Racism Training,Training
ATTACH;FMTTYPE=image/png:https://diosohio.org/wp-content/uploads/2023/03/default-featured-image.png
END:VEVENT
BEGIN:VEVENT
DTSTART;TZID=America/New_York:20230607T120000
DTEND;TZID=America/New_York:20230607T130000
DTSTAMP:20260425T071508
CREATED:20230408T005335Z
LAST-MODIFIED:20230626T185405Z
UID:10000179-1686139200-1686142800@diosohio.org
SUMMARY:Dismantling Racism Training (June)
DESCRIPTION:Using Picture Books for Racial Healing: A Dismantling Racism certification course \nPicture books offer an excellent way to discover\, discuss\, and share stories about topics that many people did not study in school but that are crucial to the work of repairing\, healing\, and seeing God in each other. \nEmail Director of Dismantling Racism Miriam McKenney to learn more.
URL:https://diosohio.org/event/dismantling-racism-training-june/2023-06-07/
CATEGORIES:Becoming Beloved Community,Dismantling Racism Training,Training
ATTACH;FMTTYPE=image/png:https://diosohio.org/wp-content/uploads/2023/03/default-featured-image.png
END:VEVENT
BEGIN:VEVENT
DTSTART;TZID=America/New_York:20230606T120000
DTEND;TZID=America/New_York:20230606T130000
DTSTAMP:20260425T071508
CREATED:20230408T005335Z
LAST-MODIFIED:20230626T185405Z
UID:10000178-1686052800-1686056400@diosohio.org
SUMMARY:Dismantling Racism Training (June)
DESCRIPTION:Using Picture Books for Racial Healing: A Dismantling Racism certification course \nPicture books offer an excellent way to discover\, discuss\, and share stories about topics that many people did not study in school but that are crucial to the work of repairing\, healing\, and seeing God in each other. \nEmail Director of Dismantling Racism Miriam McKenney to learn more.
URL:https://diosohio.org/event/dismantling-racism-training-june/2023-06-06/
CATEGORIES:Becoming Beloved Community,Dismantling Racism Training,Training
ATTACH;FMTTYPE=image/png:https://diosohio.org/wp-content/uploads/2023/03/default-featured-image.png
END:VEVENT
BEGIN:VEVENT
DTSTART;TZID=America/New_York:20230523T190000
DTEND;TZID=America/New_York:20230523T203000
DTSTAMP:20260425T071508
CREATED:20230321T182141Z
LAST-MODIFIED:20230321T182141Z
UID:10000153-1684868400-1684873800@diosohio.org
SUMMARY:Good News Tues: An Easter Series
DESCRIPTION:Every Tuesday of Easter (April 11-May 23) from 7 to 8:30 p.m.\, we will gather to share the good news of Walking the Way of Love! Let’s share the joy and love that is available as we follow Jesus. \nCome to share a story\, gift\, song\, poem\, joke or simply with your presence. This is a time for  joy\, community\, and giving thanks. \nTo receive the zoom link\, please complete this registration form. An email will be sent weekly to all registered. Come when you can and please invite a friend. All are welcome.
URL:https://diosohio.org/event/good-news-tues-an-easter-series/2023-05-23/
LOCATION:United States
CATEGORIES:Becoming Beloved Community
ATTACH;FMTTYPE=image/png:https://diosohio.org/wp-content/uploads/2023/03/default-featured-image.png
END:VEVENT
BEGIN:VEVENT
DTSTART;TZID=America/New_York:20230517T133000
DTEND;TZID=America/New_York:20230517T153000
DTSTAMP:20260425T071508
CREATED:20230214T203357Z
LAST-MODIFIED:20230427T213505Z
UID:10000106-1684330200-1684337400@diosohio.org
SUMMARY:Dismantling Racism Bible Study training
DESCRIPTION:The next three-session Dismantling Racism Bible Study training will be held on Wednesdays\, May 3\, 10\, 17 at 1:30 to 3:30 p.m. on Zoom. Sign up here. \nThe trainings will be co-led by Miriam McKenny\, director for dismantling racism\, and other diocesan leaders. Three additional trainings will be offered in the second half of the year. \nIf you are not able to participate in a certification training in this way\, you are invited to participate in a training through the Absalom Jones Center for Racial Healing online. There is a $50 charge for their program for anyone outside of the Atlanta Diocese. If you do choose to participate in this training\, upon completion please send the certificate so that we can log your certification. \nIf you have any questions about this training requirement or how your parish can support this work of dismantling racism\, please reach out to Emma Helms-Steinmetz\, director of formation projects and family ministry.
URL:https://diosohio.org/event/dismantling-racism-bible-study-training-2/2023-05-17/
LOCATION:United States
CATEGORIES:Becoming Beloved Community,Dismantling Racism Training,Training
ATTACH;FMTTYPE=image/png:https://diosohio.org/wp-content/uploads/2023/03/default-featured-image.png
END:VEVENT
BEGIN:VEVENT
DTSTART;TZID=America/New_York:20230516T190000
DTEND;TZID=America/New_York:20230516T203000
DTSTAMP:20260425T071508
CREATED:20230321T182141Z
LAST-MODIFIED:20230321T182141Z
UID:10000152-1684263600-1684269000@diosohio.org
SUMMARY:Good News Tues: An Easter Series
DESCRIPTION:Every Tuesday of Easter (April 11-May 23) from 7 to 8:30 p.m.\, we will gather to share the good news of Walking the Way of Love! Let’s share the joy and love that is available as we follow Jesus. \nCome to share a story\, gift\, song\, poem\, joke or simply with your presence. This is a time for  joy\, community\, and giving thanks. \nTo receive the zoom link\, please complete this registration form. An email will be sent weekly to all registered. Come when you can and please invite a friend. All are welcome.
URL:https://diosohio.org/event/good-news-tues-an-easter-series/2023-05-16/
LOCATION:United States
CATEGORIES:Becoming Beloved Community
ATTACH;FMTTYPE=image/png:https://diosohio.org/wp-content/uploads/2023/03/default-featured-image.png
END:VEVENT
BEGIN:VEVENT
DTSTART;TZID=America/New_York:20230511T080000
DTEND;TZID=America/New_York:20230511T170000
DTSTAMP:20260425T071508
CREATED:20230410T222023Z
LAST-MODIFIED:20230410T222023Z
UID:10000624-1683792000-1683824400@diosohio.org
SUMMARY:Community of Practice
DESCRIPTION:Amy Howton and Miriam McKenney will lead an intensive spiritual formation community of practice that will include two in-person retreats\, from May 11 to 13 and August 17 to 19\, and a Zoom check-in in July. Fees are on a sliding scale from $275 to $475 for a single room and $175 to $375 for a shared double room. Financial support is available.\n\n \n\n 	Download a flyer\n \n 	Learn more and apply to participate.
URL:https://diosohio.org/event/community-of-practice/2023-05-11/
LOCATION:Procter Center\, 11235 St. Rt. 38 SE\, London\, OH\, 43140\, United States
CATEGORIES:Adult Formation,Becoming Beloved Community,Formation
ATTACH;FMTTYPE=image/png:https://diosohio.org/wp-content/uploads/2023/03/default-featured-image.png
END:VEVENT
BEGIN:VEVENT
DTSTART;TZID=America/New_York:20230510T133000
DTEND;TZID=America/New_York:20230510T153000
DTSTAMP:20260425T071508
CREATED:20230214T203357Z
LAST-MODIFIED:20230427T213505Z
UID:10000105-1683725400-1683732600@diosohio.org
SUMMARY:Dismantling Racism Bible Study training
DESCRIPTION:The next three-session Dismantling Racism Bible Study training will be held on Wednesdays\, May 3\, 10\, 17 at 1:30 to 3:30 p.m. on Zoom. Sign up here. \nThe trainings will be co-led by Miriam McKenny\, director for dismantling racism\, and other diocesan leaders. Three additional trainings will be offered in the second half of the year. \nIf you are not able to participate in a certification training in this way\, you are invited to participate in a training through the Absalom Jones Center for Racial Healing online. There is a $50 charge for their program for anyone outside of the Atlanta Diocese. If you do choose to participate in this training\, upon completion please send the certificate so that we can log your certification. \nIf you have any questions about this training requirement or how your parish can support this work of dismantling racism\, please reach out to Emma Helms-Steinmetz\, director of formation projects and family ministry.
URL:https://diosohio.org/event/dismantling-racism-bible-study-training-2/2023-05-10/
LOCATION:United States
CATEGORIES:Becoming Beloved Community,Dismantling Racism Training,Training
ATTACH;FMTTYPE=image/png:https://diosohio.org/wp-content/uploads/2023/03/default-featured-image.png
END:VEVENT
BEGIN:VEVENT
DTSTART;TZID=America/New_York:20230509T190000
DTEND;TZID=America/New_York:20230509T203000
DTSTAMP:20260425T071508
CREATED:20230321T182141Z
LAST-MODIFIED:20230321T182141Z
UID:10000151-1683658800-1683664200@diosohio.org
SUMMARY:Good News Tues: An Easter Series
DESCRIPTION:Every Tuesday of Easter (April 11-May 23) from 7 to 8:30 p.m.\, we will gather to share the good news of Walking the Way of Love! Let’s share the joy and love that is available as we follow Jesus. \nCome to share a story\, gift\, song\, poem\, joke or simply with your presence. This is a time for  joy\, community\, and giving thanks. \nTo receive the zoom link\, please complete this registration form. An email will be sent weekly to all registered. Come when you can and please invite a friend. All are welcome.
URL:https://diosohio.org/event/good-news-tues-an-easter-series/2023-05-09/
LOCATION:United States
CATEGORIES:Becoming Beloved Community
ATTACH;FMTTYPE=image/png:https://diosohio.org/wp-content/uploads/2023/03/default-featured-image.png
END:VEVENT
BEGIN:VEVENT
DTSTART;TZID=America/New_York:20230503T133000
DTEND;TZID=America/New_York:20230503T153000
DTSTAMP:20260425T071508
CREATED:20230214T203357Z
LAST-MODIFIED:20230427T213505Z
UID:10000104-1683120600-1683127800@diosohio.org
SUMMARY:Dismantling Racism Bible Study training
DESCRIPTION:The next three-session Dismantling Racism Bible Study training will be held on Wednesdays\, May 3\, 10\, 17 at 1:30 to 3:30 p.m. on Zoom. Sign up here. \nThe trainings will be co-led by Miriam McKenny\, director for dismantling racism\, and other diocesan leaders. Three additional trainings will be offered in the second half of the year. \nIf you are not able to participate in a certification training in this way\, you are invited to participate in a training through the Absalom Jones Center for Racial Healing online. There is a $50 charge for their program for anyone outside of the Atlanta Diocese. If you do choose to participate in this training\, upon completion please send the certificate so that we can log your certification. \nIf you have any questions about this training requirement or how your parish can support this work of dismantling racism\, please reach out to Emma Helms-Steinmetz\, director of formation projects and family ministry.
URL:https://diosohio.org/event/dismantling-racism-bible-study-training-2/2023-05-03/
LOCATION:United States
CATEGORIES:Becoming Beloved Community,Dismantling Racism Training,Training
ATTACH;FMTTYPE=image/png:https://diosohio.org/wp-content/uploads/2023/03/default-featured-image.png
END:VEVENT
BEGIN:VEVENT
DTSTART;TZID=America/New_York:20230502T190000
DTEND;TZID=America/New_York:20230502T203000
DTSTAMP:20260425T071508
CREATED:20230321T182141Z
LAST-MODIFIED:20230321T182141Z
UID:10000150-1683054000-1683059400@diosohio.org
SUMMARY:Good News Tues: An Easter Series
DESCRIPTION:Every Tuesday of Easter (April 11-May 23) from 7 to 8:30 p.m.\, we will gather to share the good news of Walking the Way of Love! Let’s share the joy and love that is available as we follow Jesus. \nCome to share a story\, gift\, song\, poem\, joke or simply with your presence. This is a time for  joy\, community\, and giving thanks. \nTo receive the zoom link\, please complete this registration form. An email will be sent weekly to all registered. Come when you can and please invite a friend. All are welcome.
URL:https://diosohio.org/event/good-news-tues-an-easter-series/2023-05-02/
LOCATION:United States
CATEGORIES:Becoming Beloved Community
ATTACH;FMTTYPE=image/png:https://diosohio.org/wp-content/uploads/2023/03/default-featured-image.png
END:VEVENT
BEGIN:VEVENT
DTSTART;TZID=America/New_York:20230425T190000
DTEND;TZID=America/New_York:20230425T203000
DTSTAMP:20260425T071508
CREATED:20230321T182141Z
LAST-MODIFIED:20230321T182141Z
UID:10000149-1682449200-1682454600@diosohio.org
SUMMARY:Good News Tues: An Easter Series
DESCRIPTION:Every Tuesday of Easter (April 11-May 23) from 7 to 8:30 p.m.\, we will gather to share the good news of Walking the Way of Love! Let’s share the joy and love that is available as we follow Jesus. \nCome to share a story\, gift\, song\, poem\, joke or simply with your presence. This is a time for  joy\, community\, and giving thanks. \nTo receive the zoom link\, please complete this registration form. An email will be sent weekly to all registered. Come when you can and please invite a friend. All are welcome.
URL:https://diosohio.org/event/good-news-tues-an-easter-series/2023-04-25/
LOCATION:United States
CATEGORIES:Becoming Beloved Community
ATTACH;FMTTYPE=image/png:https://diosohio.org/wp-content/uploads/2023/03/default-featured-image.png
END:VEVENT
BEGIN:VEVENT
DTSTART;TZID=America/New_York:20230418T190000
DTEND;TZID=America/New_York:20230418T203000
DTSTAMP:20260425T071508
CREATED:20230321T182141Z
LAST-MODIFIED:20230321T182141Z
UID:10000148-1681844400-1681849800@diosohio.org
SUMMARY:Good News Tues: An Easter Series
DESCRIPTION:Every Tuesday of Easter (April 11-May 23) from 7 to 8:30 p.m.\, we will gather to share the good news of Walking the Way of Love! Let’s share the joy and love that is available as we follow Jesus. \nCome to share a story\, gift\, song\, poem\, joke or simply with your presence. This is a time for  joy\, community\, and giving thanks. \nTo receive the zoom link\, please complete this registration form. An email will be sent weekly to all registered. Come when you can and please invite a friend. All are welcome.
URL:https://diosohio.org/event/good-news-tues-an-easter-series/2023-04-18/
LOCATION:United States
CATEGORIES:Becoming Beloved Community
ATTACH;FMTTYPE=image/png:https://diosohio.org/wp-content/uploads/2023/03/default-featured-image.png
END:VEVENT
BEGIN:VEVENT
DTSTART;TZID=America/New_York:20230411T190000
DTEND;TZID=America/New_York:20230411T203000
DTSTAMP:20260425T071508
CREATED:20230321T182141Z
LAST-MODIFIED:20230321T182141Z
UID:10000147-1681239600-1681245000@diosohio.org
SUMMARY:Good News Tues: An Easter Series
DESCRIPTION:Every Tuesday of Easter (April 11-May 23) from 7 to 8:30 p.m.\, we will gather to share the good news of Walking the Way of Love! Let’s share the joy and love that is available as we follow Jesus. \nCome to share a story\, gift\, song\, poem\, joke or simply with your presence. This is a time for  joy\, community\, and giving thanks. \nTo receive the zoom link\, please complete this registration form. An email will be sent weekly to all registered. Come when you can and please invite a friend. All are welcome.
URL:https://diosohio.org/event/good-news-tues-an-easter-series/2023-04-11/
LOCATION:United States
CATEGORIES:Becoming Beloved Community
ATTACH;FMTTYPE=image/png:https://diosohio.org/wp-content/uploads/2023/03/default-featured-image.png
END:VEVENT
BEGIN:VEVENT
DTSTART;TZID=America/New_York:20230330T183000
DTEND;TZID=America/New_York:20230330T203000
DTSTAMP:20260425T071508
CREATED:20230214T202957Z
LAST-MODIFIED:20230408T152515Z
UID:10000103-1680201000-1680208200@diosohio.org
SUMMARY:Dismantling Racism Bible Study training
DESCRIPTION:The next three-session Dismantling Racism Bible Study training will be held on Thursdays\, March 16\, 23\, 30 at 6:30 to 8:30 p.m. Sign up here. \nThe trainings will be co-led by Miriam McKenny\, director for dismantling racism\, and other diocesan leaders. Three additional trainings will be offered in the second half of the year. \nIf you are not able to participate in a certification training in this way\, you are invited to participate in a training through the Absalom Jones Center for Racial Healing online. There is a $50 charge for their program for anyone outside of the Atlanta Diocese. If you do choose to participate in this training\, upon completion please send the certificate so that we can log your certification. \nIf you have any questions about this training requirement or how your parish can support this work of dismantling racism\, please reach out to Emma Helms-Steinmetz\, director of formation projects and family ministry.
URL:https://diosohio.org/event/dismantling-racism-bible-study-training/2023-03-30/
LOCATION:United States
CATEGORIES:Becoming Beloved Community,Training
ATTACH;FMTTYPE=image/png:https://diosohio.org/wp-content/uploads/2023/03/default-featured-image.png
END:VEVENT
BEGIN:VEVENT
DTSTART;TZID=America/New_York:20230323T183000
DTEND;TZID=America/New_York:20230323T203000
DTSTAMP:20260425T071508
CREATED:20230214T202957Z
LAST-MODIFIED:20230408T152515Z
UID:10000102-1679596200-1679603400@diosohio.org
SUMMARY:Dismantling Racism Bible Study training
DESCRIPTION:The next three-session Dismantling Racism Bible Study training will be held on Thursdays\, March 16\, 23\, 30 at 6:30 to 8:30 p.m. Sign up here. \nThe trainings will be co-led by Miriam McKenny\, director for dismantling racism\, and other diocesan leaders. Three additional trainings will be offered in the second half of the year. \nIf you are not able to participate in a certification training in this way\, you are invited to participate in a training through the Absalom Jones Center for Racial Healing online. There is a $50 charge for their program for anyone outside of the Atlanta Diocese. If you do choose to participate in this training\, upon completion please send the certificate so that we can log your certification. \nIf you have any questions about this training requirement or how your parish can support this work of dismantling racism\, please reach out to Emma Helms-Steinmetz\, director of formation projects and family ministry.
URL:https://diosohio.org/event/dismantling-racism-bible-study-training/2023-03-23/
LOCATION:United States
CATEGORIES:Becoming Beloved Community,Training
ATTACH;FMTTYPE=image/png:https://diosohio.org/wp-content/uploads/2023/03/default-featured-image.png
END:VEVENT
BEGIN:VEVENT
DTSTART;TZID=America/New_York:20230316T183000
DTEND;TZID=America/New_York:20230316T203000
DTSTAMP:20260425T071508
CREATED:20230214T202957Z
LAST-MODIFIED:20230408T152515Z
UID:10000101-1678991400-1678998600@diosohio.org
SUMMARY:Dismantling Racism Bible Study training
DESCRIPTION:The next three-session Dismantling Racism Bible Study training will be held on Thursdays\, March 16\, 23\, 30 at 6:30 to 8:30 p.m. Sign up here. \nThe trainings will be co-led by Miriam McKenny\, director for dismantling racism\, and other diocesan leaders. Three additional trainings will be offered in the second half of the year. \nIf you are not able to participate in a certification training in this way\, you are invited to participate in a training through the Absalom Jones Center for Racial Healing online. There is a $50 charge for their program for anyone outside of the Atlanta Diocese. If you do choose to participate in this training\, upon completion please send the certificate so that we can log your certification. \nIf you have any questions about this training requirement or how your parish can support this work of dismantling racism\, please reach out to Emma Helms-Steinmetz\, director of formation projects and family ministry.
URL:https://diosohio.org/event/dismantling-racism-bible-study-training/2023-03-16/
LOCATION:United States
CATEGORIES:Becoming Beloved Community,Training
ATTACH;FMTTYPE=image/png:https://diosohio.org/wp-content/uploads/2023/03/default-featured-image.png
END:VEVENT
BEGIN:VEVENT
DTSTART;TZID=America/New_York:20230118T190000
DTEND;TZID=America/New_York:20230118T203000
DTSTAMP:20260425T071508
CREATED:20230103T202828Z
LAST-MODIFIED:20230408T010252Z
UID:10000010-1674068400-1674073800@diosohio.org
SUMMARY:Licensed Ministry Leader information session
DESCRIPTION:Join Canon Jason Oden and Mark Conrad on Wednesday\, January 18 from 7 to 8:30 p.m. to learn more about licensed ministries in our diocese and the training or experience required for each certification. Please register here for zoom link and follow up. \nYou can find out if your licensed position requires safe church certification on the formation page. Additionally you can see which courses are required based on the position you hold in your parish and community. You can complete Safe Church training here\, and sign up to be notified for Dismantling Racism information when programs are available.
URL:https://diosohio.org/event/licensed-ministry-leader-information-session/
LOCATION:United States
CATEGORIES:Becoming Beloved Community,Training
ATTACH;FMTTYPE=image/png:https://diosohio.org/wp-content/uploads/2023/03/default-featured-image.png
END:VEVENT
END:VCALENDAR