BEGIN:VCALENDAR
VERSION:2.0
PRODID:-//Diocese of Southern Ohio - ECPv6.15.20//NONSGML v1.0//EN
CALSCALE:GREGORIAN
METHOD:PUBLISH
X-WR-CALNAME:Diocese of Southern Ohio
X-ORIGINAL-URL:https://diosohio.org
X-WR-CALDESC:Events for Diocese of Southern Ohio
REFRESH-INTERVAL;VALUE=DURATION:PT1H
X-Robots-Tag:noindex
X-PUBLISHED-TTL:PT1H
BEGIN:VTIMEZONE
TZID:America/New_York
BEGIN:DAYLIGHT
TZOFFSETFROM:-0500
TZOFFSETTO:-0400
TZNAME:EDT
DTSTART:20250309T070000
END:DAYLIGHT
BEGIN:STANDARD
TZOFFSETFROM:-0400
TZOFFSETTO:-0500
TZNAME:EST
DTSTART:20251102T060000
END:STANDARD
BEGIN:DAYLIGHT
TZOFFSETFROM:-0500
TZOFFSETTO:-0400
TZNAME:EDT
DTSTART:20260308T070000
END:DAYLIGHT
BEGIN:STANDARD
TZOFFSETFROM:-0400
TZOFFSETTO:-0500
TZNAME:EST
DTSTART:20261101T060000
END:STANDARD
BEGIN:DAYLIGHT
TZOFFSETFROM:-0500
TZOFFSETTO:-0400
TZNAME:EDT
DTSTART:20270314T070000
END:DAYLIGHT
BEGIN:STANDARD
TZOFFSETFROM:-0400
TZOFFSETTO:-0500
TZNAME:EST
DTSTART:20271107T060000
END:STANDARD
END:VTIMEZONE
BEGIN:VEVENT
DTSTART;TZID=America/New_York:20260411T100000
DTEND;TZID=America/New_York:20260411T160000
DTSTAMP:20260425T073944
CREATED:20260319T150227Z
LAST-MODIFIED:20260319T150227Z
UID:10002894-1775901600-1775923200@diosohio.org
SUMMARY:Informational Session for the 2026 Lay Preaching Program
DESCRIPTION:Lay preachers bring the Gospel into congregations\, dioceses\, and communities with faithfulness\, creativity\, and deep love for the church. Rooted in lived experience\, they offer voices shaped by daily life\, local context\, and the call of the Holy Spirit. Whether lay or ordained\, Episcopal preaching values robust formation and shared theological grounding for faithful and bold proclamation.  \nOur informational session will provide an overview of the diocesan Lay Preacher Program\, a taste of what the course looks like\, and an invitation to continue with the full year-long program. The informational session is required for all those planning to participate in the year-long course. \nIf you feel called to this ministry\, speak with your rector or priest-in-charge (or if no seated clergy\, the senior warden) to discuss your interest and potential participation. Participants who choose to go on through the program will need to apply and have their rector’s (or other authority) endorsement to continue. \nSaturday\, April 11\, 2026\nArrival at 10 am\nMidday lunch\nDeparture by 4 pm \nInvitees: Adult lay persons curious about or sensing a call to the ministry of preaching \nInfo Session RSVP Deadline: April 1\n(After the session\, the full program application deadline is May 1.) \nRSVP HERE \nCost: There is no cost to participate in the informational session. \nThe $500 course fee is due once the student commits to the year-long program and receives the endorsement of their rector (or priest-in-charge or senior warden). \nLearn more about the lay preaching program
URL:https://diosohio.org/event/informational-session-for-the-2026-lay-preaching-program/
LOCATION:Procter Center\, 11235 St. Rt. 38 SE\, London\, OH\, 43140\, United States
CATEGORIES:Formation,Lay Licensing
ATTACH;FMTTYPE=image/png:https://diosohio.org/wp-content/uploads/2026/02/preaching-program-2026.png
END:VEVENT
END:VCALENDAR