BEGIN:VCALENDAR
VERSION:2.0
PRODID:-//Diocese of Southern Ohio - ECPv6.15.20//NONSGML v1.0//EN
CALSCALE:GREGORIAN
METHOD:PUBLISH
X-WR-CALNAME:Diocese of Southern Ohio
X-ORIGINAL-URL:https://diosohio.org
X-WR-CALDESC:Events for Diocese of Southern Ohio
REFRESH-INTERVAL;VALUE=DURATION:PT1H
X-Robots-Tag:noindex
X-PUBLISHED-TTL:PT1H
BEGIN:VTIMEZONE
TZID:America/New_York
BEGIN:DAYLIGHT
TZOFFSETFROM:-0500
TZOFFSETTO:-0400
TZNAME:EDT
DTSTART:20240310T070000
END:DAYLIGHT
BEGIN:STANDARD
TZOFFSETFROM:-0400
TZOFFSETTO:-0500
TZNAME:EST
DTSTART:20241103T060000
END:STANDARD
BEGIN:DAYLIGHT
TZOFFSETFROM:-0500
TZOFFSETTO:-0400
TZNAME:EDT
DTSTART:20250309T070000
END:DAYLIGHT
BEGIN:STANDARD
TZOFFSETFROM:-0400
TZOFFSETTO:-0500
TZNAME:EST
DTSTART:20251102T060000
END:STANDARD
BEGIN:DAYLIGHT
TZOFFSETFROM:-0500
TZOFFSETTO:-0400
TZNAME:EDT
DTSTART:20260308T070000
END:DAYLIGHT
BEGIN:STANDARD
TZOFFSETFROM:-0400
TZOFFSETTO:-0500
TZNAME:EST
DTSTART:20261101T060000
END:STANDARD
END:VTIMEZONE
BEGIN:VEVENT
DTSTART;TZID=America/New_York:20251206T150000
DTEND;TZID=America/New_York:20251206T173000
DTSTAMP:20260425T100714
CREATED:20250414T135653Z
LAST-MODIFIED:20251201T165731Z
UID:10002006-1765033200-1765042200@diosohio.org
SUMMARY:Foraging for Advent - RESCHEDULED
DESCRIPTION:This event was postponed to 12/6/25 \nTis the Season to save the date for the Advent Event at Procter! Join us for our 3rd Annual Foraging for Advent at Procter Center – fun for all ages! \nActivities will include: \n\nForaging and hiking around Leo Lake in search of branches\, berries\, pinecones\, and more to build and decorate our Advent Wreaths\nS’Mores & Hot Chocolate Bar\nCandle Making\nBlessing of the Advent Wreaths\nGames\n\nWho is invited? Individuals\, Church Groups\, Community Groups\, Families\, Couples – any and everyone is welcome! \nWhen: Saturday\, November 29 December 6\, 3:00 -5:30 pm \nWhere: Procter Center Pavilion (or Hobson Hall\, depending on weather!) \nWhat: Bring a warm coat & gloves\, some shoes for easy hiking\, and a friend! \nWe’ll provide the tools needed for cutting shrubbery and the bases for building the wreaths. Enjoy hot cocoa by the fire\, roast some s’mores\, and build a beautiful wreath to enjoy all of Advent. Cost is $10 per household. \nQuestions? Call 740-490-6025 or email info@proctercenter.org. \nRegister here
URL:https://diosohio.org/event/foraging-for-advent/
LOCATION:Procter Center\, 11235 St. Rt. 38 SE\, London\, OH\, 43140\, United States
CATEGORIES:Procter Center
ATTACH;FMTTYPE=image/png:https://diosohio.org/wp-content/uploads/2025/04/Advent-e1760472552734.png
ORGANIZER;CN="Procter Center":MAILTO:info@proctercenter.org
END:VEVENT
END:VCALENDAR