BEGIN:VCALENDAR
VERSION:2.0
PRODID:-//Diocese of Southern Ohio - ECPv6.15.20//NONSGML v1.0//EN
CALSCALE:GREGORIAN
METHOD:PUBLISH
X-WR-CALNAME:Diocese of Southern Ohio
X-ORIGINAL-URL:https://diosohio.org
X-WR-CALDESC:Events for Diocese of Southern Ohio
REFRESH-INTERVAL;VALUE=DURATION:PT1H
X-Robots-Tag:noindex
X-PUBLISHED-TTL:PT1H
BEGIN:VTIMEZONE
TZID:America/New_York
BEGIN:DAYLIGHT
TZOFFSETFROM:-0500
TZOFFSETTO:-0400
TZNAME:EDT
DTSTART:20230312T070000
END:DAYLIGHT
BEGIN:STANDARD
TZOFFSETFROM:-0400
TZOFFSETTO:-0500
TZNAME:EST
DTSTART:20231105T060000
END:STANDARD
BEGIN:DAYLIGHT
TZOFFSETFROM:-0500
TZOFFSETTO:-0400
TZNAME:EDT
DTSTART:20240310T070000
END:DAYLIGHT
BEGIN:STANDARD
TZOFFSETFROM:-0400
TZOFFSETTO:-0500
TZNAME:EST
DTSTART:20241103T060000
END:STANDARD
BEGIN:DAYLIGHT
TZOFFSETFROM:-0500
TZOFFSETTO:-0400
TZNAME:EDT
DTSTART:20250309T070000
END:DAYLIGHT
BEGIN:STANDARD
TZOFFSETFROM:-0400
TZOFFSETTO:-0500
TZNAME:EST
DTSTART:20251102T060000
END:STANDARD
BEGIN:DAYLIGHT
TZOFFSETFROM:-0500
TZOFFSETTO:-0400
TZNAME:EDT
DTSTART:20260308T070000
END:DAYLIGHT
BEGIN:STANDARD
TZOFFSETFROM:-0400
TZOFFSETTO:-0500
TZNAME:EST
DTSTART:20261101T060000
END:STANDARD
BEGIN:DAYLIGHT
TZOFFSETFROM:-0500
TZOFFSETTO:-0400
TZNAME:EDT
DTSTART:20270314T070000
END:DAYLIGHT
BEGIN:STANDARD
TZOFFSETFROM:-0400
TZOFFSETTO:-0500
TZNAME:EST
DTSTART:20271107T060000
END:STANDARD
END:VTIMEZONE
BEGIN:VEVENT
DTSTART;TZID=America/New_York:20241005T140000
DTEND;TZID=America/New_York:20241005T170000
DTSTAMP:20260425T083024
CREATED:20240917T172133Z
LAST-MODIFIED:20240917T172133Z
UID:10001637-1728136800-1728147600@diosohio.org
SUMMARY:Harvest Festival and Craft Show
DESCRIPTION:Season of Creation Celebration \nCome celebrate the Season of Creation with a good old fashioned harvest festival! The day will include food\, live music\, porch pickin’\, fall produce picking\, farm tours\, and a fall craft show with local vendors selling their one-of-a-kind goods! We will end the day with a Season of Creation worship celebration in Christ Chapel. More info
URL:https://diosohio.org/event/harvest-festival-and-craft-show/
LOCATION:Procter Center\, 11235 St. Rt. 38 SE\, London\, OH\, 43140\, United States
CATEGORIES:Procter Center
ATTACH;FMTTYPE=image/png:https://diosohio.org/wp-content/uploads/2024/09/Orange-Fall-Festival-Instagram-Story.png
ORGANIZER;CN="Procter Center":MAILTO:info@proctercenter.org
END:VEVENT
BEGIN:VEVENT
DTSTART;TZID=America/New_York:20241022T120000
DTEND;TZID=America/New_York:20241024T130000
DTSTAMP:20260425T083024
CREATED:20240917T172959Z
LAST-MODIFIED:20240917T173113Z
UID:10001639-1729598400-1729774800@diosohio.org
SUMMARY:Bake Pray Rest: A retreat for clergy and lay formation leaders
DESCRIPTION:Join author\, baker\, and retreat leader Kendall Vanderslice for a time of rest and connection through the embodied spiritual practice of bread making\, and learn how to use the Bake with the Bible curriculum (free to DSO parishes) in your context. Camp runs from lunch on 10/22/24 to lunch on 10/24/24. \nRegister here!
URL:https://diosohio.org/event/bake-pray-rest-a-retreat-for-clergy-and-lay-formation-leaders/
LOCATION:Procter Center\, 11235 St. Rt. 38 SE\, London\, OH\, 43140\, United States
CATEGORIES:Procter Center
ATTACH;FMTTYPE=image/png:https://diosohio.org/wp-content/uploads/2024/09/2-1.png
ORGANIZER;CN="Procter Center":MAILTO:info@proctercenter.org
END:VEVENT
BEGIN:VEVENT
DTSTART;TZID=America/New_York:20241130T130000
DTEND;TZID=America/New_York:20241130T170000
DTSTAMP:20260425T083024
CREATED:20241112T184900Z
LAST-MODIFIED:20241112T184900Z
UID:10001722-1732971600-1732986000@diosohio.org
SUMMARY:Procter Advent event
DESCRIPTION:All are invited to journey to Procter Center\, the camp and retreat center of the Diocese of Southern Ohio\, to celebrate our Second Annual Advent Event! \nJoin us in making advent wreaths using elements that can be forged in creation here at Procter! S’mores\, Hot Chocolate\, music and games are also part of this fun winter camp event for all ages. Parish carpools and caravans are encouraged! \nQuestions about this program?\nContact Jerusalem Greer\, co-executive director of Procter Center\, at jgreer@proctercenter.org or at 501-681-2809. \nRegistration\nA suggested donation of $5 per person or $10 per household is requested. Please register by November 27th. Register here. \nClick here to download a printable/sharable graphic for this event.
URL:https://diosohio.org/event/procter-advent-event/
LOCATION:Procter Center\, 11235 St. Rt. 38 SE\, London\, OH\, 43140\, United States
CATEGORIES:Advent,Procter Center
ATTACH;FMTTYPE=image/png:https://diosohio.org/wp-content/uploads/2024/11/advent-procter-cover.png
ORGANIZER;CN="Procter Center":MAILTO:info@proctercenter.org
END:VEVENT
BEGIN:VEVENT
DTSTART;TZID=America/New_York:20250228T173000
DTEND;TZID=America/New_York:20250302T110000
DTSTAMP:20260425T083024
CREATED:20250115T213010Z
LAST-MODIFIED:20250115T213010Z
UID:10001895-1740763800-1740913200@diosohio.org
SUMMARY:Winter Youth Retreat
DESCRIPTION:Young people in 6th-12th grades are invited to join their peers across the Diocese of Southern Ohio for a three-day retreat at Procter Center! \nOur retreat will include winter camp activities such as sing-song\, Procter Games\, campfire\, camp compline\, farm and forest visits\, and more. We can’t wait to see you! \nThis youth retreat has been subsidized to $150/person. Scholarships are available and may be requested on the registration form. If a young person desires to be at the retreat\, Procter Center will do everything we can to make that happen. The RSVP deadline is February 21\, 2025. \nRSVP here \nQuestions about this event? Please contact Jerusalem Greer\, co-executive director of Procter Center\, at jgreer@proctercenter.org.
URL:https://diosohio.org/event/winter-youth-retreat-2025/
LOCATION:Procter Center\, 11235 St. Rt. 38 SE\, London\, OH\, 43140\, United States
CATEGORIES:Children & Youth,Procter Center
ATTACH;FMTTYPE=image/png:https://diosohio.org/wp-content/uploads/2025/01/youth-retreat-feb-2025.png
END:VEVENT
BEGIN:VEVENT
DTSTART;TZID=America/New_York:20250412T100000
DTEND;TZID=America/New_York:20250412T150000
DTSTAMP:20260425T083024
CREATED:20250123T212904Z
LAST-MODIFIED:20250123T212904Z
UID:10001912-1744452000-1744470000@diosohio.org
SUMMARY:Lenten Quiet Day
DESCRIPTION:Join the Diocese of Southern Ohio and Procter Center for a day spent on retreat. \nThis day-retreat will be centered on the theme of “A Commonplace Lent\,” as offered by Episcopal Relief & Development and Procter’s Co-Executive Director\, Jerusalem Greer. \nDuring this retreat\, Jerusalem will lead participants in exploring two uses of the word “common” through the lens of Lent. The first is the sense that we come together to celebrate “all that we are and all that we have in common” — prayer\, worship\, grace\, love\, community\, service\, and so much more. The second understanding of common is a reflection on the ordinary\, everyday nature of these communal gifts – the kind of of gifts we find in the soil\, the sun\, in water\, and around the table. \nInspired by the wisdom of desert mothers and fathers\, monastics\, and other spiritual leaders\, this Quiet Day for all ages will be infused with prayer\, time for group and personal reflection\, and time spent listening to the wisdom of creation. \nSaturday\, April 12\n10 to 3 pm\, lunch is included. The cost to participate in the Lenten Quiet Day is $40/person. The registration deadline is April 9\, 2025. Click here to register. \nQuestions about this event? Please contact Jerusalem Greer\, co-executive director of Procter Center\, at jgreer@proctercenter.org. \n 
URL:https://diosohio.org/event/lenten-quiet-day/
LOCATION:Procter Center\, 11235 St. Rt. 38 SE\, London\, OH\, 43140\, United States
CATEGORIES:Lenten Offering,Procter Center
ATTACH;FMTTYPE=image/png:https://diosohio.org/wp-content/uploads/2025/01/procter-lent.png
ORGANIZER;CN="Procter Center":MAILTO:info@proctercenter.org
END:VEVENT
BEGIN:VEVENT
DTSTART;TZID=America/New_York:20250531T100000
DTEND;TZID=America/New_York:20250531T130000
DTSTAMP:20260425T083024
CREATED:20250402T152212Z
LAST-MODIFIED:20250408T183604Z
UID:10002003-1748685600-1748696400@diosohio.org
SUMMARY:Rogation Celebration and Picnic
DESCRIPTION:Join Bishop White\, Jerusalem and Nathan Greer\, and siblings from across the dioceses to pray for and celebrate the gifts of our wonderful community together at Procter Farm! Parishes and DSO communities are invited to make plans to pilgrimage to Procter in carpools and groups on May 31 for this special Creation Care service and potluck picnic in honor of Rogationtide. Please bring soil\, water\, or native wildflower seeds from your community to be blessed and mixed with the soil or water or seeds of your sibling parishes. \nQuestions about this event? \nContact Jerusalem Greer\, co-executive director of Procter Center\, at jgreer@proctercenter.org. \nRegister \nThe celebration is free of charge; lunch is $15 per adult and $10 per child\, 5 and older. Please email camp@proctercenter.org if you would like assistance with meal payment. For groups larger than 12\, please contact us at info@proctercenter.org. \nThe deadline to RSVP is May 24. Register here
URL:https://diosohio.org/event/rogation-celebration-and-picnic/
LOCATION:Procter Center\, 11235 St. Rt. 38 SE\, London\, OH\, 43140\, United States
CATEGORIES:Procter Center
ATTACH;FMTTYPE=image/jpeg:https://diosohio.org/wp-content/uploads/2025/04/crossing-creek-by-John-White-1.jpeg
ORGANIZER;CN="Procter Center":MAILTO:info@proctercenter.org
END:VEVENT
BEGIN:VEVENT
DTSTART;TZID=America/New_York:20250918T123000
DTEND;TZID=America/New_York:20250920T140000
DTSTAMP:20260425T083024
CREATED:20250605T164940Z
LAST-MODIFIED:20250605T164940Z
UID:10002046-1758198600-1758376800@diosohio.org
SUMMARY:2025 Episcopal Creation Care Gathering
DESCRIPTION:Come join in conversation with those steeped in prayer\, theology\, the wild outdoors\, agriculture\, and the front lines of pollution\, climate change\, biodiversity loss\, and land use. Take time to wander over the acres of the Proctor Center. Come ready to put your feet on the ground and get your hands dirty while contemplating the goodness of the earth and the wonders of creation\, and listening to the Holy Spirit’s call to action! \nThe Episcopal Creation Care Gathering is an annual church-wide event focused on the work of Christian ministry\, mission\, and living on earth. These gatherings create space for conversation\, learning\, and practice as we explore the deep relationships that bind together spirituality\, justice\, ecology\, discipleship\, and evangelism. \nThis event is for church leaders\, creation care advocates\, gardeners\, green team members\, formation leaders\, and all those interested in our care of all creation. The deadline to register is September 5. \nEpiscopal Creation Care Gathering is co-sponsored by Provinces IV and V\, Procter Center and the Diocese of Southern Ohio. \nTo make this gathering as affordable as possible for all\, we are offering three pricing tiers ranging from $100-375. Please choose the rate you are able to pay. If you have the funds to pay the real cost\, that helps offset our scholarship and subsidized rates. Additionally\, you may donate to the scholarship fund if you are able. \nClick here to view lodging options. \nRegister here. \nQuestions about this event? Contact Jerusalem Greer\, co-executive director of Procter Center\, at jgreer@diosohio.org.
URL:https://diosohio.org/event/2025-episcopal-creation-care-gathering/
LOCATION:Procter Center\, 11235 St. Rt. 38 SE\, London\, OH\, 43140\, United States
CATEGORIES:Creation Care,Procter Center
ATTACH;FMTTYPE=image/jpeg:https://diosohio.org/wp-content/uploads/2025/06/e1d82b8b-9440-49e3-b196-c67a8ad83428.jpg
END:VEVENT
BEGIN:VEVENT
DTSTART;TZID=America/New_York:20251010T180000
DTEND;TZID=America/New_York:20251012T110000
DTSTAMP:20260425T083024
CREATED:20250414T135556Z
LAST-MODIFIED:20250910T145524Z
UID:10002005-1760119200-1760266800@diosohio.org
SUMMARY:Youth Fall Retreat
DESCRIPTION:Step away from screens and step into God’s vibrant creation at our upcoming youth retreat! \nTogether we’ll practice unplugging while connecting with God\, one another\, and the world around us. In addition to all of the fun and formative camp activities that Procter has to offer\, youth will also be learning some practical peer ministry skills that will help them to support one another through the challenges and joys of growing up in our complex world. We hope young people will leave the retreat more equipped and energized to share Christ’s love through in their own wonderfully unique ways. \nYouth in grades  6-12 are invited to Procter\, October 10-12 for the Youth Fall Retreat. The retreat will start with dinner on Friday and end after Eucharist on Sunday. The retreat will include your favorite Procter activities such as boating\, sing-song\, Farm Camp\, gaga ball\, campfire and more alongside spiritual formation gatherings and small group time – all led by DSO youth leaders and Procter camp counselors. \nQuestions about this event? \nContact the Rev. Olivia Hamilton\, missioner for lifelong formation\, at ohamilton@diosohio.org. \nThe cost for the retreat is $150/person. Scholarships are available. Registration is open at https://proctercenter.campbrainregistration.com/. Registration deadline October 6.
URL:https://diosohio.org/event/youth-fall-retreat/
LOCATION:Procter Center\, 11235 St. Rt. 38 SE\, London\, OH\, 43140\, United States
CATEGORIES:Children & Youth,Procter Center
ATTACH;FMTTYPE=image/png:https://diosohio.org/wp-content/uploads/2025/04/youth-retreat-e1756911834580.png
ORGANIZER;CN="Procter Center":MAILTO:info@proctercenter.org
END:VEVENT
BEGIN:VEVENT
DTSTART;TZID=America/New_York:20251206T150000
DTEND;TZID=America/New_York:20251206T173000
DTSTAMP:20260425T083024
CREATED:20250414T135653Z
LAST-MODIFIED:20251201T165731Z
UID:10002006-1765033200-1765042200@diosohio.org
SUMMARY:Foraging for Advent - RESCHEDULED
DESCRIPTION:This event was postponed to 12/6/25 \nTis the Season to save the date for the Advent Event at Procter! Join us for our 3rd Annual Foraging for Advent at Procter Center – fun for all ages! \nActivities will include: \n\nForaging and hiking around Leo Lake in search of branches\, berries\, pinecones\, and more to build and decorate our Advent Wreaths\nS’Mores & Hot Chocolate Bar\nCandle Making\nBlessing of the Advent Wreaths\nGames\n\nWho is invited? Individuals\, Church Groups\, Community Groups\, Families\, Couples – any and everyone is welcome! \nWhen: Saturday\, November 29 December 6\, 3:00 -5:30 pm \nWhere: Procter Center Pavilion (or Hobson Hall\, depending on weather!) \nWhat: Bring a warm coat & gloves\, some shoes for easy hiking\, and a friend! \nWe’ll provide the tools needed for cutting shrubbery and the bases for building the wreaths. Enjoy hot cocoa by the fire\, roast some s’mores\, and build a beautiful wreath to enjoy all of Advent. Cost is $10 per household. \nQuestions? Call 740-490-6025 or email info@proctercenter.org. \nRegister here
URL:https://diosohio.org/event/foraging-for-advent/
LOCATION:Procter Center\, 11235 St. Rt. 38 SE\, London\, OH\, 43140\, United States
CATEGORIES:Procter Center
ATTACH;FMTTYPE=image/png:https://diosohio.org/wp-content/uploads/2025/04/Advent-e1760472552734.png
ORGANIZER;CN="Procter Center":MAILTO:info@proctercenter.org
END:VEVENT
BEGIN:VEVENT
DTSTART;VALUE=DATE:20260109
DTEND;VALUE=DATE:20260111
DTSTAMP:20260425T083024
CREATED:20251217T154832Z
LAST-MODIFIED:20251217T154832Z
UID:10002700-1767916800-1768089599@diosohio.org
SUMMARY:Procter Board retreat
DESCRIPTION:Procter Board of Advisors meets at Procter Center.
URL:https://diosohio.org/event/procter-board-retreat-2026/
LOCATION:Procter Center\, 11235 St. Rt. 38 SE\, London\, OH\, 43140\, United States
CATEGORIES:Procter Center
ATTACH;FMTTYPE=image/png:https://diosohio.org/wp-content/uploads/2023/03/default-featured-image.png
ORGANIZER;CN="Procter Center":MAILTO:info@proctercenter.org
END:VEVENT
BEGIN:VEVENT
DTSTART;TZID=America/New_York:20260117T100000
DTEND;TZID=America/New_York:20260117T150000
DTSTAMP:20260425T083024
CREATED:20250414T135756Z
LAST-MODIFIED:20251215T180200Z
UID:10002007-1768644000-1768662000@diosohio.org
SUMMARY:Epiphany Quiet Day
DESCRIPTION:You are invited to an Epiphany Quiet Day at Procter Center on January 17\, from 10 am to 3 pm. This day retreat will be centered on the gifts and opportunities of the Epiphany season. \nThe day will include a writing workshop led by Jen Sammons\, Noonday prayer led by the Greers\, lunch from the Procter Kitchen\, and time for silent prayer and reflection. \nJen Sammons lives in Dayton\, Ohio\, where she explores the intersections of being a queer writer\, mother\, and teacher\, and advocates for visibility in all three. She holds an MFA from Miami University\, where she is currently a Visiting Assistant Professor in the English Department. Jen is the author of the chapbook\, Trisagion\, nonfiction winner of the 2018 Gertrude Press chapbook contest. Her work has appeared as an AWP Intro Journals Award winner in Tahoma Literary Review\, as well as in River Teeth\, Slag Glass City\, and Palaver. Jen also serves as the Director of Children & Youth Ministry for Christ Church Dayton and served as a Session Crew leader at Procter Summer Camp\, helping oversee formation for Junior High Camp. \nLunch and all materials will be included. Cost is $40 per person. Register here.
URL:https://diosohio.org/event/epiphany-quiet-day/
LOCATION:Procter Center\, 11235 St. Rt. 38 SE\, London\, OH\, 43140\, United States
CATEGORIES:Procter Center
ATTACH;FMTTYPE=image/png:https://diosohio.org/wp-content/uploads/2025/04/Lenten-Q-1-1-e1765821707238.png
ORGANIZER;CN="Procter Center":MAILTO:info@proctercenter.org
END:VEVENT
BEGIN:VEVENT
DTSTART;TZID=America/New_York:20260131T150000
DTEND;TZID=America/New_York:20260131T170000
DTSTAMP:20260425T083024
CREATED:20260105T191102Z
LAST-MODIFIED:20260105T191508Z
UID:10002721-1769871600-1769878800@diosohio.org
SUMMARY:Pop-Up Candlemas Celebration: Tamale Making
DESCRIPTION:All are invited to come and celebrate Candlemas\, the Feast of the Presentation of Jesus at the Temple\, through a series of multi-cultural events at Procter Center. \nOn Saturday\, January 31\, Xandra Sharpe (chef and kitchen manager at Procter) and the Rev. Gerardo Romo Garcia (missioner for Latino ministries) will lead a free tamale making workshop from 3-5 pm. \nThen on Monday\, February 2 (the Feast of Candlemas!) spend an evening at Procter\, enjoying an international Candlemas Dinner at 6 pm. For $10\, we’ll feast together on tamales from Mexico\, crepes from France\, and more! We’ll also have the opportunity to share together some Candlemas craft activities. \nAfter dinner\, join us for SING! Candlelit Holden Evening Prayer\, Blessing of the Candles\, and a Winter Hymn Sing led by Nathan Greer (co-executive director at Procter Center) and Stephen Sollars (organist at St. John’s\, Worthington). There’s no-cost to join our service and hymn sing! Overnight accommodations are available for the evening of Feb. 2 for an additional cost. \nAll are welcome; minors must be accompanied by an adult. Registration deadline is Jan. 28. \nREGISTER HERE \nQuestions about this event?\nContact Jerusalem Greer\, co-executive director of Procter Center at jgreer@proctercenter.org.
URL:https://diosohio.org/event/pop-up-candlemas-celebration-tamale-making/
LOCATION:Procter Center\, 11235 St. Rt. 38 SE\, London\, OH\, 43140\, United States
CATEGORIES:Diocese,Procter Center
ATTACH;FMTTYPE=image/png:https://diosohio.org/wp-content/uploads/2026/01/candlemas-2026.png
END:VEVENT
BEGIN:VEVENT
DTSTART;TZID=America/New_York:20260202T180000
DTEND;TZID=America/New_York:20260202T200000
DTSTAMP:20260425T083024
CREATED:20260105T191317Z
LAST-MODIFIED:20260105T191317Z
UID:10002722-1770055200-1770062400@diosohio.org
SUMMARY:Pop-Up Candlemas Celebration: Dinner\, crafts and Hymn sing
DESCRIPTION:All are invited to come and celebrate Candlemas\, the Feast of the Presentation of Jesus at the Temple\, through a series of multi-cultural events at Procter Center. \nOn Saturday\, January 31\, Xandra Sharpe (chef and kitchen manager at Procter) and the Rev. Gerardo Romo Garcia (missioner for Latino ministries) will lead a free tamale making workshop from 3-5 pm. \nThen on Monday\, February 2 (the Feast of Candlemas!) spend an evening at Procter\, enjoying an international Candlemas Dinner at 6 pm. For $10\, we’ll feast together on tamales from Mexico\, crepes from France\, and more! We’ll also have the opportunity to share together some Candlemas craft activities. \nAfter dinner\, join us for SING! Candlelit Holden Evening Prayer\, Blessing of the Candles\, and a Winter Hymn Sing led by Nathan Greer (co-executive director at Procter Center) and Stephen Sollars (organist at St. John’s\, Worthington). There’s no-cost to join our service and hymn sing! Overnight accommodations are available for the evening of Feb. 2 for an additional cost. \nAll are welcome; minors must be accompanied by an adult. Registration deadline is Jan. 28. \nREGISTER HERE \nQuestions about this event?\nContact Jerusalem Greer\, co-executive director of Procter Center at jgreer@proctercenter.org.
URL:https://diosohio.org/event/pop-up-candlemas-celebration-dinner/
LOCATION:Procter Center\, 11235 St. Rt. 38 SE\, London\, OH\, 43140\, United States
CATEGORIES:Diocese,Procter Center
ATTACH;FMTTYPE=image/png:https://diosohio.org/wp-content/uploads/2026/01/candlemas-2026.png
END:VEVENT
BEGIN:VEVENT
DTSTART;TZID=America/New_York:20260213T160000
DTEND;TZID=America/New_York:20260215T110000
DTSTAMP:20260425T083024
CREATED:20250414T135932Z
LAST-MODIFIED:20260106T203329Z
UID:10002008-1770998400-1771153200@diosohio.org
SUMMARY:Youth Winter Retreat
DESCRIPTION:“Be yourself. Everyone else is already taken.” – Oscar Wilde \nYouth in 6th-12th grade are invited to Procter’s winter youth retreat! We are going to explore how our unique personality types show God’s love of diversity and God’s purpose in our lives. Through personality tests and other fun reflection activities\, we’ll discover the strengths and quirks that make us the amazing and complex people we are. We’ll also learn how our individual skills and gifts can contribute to creating a better world — the world that God dreams for us! Come ready to celebrate what makes you\, you! \nYouth will come away with a personal mission statement\, a one-of-a-kind soul collage\, and a list of unique strengths to share! And of course\, we’ll have time for all the usual camp activities!! \nDrop off: 4:00-5:30 PM Friday\, February 13 \nClosing Eucharist: 10:00 AM\, Sunday\, February 15 \nPick-Up: 11:00 AM Sunday\, February 15 \nPartial attendance is allowed. \nCarpooling is available upon request. \nCost is $150/person\, scholarships are available. Deadline to register is Feb. 10. \nREGISTER HERE \nQuestions about this event?\nContact Olivia Hamilton\, missioner for lifelong formation at ohamilton@diosohio.org.
URL:https://diosohio.org/event/youth-winter-retreat/
LOCATION:Procter Center\, 11235 St. Rt. 38 SE\, London\, OH\, 43140\, United States
CATEGORIES:Children & Youth,Procter Center
ATTACH;FMTTYPE=image/png:https://diosohio.org/wp-content/uploads/2025/04/youth-retreat-3-e1767727930896.png
ORGANIZER;CN="Procter Center":MAILTO:info@proctercenter.org
END:VEVENT
BEGIN:VEVENT
DTSTART;TZID=America/New_York:20260228T100000
DTEND;TZID=America/New_York:20260228T150000
DTSTAMP:20260425T083024
CREATED:20250414T140045Z
LAST-MODIFIED:20260202T174244Z
UID:10002009-1772272800-1772290800@diosohio.org
SUMMARY:Lenten Quiet Day
DESCRIPTION:You are invited to an Lenten Quiet Day at Procter Center on February 28\, from 10 am to 3 pm. \nThis year’s theme is “The Rhythm of Nature: Exploring Celtic Spirituality” and will be led by the Rev. Libbie Crawford\, Procter’s Deacon in Residence. \nCeltic spirituality is an ancient way of life that is in tune with nature and the rhythms of the cycle of life. It is creative and calls us to pay attention to the turning of the seasons. Deacon Libbie will share some of her favorite resources\, prayers\, and practices and invite us to explore and practice these traditions for ourselves. \nThe day will include a workshop led by Deacon Libble\, Noonday prayer led by the Greers\, lunch from the Procter Kitchen\, and time for silent prayer\, reflection\, and practice. \nThe cost for the retreat is $40. Register here. \nDeacon Libbie is a dedicated minister whose career has always focused on helping others. Libbie’s background in library sciences and her childhood in Alabama as the daughter of a Civil Rights worker\, has helped to shape and fuel her commitment to education\, literacy\, racial equity\, and human rights. Deacon Libbie serves as the Resident Deacon at the Procter Center\, as Staff Chaplain for the Summer Camp program\, and on the Beloved Community team for the Diocese of Southern Ohio. \n 
URL:https://diosohio.org/event/lenten-quiet-day-2/
LOCATION:Procter Center\, 11235 St. Rt. 38 SE\, London\, OH\, 43140\, United States
CATEGORIES:Procter Center
ATTACH;FMTTYPE=image/png:https://diosohio.org/wp-content/uploads/2026/02/lenten-quiet-2026.png
ORGANIZER;CN="Procter Center":MAILTO:info@proctercenter.org
END:VEVENT
BEGIN:VEVENT
DTSTART;VALUE=DATE:20260319
DTEND;VALUE=DATE:20260322
DTSTAMP:20260425T083024
CREATED:20250414T140616Z
LAST-MODIFIED:20260122T204136Z
UID:10002010-1773878400-1774137599@diosohio.org
SUMMARY:Beloved Community Radical Rest Retreat
DESCRIPTION:Exploring the Countercultural Nature of Holy Rest Practices\nCome away and rest… You are invited to join Miriam McKenney\, missioner for beloved community\, for a retreat centered on the holy practice of radical rest. Spend time alone or in community walking the lake or forest trails\, resting in the hammocks\, sharing stories\, napping\, reading\, visiting the farm\, and finding ways to just slow down. \nOur community time will include a collective rest experience in the chapel overlooking Lake Leo\, communal worship and reflection\, and options for group activities\, such as spiritual collage. On Friday evening\, we’ll have a porch fellowship complete with s’mores\, cocktails\, and mocktails. There will also be tables set aside for Silent Meals during all dining hours. Join us as we put the rest in this rest retreat! \nThis retreat is subsidized by the Beloved Community to lower financial barriers to your participation. We will gather at Procter Center to avail ourselves of the many opportunities to slow down\, be in nature\, and be in community. Join us! \nDetails \nMarch 19-21\, 2026 \nArrive at 4 pm on Thursday\nDepart by 4 pm on Saturday \nor Friday only: 9:30 am – 9 pm \nCost \nFull retreat: $200 (includes all meals and lodging)\nFriday night/Saturday: $100 (three meals and lodging)\nFriday only: $40 (two meals) \nRegistration deadline March 16. Register here. \nQuestions about this event? \nContact Miriam McKenney\, missioner for beloved community\, at mmckenney@diosohio.org or Jerusalem Greer\, co-executive director of Procter Center at jgreer@proctercenter.org.
URL:https://diosohio.org/event/beloved-community-rest-retreat-2/
LOCATION:Procter Center\, 11235 St. Rt. 38 SE\, London\, OH\, 43140\, United States
CATEGORIES:Becoming Beloved Community,Procter Center
ATTACH;FMTTYPE=image/png:https://diosohio.org/wp-content/uploads/2026/01/bbc-rest-retreat-2026.png
END:VEVENT
BEGIN:VEVENT
DTSTART;TZID=America/New_York:20260418T090000
DTEND;TZID=America/New_York:20260418T130000
DTSTAMP:20260425T083024
CREATED:20260218T164847Z
LAST-MODIFIED:20260302T185312Z
UID:10002865-1776502800-1776517200@diosohio.org
SUMMARY:Procter Earth Day Work Day
DESCRIPTION:All are invited to join the Procter Center team and members of the Southern Ohio Chapter of the Order of Naucratius for an Earth Day Work Day\, giving thanks for the gift of creation by giving back to the land through service and prayer. \nThe Procter Farm and Outdoor Education Team along with members of the Order of Naucratius will lead a morning filled with service projects for all skill levels and abilities\, across the Procter Woods\, Lake Leo\, and Procter Farm. Our morning concludes with praying Noonday Prayer together and partaking in a delicious thank you lunch\, prepared by the Procter Kitchen Crew and Naucratius leaders. \nKids are invited to participate in Camp WILD activities during our service project time. All participants\, regardless of age\, will have opportunity for community connection and play. \n9 am – Gather\, Light Breakfast\n9:15 am – Projects begin\nNoon – Noonday Prayer then lunch\n1 pm – Departure \nPlease bring work gloves (extras will be available if needed)\, a refillable water bottle\, and wear shoes and clothes that can get dirty. \nEveryone is welcome! All minors must be accompanied by a responsible adult. This event is free\, but please register so we know how much lunch to prepare! REGISTER HERE \nQuestions about this event?\nContact Nathan Greer\, Co-Executive Director\, at ngreer@proctercenter.org.
URL:https://diosohio.org/event/procter-earth-day-work-day/
LOCATION:Procter Center\, 11235 St. Rt. 38 SE\, London\, OH\, 43140\, United States
CATEGORIES:Procter Center
ATTACH;FMTTYPE=image/png:https://diosohio.org/wp-content/uploads/2026/02/earth-day-2026.png
ORGANIZER;CN="Procter Center":MAILTO:info@proctercenter.org
END:VEVENT
END:VCALENDAR