BEGIN:VCALENDAR
VERSION:2.0
PRODID:-//Diocese of Southern Ohio - ECPv6.15.20//NONSGML v1.0//EN
CALSCALE:GREGORIAN
METHOD:PUBLISH
X-WR-CALNAME:Diocese of Southern Ohio
X-ORIGINAL-URL:https://diosohio.org
X-WR-CALDESC:Events for Diocese of Southern Ohio
REFRESH-INTERVAL;VALUE=DURATION:PT1H
X-Robots-Tag:noindex
X-PUBLISHED-TTL:PT1H
BEGIN:VTIMEZONE
TZID:America/New_York
BEGIN:DAYLIGHT
TZOFFSETFROM:-0500
TZOFFSETTO:-0400
TZNAME:EDT
DTSTART:20220313T070000
END:DAYLIGHT
BEGIN:STANDARD
TZOFFSETFROM:-0400
TZOFFSETTO:-0500
TZNAME:EST
DTSTART:20221106T060000
END:STANDARD
BEGIN:DAYLIGHT
TZOFFSETFROM:-0500
TZOFFSETTO:-0400
TZNAME:EDT
DTSTART:20230312T070000
END:DAYLIGHT
BEGIN:STANDARD
TZOFFSETFROM:-0400
TZOFFSETTO:-0500
TZNAME:EST
DTSTART:20231105T060000
END:STANDARD
BEGIN:DAYLIGHT
TZOFFSETFROM:-0500
TZOFFSETTO:-0400
TZNAME:EDT
DTSTART:20240310T070000
END:DAYLIGHT
BEGIN:STANDARD
TZOFFSETFROM:-0400
TZOFFSETTO:-0500
TZNAME:EST
DTSTART:20241103T060000
END:STANDARD
BEGIN:DAYLIGHT
TZOFFSETFROM:-0500
TZOFFSETTO:-0400
TZNAME:EDT
DTSTART:20250309T070000
END:DAYLIGHT
BEGIN:STANDARD
TZOFFSETFROM:-0400
TZOFFSETTO:-0500
TZNAME:EST
DTSTART:20251102T060000
END:STANDARD
BEGIN:DAYLIGHT
TZOFFSETFROM:-0500
TZOFFSETTO:-0400
TZNAME:EDT
DTSTART:20260308T070000
END:DAYLIGHT
BEGIN:STANDARD
TZOFFSETFROM:-0400
TZOFFSETTO:-0500
TZNAME:EST
DTSTART:20261101T060000
END:STANDARD
END:VTIMEZONE
BEGIN:VEVENT
DTSTART;TZID=America/New_York:20250412T100000
DTEND;TZID=America/New_York:20250412T150000
DTSTAMP:20260425T070242
CREATED:20250123T212904Z
LAST-MODIFIED:20250123T212904Z
UID:10001912-1744452000-1744470000@diosohio.org
SUMMARY:Lenten Quiet Day
DESCRIPTION:Join the Diocese of Southern Ohio and Procter Center for a day spent on retreat. \nThis day-retreat will be centered on the theme of “A Commonplace Lent\,” as offered by Episcopal Relief & Development and Procter’s Co-Executive Director\, Jerusalem Greer. \nDuring this retreat\, Jerusalem will lead participants in exploring two uses of the word “common” through the lens of Lent. The first is the sense that we come together to celebrate “all that we are and all that we have in common” — prayer\, worship\, grace\, love\, community\, service\, and so much more. The second understanding of common is a reflection on the ordinary\, everyday nature of these communal gifts – the kind of of gifts we find in the soil\, the sun\, in water\, and around the table. \nInspired by the wisdom of desert mothers and fathers\, monastics\, and other spiritual leaders\, this Quiet Day for all ages will be infused with prayer\, time for group and personal reflection\, and time spent listening to the wisdom of creation. \nSaturday\, April 12\n10 to 3 pm\, lunch is included. The cost to participate in the Lenten Quiet Day is $40/person. The registration deadline is April 9\, 2025. Click here to register. \nQuestions about this event? Please contact Jerusalem Greer\, co-executive director of Procter Center\, at jgreer@proctercenter.org. \n 
URL:https://diosohio.org/event/lenten-quiet-day/
LOCATION:Procter Center\, 11235 St. Rt. 38 SE\, London\, OH\, 43140\, United States
CATEGORIES:Lenten Offering,Procter Center
ATTACH;FMTTYPE=image/png:https://diosohio.org/wp-content/uploads/2025/01/procter-lent.png
ORGANIZER;CN="Procter Center":MAILTO:info@proctercenter.org
END:VEVENT
BEGIN:VEVENT
DTSTART;TZID=America/New_York:20250228T173000
DTEND;TZID=America/New_York:20250302T110000
DTSTAMP:20260425T070242
CREATED:20250115T213010Z
LAST-MODIFIED:20250115T213010Z
UID:10001895-1740763800-1740913200@diosohio.org
SUMMARY:Winter Youth Retreat
DESCRIPTION:Young people in 6th-12th grades are invited to join their peers across the Diocese of Southern Ohio for a three-day retreat at Procter Center! \nOur retreat will include winter camp activities such as sing-song\, Procter Games\, campfire\, camp compline\, farm and forest visits\, and more. We can’t wait to see you! \nThis youth retreat has been subsidized to $150/person. Scholarships are available and may be requested on the registration form. If a young person desires to be at the retreat\, Procter Center will do everything we can to make that happen. The RSVP deadline is February 21\, 2025. \nRSVP here \nQuestions about this event? Please contact Jerusalem Greer\, co-executive director of Procter Center\, at jgreer@proctercenter.org.
URL:https://diosohio.org/event/winter-youth-retreat-2025/
LOCATION:Procter Center\, 11235 St. Rt. 38 SE\, London\, OH\, 43140\, United States
CATEGORIES:Children & Youth,Procter Center
ATTACH;FMTTYPE=image/png:https://diosohio.org/wp-content/uploads/2025/01/youth-retreat-feb-2025.png
END:VEVENT
BEGIN:VEVENT
DTSTART;TZID=America/New_York:20241130T130000
DTEND;TZID=America/New_York:20241130T170000
DTSTAMP:20260425T070242
CREATED:20241112T184900Z
LAST-MODIFIED:20241112T184900Z
UID:10001722-1732971600-1732986000@diosohio.org
SUMMARY:Procter Advent event
DESCRIPTION:All are invited to journey to Procter Center\, the camp and retreat center of the Diocese of Southern Ohio\, to celebrate our Second Annual Advent Event! \nJoin us in making advent wreaths using elements that can be forged in creation here at Procter! S’mores\, Hot Chocolate\, music and games are also part of this fun winter camp event for all ages. Parish carpools and caravans are encouraged! \nQuestions about this program?\nContact Jerusalem Greer\, co-executive director of Procter Center\, at jgreer@proctercenter.org or at 501-681-2809. \nRegistration\nA suggested donation of $5 per person or $10 per household is requested. Please register by November 27th. Register here. \nClick here to download a printable/sharable graphic for this event.
URL:https://diosohio.org/event/procter-advent-event/
LOCATION:Procter Center\, 11235 St. Rt. 38 SE\, London\, OH\, 43140\, United States
CATEGORIES:Advent,Procter Center
ATTACH;FMTTYPE=image/png:https://diosohio.org/wp-content/uploads/2024/11/advent-procter-cover.png
ORGANIZER;CN="Procter Center":MAILTO:info@proctercenter.org
END:VEVENT
BEGIN:VEVENT
DTSTART;TZID=America/New_York:20241022T120000
DTEND;TZID=America/New_York:20241024T130000
DTSTAMP:20260425T070242
CREATED:20240917T172959Z
LAST-MODIFIED:20240917T173113Z
UID:10001639-1729598400-1729774800@diosohio.org
SUMMARY:Bake Pray Rest: A retreat for clergy and lay formation leaders
DESCRIPTION:Join author\, baker\, and retreat leader Kendall Vanderslice for a time of rest and connection through the embodied spiritual practice of bread making\, and learn how to use the Bake with the Bible curriculum (free to DSO parishes) in your context. Camp runs from lunch on 10/22/24 to lunch on 10/24/24. \nRegister here!
URL:https://diosohio.org/event/bake-pray-rest-a-retreat-for-clergy-and-lay-formation-leaders/
LOCATION:Procter Center\, 11235 St. Rt. 38 SE\, London\, OH\, 43140\, United States
CATEGORIES:Procter Center
ATTACH;FMTTYPE=image/png:https://diosohio.org/wp-content/uploads/2024/09/2-1.png
ORGANIZER;CN="Procter Center":MAILTO:info@proctercenter.org
END:VEVENT
BEGIN:VEVENT
DTSTART;TZID=America/New_York:20241005T140000
DTEND;TZID=America/New_York:20241005T170000
DTSTAMP:20260425T070242
CREATED:20240917T172133Z
LAST-MODIFIED:20240917T172133Z
UID:10001637-1728136800-1728147600@diosohio.org
SUMMARY:Harvest Festival and Craft Show
DESCRIPTION:Season of Creation Celebration \nCome celebrate the Season of Creation with a good old fashioned harvest festival! The day will include food\, live music\, porch pickin’\, fall produce picking\, farm tours\, and a fall craft show with local vendors selling their one-of-a-kind goods! We will end the day with a Season of Creation worship celebration in Christ Chapel. More info
URL:https://diosohio.org/event/harvest-festival-and-craft-show/
LOCATION:Procter Center\, 11235 St. Rt. 38 SE\, London\, OH\, 43140\, United States
CATEGORIES:Procter Center
ATTACH;FMTTYPE=image/png:https://diosohio.org/wp-content/uploads/2024/09/Orange-Fall-Festival-Instagram-Story.png
ORGANIZER;CN="Procter Center":MAILTO:info@proctercenter.org
END:VEVENT
BEGIN:VEVENT
DTSTART;VALUE=DATE:20241004
DTEND;VALUE=DATE:20241007
DTSTAMP:20260425T070242
CREATED:20240917T172459Z
LAST-MODIFIED:20240917T172522Z
UID:10001638-1728000000-1728259199@diosohio.org
SUMMARY:Fall Youth Retreat
DESCRIPTION:Procter/DSO Youth Retreat will include some of your favorite camp activities and people. Campers currently in 6th-12th grade are invited to attend this full weekend of community\, campfires\, games and our very first Harvest Festival & Craft Show! \nThis retreat is $150\, and scholarships are available. Just let us know. There will be an option at the bottom of this form to indicate if you would like a scholarship. Click that option\, and we will be in touch. If a youth wants to be at the retreat\, DSO and Procter will do everything we can to make that happen! \nRegister now!
URL:https://diosohio.org/event/fall-youth-retreat/
LOCATION:Procter Center\, 11235 St. Rt. 38 SE\, London\, OH\, 43140\, United States
CATEGORIES:Children & Youth,Procter Center
ATTACH;FMTTYPE=image/png:https://diosohio.org/wp-content/uploads/2024/09/2.png
ORGANIZER;CN="Procter Center":MAILTO:info@proctercenter.org
END:VEVENT
BEGIN:VEVENT
DTSTART;TZID=America/New_York:20240810T140000
DTEND;TZID=America/New_York:20240810T160000
DTSTAMP:20260425T070242
CREATED:20240729T164206Z
LAST-MODIFIED:20240729T164206Z
UID:10001606-1723298400-1723305600@diosohio.org
SUMMARY:Songs and Scoops end of camp celebration
DESCRIPTION:To celebrate the end of an amazing camp season at Procter and to say thank you for all the ways the diocesan community has supported Summer Camp\, the Procter team would like to invite you to a “Songs and Scoops” end-of-camp celebration. Join the camp community on August 10 from 2 to 4 p.m. for an old-fashioned Ice Cream Social\, some camp-themed lawn games\, fishing\, boating\, and a free concert by singer-songwriter Mark Currey\, with special guest The Procter Band. This event is free for all ages and is a great opportunity for everyone to taste and see the Good News of Summer Camp at Procter.
URL:https://diosohio.org/event/songs-and-scoops-end-of-camp-celebration/
LOCATION:Procter Center\, 11235 St. Rt. 38 SE\, London\, OH\, 43140\, United States
CATEGORIES:Procter Center
ATTACH;FMTTYPE=image/png:https://diosohio.org/wp-content/uploads/2024/07/Ice-Cream-Social-1.png
END:VEVENT
BEGIN:VEVENT
DTSTART;TZID=America/New_York:20240420T150000
DTEND;TZID=America/New_York:20240420T170000
DTSTAMP:20260425T070242
CREATED:20240130T154734Z
LAST-MODIFIED:20240130T155526Z
UID:10001333-1713625200-1713632400@diosohio.org
SUMMARY:Procter Summer Camp Open House
DESCRIPTION:Bring the friends and family to our Open House! See what Procter can offer as a retreat and meeting space\, as well as what it means to be a camper. Take in the grounds during one of our site tours\, then enjoy dinner from the food trucks as you relax under our Pavilion\, overlooking the 10 acre lake. This is also a chance to get the kids out to play at Procter! \nRegister here.
URL:https://diosohio.org/event/procter-summer-camp-open-house/
LOCATION:Procter Center\, 11235 St. Rt. 38 SE\, London\, OH\, 43140\, United States
CATEGORIES:Procter Center
ATTACH;FMTTYPE=image/png:https://diosohio.org/wp-content/uploads/2024/01/Open-House.png
ORGANIZER;CN="Procter Center":MAILTO:info@proctercenter.org
END:VEVENT
BEGIN:VEVENT
DTSTART;TZID=America/New_York:20240302T100000
DTEND;TZID=America/New_York:20240302T130000
DTSTAMP:20260425T070242
CREATED:20240130T154022Z
LAST-MODIFIED:20240130T155850Z
UID:10001331-1709373600-1709384400@diosohio.org
SUMMARY:Seeding Day at Procter Center
DESCRIPTION:This time of year\, our farmer is busy seeding trays for what will become our beautiful education and production gardens. On Seeding Day\, we will begin with story sharing and prayer\, and end the day with a meal. This event is for all ages and abilities. Join us\, as we turn the greenhouse green together! \nRSVP here.
URL:https://diosohio.org/event/seeding-day-at-procter-center/
LOCATION:Procter Center\, 11235 St. Rt. 38 SE\, London\, OH\, 43140\, United States
CATEGORIES:Procter Center
ATTACH;FMTTYPE=image/png:https://diosohio.org/wp-content/uploads/2024/01/Seeding-Day.png
ORGANIZER;CN="Procter Center":MAILTO:info@proctercenter.org
END:VEVENT
BEGIN:VEVENT
DTSTART;TZID=America/New_York:20231202T130000
DTEND;TZID=America/New_York:20231202T170000
DTSTAMP:20260425T070242
CREATED:20231121T170630Z
LAST-MODIFIED:20231121T170630Z
UID:10001132-1701522000-1701536400@diosohio.org
SUMMARY:Pop-Up Advent
DESCRIPTION:Procter Center will host an afternoon of Advent-themed activities for all ages. The day will include: \n• Hiking in search of branches\, berries\, pinecones\, and more to build and decorate our own Advent Wreaths \n• Blessing of the Advent Wreathes \n• S’mores and hot chocolate\, candle making\, and games. \nLearn more and register.
URL:https://diosohio.org/event/pop-up-advent/
LOCATION:Procter Center\, 11235 St. Rt. 38 SE\, London\, OH\, 43140\, United States
CATEGORIES:Advent,Procter Center
ATTACH;FMTTYPE=image/png:https://diosohio.org/wp-content/uploads/2023/11/Pop-up-Advent.png
ORGANIZER;CN="Procter Center":MAILTO:info@proctercenter.org
END:VEVENT
BEGIN:VEVENT
DTSTART;VALUE=DATE:20230922
DTEND;VALUE=DATE:20230925
DTSTAMP:20260425T070242
CREATED:20230707T143100Z
LAST-MODIFIED:20230822T202959Z
UID:10000912-1695340800-1695599999@diosohio.org
SUMMARY:Farm to Forest Retreat at Procter
DESCRIPTION:Procter will host a weekend Farm to Forest Retreat from September 22 to 24\, marking the Season of Creation. Participants will spend the weekend learning more about techniques of growing and managing the land and discussing how these practices bring us closer to God. \nSpecial guests speakers will include Brian Sellers-Petersen\, agrarian missioner in the Diocese of Olympia and coordinator for Good News Gardens\, and Rachel Tayse\, an organic farmer and sustainable agricultural advocate. \nLearn more and register for the retreat. Questions? Call Procter at 740-490-6025.
URL:https://diosohio.org/event/farm-to-forest-retreat-at-procter/
LOCATION:Procter Center\, 11235 St. Rt. 38 SE\, London\, OH\, 43140\, United States
CATEGORIES:Adult Formation,Creation Care,Procter Center
ATTACH;FMTTYPE=image/png:https://diosohio.org/wp-content/uploads/2023/03/default-featured-image.png
END:VEVENT
BEGIN:VEVENT
DTSTART;VALUE=DATE:20230726
DTEND;VALUE=DATE:20230730
DTSTAMP:20260425T070242
CREATED:20230421T191341Z
LAST-MODIFIED:20230421T191341Z
UID:10000632-1690329600-1690675199@diosohio.org
SUMMARY:Family Camp at Procter (Session 2)
DESCRIPTION:Want your children to have a camp experience\, but be there to enjoy all the fun and games with them? Family camp is a great way to spend time with your family away from home. Let us do all the program planning and cooking. You just come\, relax\, and play with your kids. \nFamily camp is perfect for multiple generations. Grandparents often bring the grandkids and give mom and dad a break. Maybe the whole family wants to come?! Any and all are welcome. \nRates at Family Camp are based on which accommodations you choose\, and the size of your family. \nDates for Family Camp\nWednesday\, July 12  to Saturday\, July 15 or\nWednesday July 26 to Saturday\, July 29 \nLearn more: https://www.proctercenter.org/campinfo/#family
URL:https://diosohio.org/event/family-camp-at-procter-session-2/
LOCATION:Procter Center\, 11235 St. Rt. 38 SE\, London\, OH\, 43140\, United States
CATEGORIES:Children & Youth,Procter Center
ATTACH;FMTTYPE=image/png:https://diosohio.org/wp-content/uploads/2023/03/default-featured-image.png
END:VEVENT
BEGIN:VEVENT
DTSTART;VALUE=DATE:20230717
DTEND;VALUE=DATE:20230723
DTSTAMP:20260425T070242
CREATED:20230421T190855Z
LAST-MODIFIED:20230421T190855Z
UID:10000628-1689552000-1690070399@diosohio.org
SUMMARY:Middle School Camp at Procter
DESCRIPTION:Do you want to have the time of your life? Okay\, so we won’t be surfing\, hang gliding\, or climbing mountains together. But\, what we will do together will be amazing. We will have tons of fun\, incredible food (including snacks like you wouldn’t believe)\, and leaning into meaningful friendships! \nOf course we will do the traditional camp activities like s’mores around the fire\, singing\, swimming\, and more. We will also empower you to be leaders. We will look at a world where you are in charge. We will learn about what it means to be Episcopaleon and then ask you how to do it! How do we love and serve others the way Jesus did? How did he do it? How can we do it in 2023 and beyond? You have the answers we need! \nCome join us as we have fun and learn how to be better in the world! \nLearn more: https://www.proctercenter.org/campinfo/#middle
URL:https://diosohio.org/event/middle-school-camp-at-procter/
LOCATION:Procter Center\, 11235 St. Rt. 38 SE\, London\, OH\, 43140\, United States
CATEGORIES:Children & Youth,Procter Center
ATTACH;FMTTYPE=image/png:https://diosohio.org/wp-content/uploads/2023/03/default-featured-image.png
END:VEVENT
BEGIN:VEVENT
DTSTART;VALUE=DATE:20230712
DTEND;VALUE=DATE:20230716
DTSTAMP:20260425T070242
CREATED:20230421T191251Z
LAST-MODIFIED:20230421T191251Z
UID:10000631-1689120000-1689465599@diosohio.org
SUMMARY:Family Camp at Procter (Session 1)
DESCRIPTION:Want your children to have a camp experience\, but be there to enjoy all the fun and games with them? Family camp is a great way to spend time with your family away from home. Let us do all the program planning and cooking. You just come\, relax\, and play with your kids. \nFamily camp is perfect for multiple generations. Grandparents often bring the grandkids and give mom and dad a break. Maybe the whole family wants to come?! Any and all are welcome. \nRates at Family Camp are based on which accommodations you choose\, and the size of your family. \nDates for Family Camp\nWednesday\, July 12  to Saturday\, July 15 or\nWednesday July 26 to Saturday\, July 29 \nLearn more: https://www.proctercenter.org/campinfo/#family
URL:https://diosohio.org/event/family-camp-at-procter-session-1/
LOCATION:Procter Center\, 11235 St. Rt. 38 SE\, London\, OH\, 43140\, United States
CATEGORIES:Children & Youth,Procter Center
ATTACH;FMTTYPE=image/png:https://diosohio.org/wp-content/uploads/2023/03/default-featured-image.png
END:VEVENT
BEGIN:VEVENT
DTSTART;VALUE=DATE:20230626
DTEND;VALUE=DATE:20230702
DTSTAMP:20260425T070242
CREATED:20230421T191019Z
LAST-MODIFIED:20230421T191019Z
UID:10000629-1687737600-1688255999@diosohio.org
SUMMARY:Senior High Camp at Procter
DESCRIPTION:High school teens\, we want senior high camp to be a place where you can be yourself\, find rest\, have tons of fun\, and strengthen friendships. You will get the opportunity to do all that and more including times where we can discuss God\, spirituality\, religion\, etc.. in an affirming\, open environment. \nOur theme this summer is Community of Saints: Part of the Family. We will lean on you to bring that theme to life. The vision is to create a community where everyone feels loved and included. We will work together through dialogue and engaging activities to figure out how to create such a community! \nRegister today and help build a community that cares about one another! \nLearn more: https://www.proctercenter.org/campinfo/#senior
URL:https://diosohio.org/event/senior-high-camp-at-procter/
LOCATION:Procter Center\, 11235 St. Rt. 38 SE\, London\, OH\, 43140\, United States
CATEGORIES:Children & Youth,Procter Center
ATTACH;FMTTYPE=image/png:https://diosohio.org/wp-content/uploads/2023/03/default-featured-image.png
END:VEVENT
BEGIN:VEVENT
DTSTART;TZID=America/New_York:20230429T100000
DTEND;TZID=America/New_York:20230429T140000
DTSTAMP:20260425T070242
CREATED:20230421T190451Z
LAST-MODIFIED:20230421T190520Z
UID:10000626-1682762400-1682776800@diosohio.org
SUMMARY:Procter Center Open House
DESCRIPTION:Folks who have never gone to Procter Camp before\, or those who are long-time camp goers\, but who maybe just want to learn a little more about the inner workings of Procter. This is a time when you can take in our beautiful grounds; grab lunch from a food truck to eat under the pavilion\, overlooking the lake. This is a time to learn about all things camp\, take tours of our farm\, cottages\, and lodge\, or be guided through any registration requirements from our knowledgeable staff. It will be a day full of fun and excitement with special goodies given out throughout the day. Join us!
URL:https://diosohio.org/event/procter-center-open-house/
LOCATION:Procter Center\, 11235 St. Rt. 38 SE\, London\, OH\, 43140\, United States
CATEGORIES:Children & Youth,Procter Center
ATTACH;FMTTYPE=image/png:https://diosohio.org/wp-content/uploads/2023/03/default-featured-image.png
END:VEVENT
BEGIN:VEVENT
DTSTART;TZID=America/New_York:20230422T100000
DTEND;TZID=America/New_York:20230422T160000
DTSTAMP:20260425T070242
CREATED:20230221T180255Z
LAST-MODIFIED:20230221T180255Z
UID:10000118-1682157600-1682179200@diosohio.org
SUMMARY:Beautification Day at Procter Center
DESCRIPTION:Procter Center needs your help getting our grounds ready for the camp season. What better way to spend Earth Day than by ensuring our outdoor space can continue to be a beautiful place for reflection and learning. \nBeautification Day projects include: \n\nCreating an herb and lettuce garden outside of the kitchen\, in the tiered garden boxes.\nRepotting plants in the greenhouse\nWeeding and cultivating the raised beds and high tunnel.\nTransplanting vegetables from the greenhouse to the field.\nPlanting in the flower beds outside Thompson Lodge\, Christ’s Chapel\, and the Sawyer Greenhouse.\nWeeding and planting in the two court yards.\nBuilding a firepit by the lake.\nCleaning out Blanchard Commons.\n\nClick here to sign up\, or email Danielle at dvogel@proctercenter.org. Even if you can only come for a couple of hours\, we would love your help!
URL:https://diosohio.org/event/beautification-day-at-procter-center/
LOCATION:Procter Center\, 11235 St. Rt. 38 SE\, London\, OH\, 43140\, United States
CATEGORIES:Procter Center
ATTACH;FMTTYPE=image/png:https://diosohio.org/wp-content/uploads/2023/03/default-featured-image.png
ORGANIZER;CN="Procter Center":MAILTO:info@proctercenter.org
END:VEVENT
END:VCALENDAR