BEGIN:VCALENDAR
VERSION:2.0
PRODID:-//Diocese of Southern Ohio - ECPv6.15.20//NONSGML v1.0//EN
CALSCALE:GREGORIAN
METHOD:PUBLISH
X-WR-CALNAME:Diocese of Southern Ohio
X-ORIGINAL-URL:https://diosohio.org
X-WR-CALDESC:Events for Diocese of Southern Ohio
REFRESH-INTERVAL;VALUE=DURATION:PT1H
X-Robots-Tag:noindex
X-PUBLISHED-TTL:PT1H
BEGIN:VTIMEZONE
TZID:America/New_York
BEGIN:DAYLIGHT
TZOFFSETFROM:-0500
TZOFFSETTO:-0400
TZNAME:EDT
DTSTART:20220313T070000
END:DAYLIGHT
BEGIN:STANDARD
TZOFFSETFROM:-0400
TZOFFSETTO:-0500
TZNAME:EST
DTSTART:20221106T060000
END:STANDARD
BEGIN:DAYLIGHT
TZOFFSETFROM:-0500
TZOFFSETTO:-0400
TZNAME:EDT
DTSTART:20230312T070000
END:DAYLIGHT
BEGIN:STANDARD
TZOFFSETFROM:-0400
TZOFFSETTO:-0500
TZNAME:EST
DTSTART:20231105T060000
END:STANDARD
BEGIN:DAYLIGHT
TZOFFSETFROM:-0500
TZOFFSETTO:-0400
TZNAME:EDT
DTSTART:20240310T070000
END:DAYLIGHT
BEGIN:STANDARD
TZOFFSETFROM:-0400
TZOFFSETTO:-0500
TZNAME:EST
DTSTART:20241103T060000
END:STANDARD
END:VTIMEZONE
BEGIN:VEVENT
DTSTART;VALUE=DATE:20230717
DTEND;VALUE=DATE:20230723
DTSTAMP:20260425T083032
CREATED:20230421T190855Z
LAST-MODIFIED:20230421T190855Z
UID:10000628-1689552000-1690070399@diosohio.org
SUMMARY:Middle School Camp at Procter
DESCRIPTION:Do you want to have the time of your life? Okay\, so we won’t be surfing\, hang gliding\, or climbing mountains together. But\, what we will do together will be amazing. We will have tons of fun\, incredible food (including snacks like you wouldn’t believe)\, and leaning into meaningful friendships! \nOf course we will do the traditional camp activities like s’mores around the fire\, singing\, swimming\, and more. We will also empower you to be leaders. We will look at a world where you are in charge. We will learn about what it means to be Episcopaleon and then ask you how to do it! How do we love and serve others the way Jesus did? How did he do it? How can we do it in 2023 and beyond? You have the answers we need! \nCome join us as we have fun and learn how to be better in the world! \nLearn more: https://www.proctercenter.org/campinfo/#middle
URL:https://diosohio.org/event/middle-school-camp-at-procter/
LOCATION:Procter Center\, 11235 St. Rt. 38 SE\, London\, OH\, 43140\, United States
CATEGORIES:Children & Youth,Procter Center
ATTACH;FMTTYPE=image/png:https://diosohio.org/wp-content/uploads/2023/03/default-featured-image.png
END:VEVENT
BEGIN:VEVENT
DTSTART;VALUE=DATE:20230712
DTEND;VALUE=DATE:20230716
DTSTAMP:20260425T083032
CREATED:20230421T191251Z
LAST-MODIFIED:20230421T191251Z
UID:10000631-1689120000-1689465599@diosohio.org
SUMMARY:Family Camp at Procter (Session 1)
DESCRIPTION:Want your children to have a camp experience\, but be there to enjoy all the fun and games with them? Family camp is a great way to spend time with your family away from home. Let us do all the program planning and cooking. You just come\, relax\, and play with your kids. \nFamily camp is perfect for multiple generations. Grandparents often bring the grandkids and give mom and dad a break. Maybe the whole family wants to come?! Any and all are welcome. \nRates at Family Camp are based on which accommodations you choose\, and the size of your family. \nDates for Family Camp\nWednesday\, July 12  to Saturday\, July 15 or\nWednesday July 26 to Saturday\, July 29 \nLearn more: https://www.proctercenter.org/campinfo/#family
URL:https://diosohio.org/event/family-camp-at-procter-session-1/
LOCATION:Procter Center\, 11235 St. Rt. 38 SE\, London\, OH\, 43140\, United States
CATEGORIES:Children & Youth,Procter Center
ATTACH;FMTTYPE=image/png:https://diosohio.org/wp-content/uploads/2023/03/default-featured-image.png
END:VEVENT
BEGIN:VEVENT
DTSTART;VALUE=DATE:20230626
DTEND;VALUE=DATE:20230702
DTSTAMP:20260425T083032
CREATED:20230421T191019Z
LAST-MODIFIED:20230421T191019Z
UID:10000629-1687737600-1688255999@diosohio.org
SUMMARY:Senior High Camp at Procter
DESCRIPTION:High school teens\, we want senior high camp to be a place where you can be yourself\, find rest\, have tons of fun\, and strengthen friendships. You will get the opportunity to do all that and more including times where we can discuss God\, spirituality\, religion\, etc.. in an affirming\, open environment. \nOur theme this summer is Community of Saints: Part of the Family. We will lean on you to bring that theme to life. The vision is to create a community where everyone feels loved and included. We will work together through dialogue and engaging activities to figure out how to create such a community! \nRegister today and help build a community that cares about one another! \nLearn more: https://www.proctercenter.org/campinfo/#senior
URL:https://diosohio.org/event/senior-high-camp-at-procter/
LOCATION:Procter Center\, 11235 St. Rt. 38 SE\, London\, OH\, 43140\, United States
CATEGORIES:Children & Youth,Procter Center
ATTACH;FMTTYPE=image/png:https://diosohio.org/wp-content/uploads/2023/03/default-featured-image.png
END:VEVENT
BEGIN:VEVENT
DTSTART;TZID=America/New_York:20230429T100000
DTEND;TZID=America/New_York:20230429T140000
DTSTAMP:20260425T083032
CREATED:20230421T190451Z
LAST-MODIFIED:20230421T190520Z
UID:10000626-1682762400-1682776800@diosohio.org
SUMMARY:Procter Center Open House
DESCRIPTION:Folks who have never gone to Procter Camp before\, or those who are long-time camp goers\, but who maybe just want to learn a little more about the inner workings of Procter. This is a time when you can take in our beautiful grounds; grab lunch from a food truck to eat under the pavilion\, overlooking the lake. This is a time to learn about all things camp\, take tours of our farm\, cottages\, and lodge\, or be guided through any registration requirements from our knowledgeable staff. It will be a day full of fun and excitement with special goodies given out throughout the day. Join us!
URL:https://diosohio.org/event/procter-center-open-house/
LOCATION:Procter Center\, 11235 St. Rt. 38 SE\, London\, OH\, 43140\, United States
CATEGORIES:Children & Youth,Procter Center
ATTACH;FMTTYPE=image/png:https://diosohio.org/wp-content/uploads/2023/03/default-featured-image.png
END:VEVENT
BEGIN:VEVENT
DTSTART;TZID=America/New_York:20230422T100000
DTEND;TZID=America/New_York:20230422T160000
DTSTAMP:20260425T083032
CREATED:20230221T180255Z
LAST-MODIFIED:20230221T180255Z
UID:10000118-1682157600-1682179200@diosohio.org
SUMMARY:Beautification Day at Procter Center
DESCRIPTION:Procter Center needs your help getting our grounds ready for the camp season. What better way to spend Earth Day than by ensuring our outdoor space can continue to be a beautiful place for reflection and learning. \nBeautification Day projects include: \n\nCreating an herb and lettuce garden outside of the kitchen\, in the tiered garden boxes.\nRepotting plants in the greenhouse\nWeeding and cultivating the raised beds and high tunnel.\nTransplanting vegetables from the greenhouse to the field.\nPlanting in the flower beds outside Thompson Lodge\, Christ’s Chapel\, and the Sawyer Greenhouse.\nWeeding and planting in the two court yards.\nBuilding a firepit by the lake.\nCleaning out Blanchard Commons.\n\nClick here to sign up\, or email Danielle at dvogel@proctercenter.org. Even if you can only come for a couple of hours\, we would love your help!
URL:https://diosohio.org/event/beautification-day-at-procter-center/
LOCATION:Procter Center\, 11235 St. Rt. 38 SE\, London\, OH\, 43140\, United States
CATEGORIES:Procter Center
ATTACH;FMTTYPE=image/png:https://diosohio.org/wp-content/uploads/2023/03/default-featured-image.png
ORGANIZER;CN="Procter Center":MAILTO:info@proctercenter.org
END:VEVENT
END:VCALENDAR