BEGIN:VCALENDAR
VERSION:2.0
PRODID:-//Diocese of Southern Ohio - ECPv6.15.20//NONSGML v1.0//EN
CALSCALE:GREGORIAN
METHOD:PUBLISH
X-ORIGINAL-URL:https://diosohio.org
X-WR-CALDESC:Events for Diocese of Southern Ohio
REFRESH-INTERVAL;VALUE=DURATION:PT1H
X-Robots-Tag:noindex
X-PUBLISHED-TTL:PT1H
BEGIN:VTIMEZONE
TZID:America/New_York
BEGIN:DAYLIGHT
TZOFFSETFROM:-0500
TZOFFSETTO:-0400
TZNAME:EDT
DTSTART:20250309T070000
END:DAYLIGHT
BEGIN:STANDARD
TZOFFSETFROM:-0400
TZOFFSETTO:-0500
TZNAME:EST
DTSTART:20251102T060000
END:STANDARD
BEGIN:DAYLIGHT
TZOFFSETFROM:-0500
TZOFFSETTO:-0400
TZNAME:EDT
DTSTART:20260308T070000
END:DAYLIGHT
BEGIN:STANDARD
TZOFFSETFROM:-0400
TZOFFSETTO:-0500
TZNAME:EST
DTSTART:20261101T060000
END:STANDARD
BEGIN:DAYLIGHT
TZOFFSETFROM:-0500
TZOFFSETTO:-0400
TZNAME:EDT
DTSTART:20270314T070000
END:DAYLIGHT
BEGIN:STANDARD
TZOFFSETFROM:-0400
TZOFFSETTO:-0500
TZNAME:EST
DTSTART:20271107T060000
END:STANDARD
END:VTIMEZONE
BEGIN:VEVENT
DTSTART;TZID=America/New_York:20260428T180000
DTEND;TZID=America/New_York:20260428T193000
DTSTAMP:20260424T184103
CREATED:20260309T154207Z
LAST-MODIFIED:20260309T154207Z
UID:10002881-1777399200-1777404600@diosohio.org
SUMMARY:African Americans and the Bible Book Study
DESCRIPTION:Tuesdays in April from 6-7:30 pm on Zoom\nJoin the Episcopal Diocese of Southern Ohio this April for an engaging and transformative formation opportunity: African Americans and the Bible. \nThis four-week study invites participants into a deeper understanding of the historical and cultural relationship between African Americans and Holy Scripture. Grounded in The Talking Book by Allen Dwight Callahan\, this course explores how African Americans encountered\, interpreted\, proclaimed\, and embodied the Bible in the midst of enslavement and the ongoing struggle for freedom and dignity. \nFor generations\, the Bible has been more than a sacred text in African American communities—it has been a source of hope\, resistance\, identity\, spiritual wrestling\, and spiritual power. Together\, we will examine how this “talking book” has shaped faith\, worship\, preaching\, and public witness. Participants will gain a richer appreciation for Scripture as it has been read and lived through the cultural lens of African Americans\, broadening and deepening their own engagement with the Word of God. \nWhether you are clergy\, a lay leader\, or someone seeking to grow in faith and understanding\, this study offers space for learning\, reflection\, and meaningful conversation. Come ready to listen\, to learn\, and to encounter the Bible anew. We look forward to walking this journey together. \n\nQuestions about this event and program?\n\nContact the Rev. Aaron Rogers\, missioner for Black ministries\, at arogers@diosohio.org. \nRegistration \nThere is no cost for this program and no deadline to register. The first ten people to register will receive a complimentary copy of The Talking Book by Dr. Callahan. \nREGISTER HERE
URL:https://diosohio.org/event/african-americans-and-the-bible-book-study/2026-04-28/
CATEGORIES:Black Ministries
ATTACH;FMTTYPE=image/png:https://diosohio.org/wp-content/uploads/2026/02/aa-bible-2026.png
END:VEVENT
BEGIN:VEVENT
DTSTART;TZID=America/New_York:20260501T090000
DTEND;TZID=America/New_York:20260501T120000
DTSTAMP:20260424T184103
CREATED:20260420T151310Z
LAST-MODIFIED:20260420T151310Z
UID:10002913-1777626000-1777636800@diosohio.org
SUMMARY:AI & Prompting: ﻿ ﻿Empowering the Church for Today and Tomorrow
DESCRIPTION:Join leaders across Southern Ohio for a Zoom intensive on AI use and church ministry\, led by church communications professional and AI-leader\, Katie Allred. This Zoom workshop is geared toward clergy and lay leaders as well as communications staff and volunteers. \nThis hands-on training session is designed to help ministry leaders confidently use artificial intelligence in their daily work. The workshop covers the foundations of generative tools and effective prompting techniques—including role-based prompting and iterative refinement—and features a live challenge where attendees apply these skills to real-world tasks. \nThe session also prioritizes ethics and safety\, dedicating time to the specific risks churches face\, such as protecting missionary communications and safeguarding sensitive data like counseling notes and giving records. Participants will leave with a clear framework for responsible AI use that aligns with their mission and values\, centered on the principle: “Automate the Temporary. Invest in the Eternal.” \nFriday\, May 1\n9 am – Noon\nThis online workshop will take place on Zoom. \nInvitees: Ministry leaders\, both lay and ordained\, especially parish clergy\, lay leaders and staff\, and communications staff and volunteers. No cost\, and no deadline to register. \nREGISTER HERE \nQuestions about this event? \nContact Canon Katie Forsyth\, canon for communications\, at kforsyth@diosohio.org. \n\nAbout our Workshop Presenter \nKatie Allred is a consultant\, educator\, and community strategist working at the intersection of AI\, faith\, and digital community. She founded ChurchCommunications.com\, growing it to over 35\,000 members\, and currently leads a consulting practice helping mission-driven organizations implement AI strategy. Katie also serves as Head of Community at Public Democracy and has prior experience at Meta managing faith community and Scaled Creator Partnerships. She teaches at the University of Florida and Middle Tennessee State University and is based in Nolensville\, Tennessee. \n 
URL:https://diosohio.org/event/ai-prompting-empowering-the-church-for-today-and-tomorrow/
CATEGORIES:Webinar
ATTACH;FMTTYPE=image/png:https://diosohio.org/wp-content/uploads/2026/04/ai-2026.png
END:VEVENT
BEGIN:VEVENT
DTSTART;TZID=America/New_York:20260502T100000
DTEND;TZID=America/New_York:20260502T150000
DTSTAMP:20260424T184103
CREATED:20260312T155236Z
LAST-MODIFIED:20260312T155236Z
UID:10002884-1777716000-1777734000@diosohio.org
SUMMARY:In-Person Safe Church Training
DESCRIPTION:Safe Church training helps us protect children\, youth\, and vulnerable adults by promoting healthy boundaries\, accountability\, and care. It is a practical way to live out our Baptismal Covenant by respecting the dignity of every human being and striving for justice and peace. \nThe training also equips clergy\, staff\, and volunteers to build trust and respond faithfully and appropriately if concerns arise\, helping our congregations remain safe and welcoming places for all. \nThose who prefer an in-person learning experience are invited to attend the daylong training at Procter Camp and Conference Center on Saturday\, May 2nd. We’ll begin at 10 am and conclude by 3 pm\, with a break for lunch. Participation in this training completes the requirement for service on vestries\, diocesan leadership\, and most other ministry roles. \nMay 2\, 2026 \nArrive by 10 am\nDepart by 3 pm \nRegistration \nOpen to adults and teens over 16 years old (with a responsible adult). Cost $10\, to be collected at check-in. Deadline to register is April 24. \nREGISTER HERE
URL:https://diosohio.org/event/in-person-safe-church-training-3/
LOCATION:Procter Center\, 11235 St. Rt. 38 SE\, London\, OH\, 43140\, United States
CATEGORIES:Safe Church
ATTACH;FMTTYPE=image/png:https://diosohio.org/wp-content/uploads/2026/03/safe-church-feb-2026.png
END:VEVENT
END:VCALENDAR