BEGIN:VCALENDAR
VERSION:2.0
PRODID:-//Diocese of Southern Ohio - ECPv6.15.20//NONSGML v1.0//EN
CALSCALE:GREGORIAN
METHOD:PUBLISH
X-WR-CALNAME:Diocese of Southern Ohio
X-ORIGINAL-URL:https://diosohio.org
X-WR-CALDESC:Events for Diocese of Southern Ohio
REFRESH-INTERVAL;VALUE=DURATION:PT1H
X-Robots-Tag:noindex
X-PUBLISHED-TTL:PT1H
BEGIN:VTIMEZONE
TZID:America/New_York
BEGIN:DAYLIGHT
TZOFFSETFROM:-0500
TZOFFSETTO:-0400
TZNAME:EDT
DTSTART:20220313T070000
END:DAYLIGHT
BEGIN:STANDARD
TZOFFSETFROM:-0400
TZOFFSETTO:-0500
TZNAME:EST
DTSTART:20221106T060000
END:STANDARD
BEGIN:DAYLIGHT
TZOFFSETFROM:-0500
TZOFFSETTO:-0400
TZNAME:EDT
DTSTART:20230312T070000
END:DAYLIGHT
BEGIN:STANDARD
TZOFFSETFROM:-0400
TZOFFSETTO:-0500
TZNAME:EST
DTSTART:20231105T060000
END:STANDARD
BEGIN:DAYLIGHT
TZOFFSETFROM:-0500
TZOFFSETTO:-0400
TZNAME:EDT
DTSTART:20240310T070000
END:DAYLIGHT
BEGIN:STANDARD
TZOFFSETFROM:-0400
TZOFFSETTO:-0500
TZNAME:EST
DTSTART:20241103T060000
END:STANDARD
BEGIN:DAYLIGHT
TZOFFSETFROM:-0500
TZOFFSETTO:-0400
TZNAME:EDT
DTSTART:20250309T070000
END:DAYLIGHT
BEGIN:STANDARD
TZOFFSETFROM:-0400
TZOFFSETTO:-0500
TZNAME:EST
DTSTART:20251102T060000
END:STANDARD
END:VTIMEZONE
BEGIN:VEVENT
DTSTART;TZID=America/New_York:20240601T110000
DTEND;TZID=America/New_York:20240601T140000
DTSTAMP:20260425T081542
CREATED:20240514T181724Z
LAST-MODIFIED:20240514T181724Z
UID:10001491-1717239600-1717250400@diosohio.org
SUMMARY:Embroidery & Weaving Exhibit and Demonstration
DESCRIPTION:Transformations CDC will sponsor an embroidery exhibit\, traditional Central and South American backstrap weaving demonstration\, and weaving activity for kids on Saturday\, June 1 from 11 a.m. to 2 p.m. at the Price Hill Library\, 970 Purcell Ave. All are welcome. \n \n 
URL:https://diosohio.org/event/embroidery-weaving-exhibit-and-demonstration/
LOCATION:Price Hill Library\, 970 Purcell Ave\, Cincinnati\, 45205\, United States
CATEGORIES:Community
ATTACH;FMTTYPE=image/png:https://diosohio.org/wp-content/uploads/2024/05/Transformations-flyer.png
ORGANIZER;CN="Transformations CDC":MAILTO:badgmur@gmail.com
END:VEVENT
BEGIN:VEVENT
DTSTART;TZID=America/New_York:20231216T180000
DTEND;TZID=America/New_York:20231216T200000
DTSTAMP:20260425T081542
CREATED:20231128T160054Z
LAST-MODIFIED:20231128T160152Z
UID:10001135-1702749600-1702756800@diosohio.org
SUMMARY:Las Posadas
DESCRIPTION:Las Posadas is an Hispanic tradition reenacting the Holy Family’s journey to find shelter. Transformations CDC will sponsor a celebration of Las Posadas on Saturday\, December 16 at 6 p.m. in the Westmont neighborhood in Cincinnati. Many residents of Westmont have made similar journeys\, so it is especially poignant for them. \nCarrying candles\, we will relive meeting the gruff\, then welcoming\, innkeeper\, sing traditional (bilingual) songs and carols\, and enjoy hot food and drink. Each child will receive a stuffed animal. \nThe event will be held in the pocket park between 1915 and 1917 Westmont Lane.
URL:https://diosohio.org/event/las-posadas/
CATEGORIES:Advent,Community
ATTACH;FMTTYPE=image/png:https://diosohio.org/wp-content/uploads/2023/11/las-posadas.png
ORGANIZER;CN="Transformations CDC":MAILTO:badgmur@gmail.com
END:VEVENT
END:VCALENDAR