BEGIN:VCALENDAR
VERSION:2.0
PRODID:-//Diocese of Southern Ohio - ECPv6.15.20//NONSGML v1.0//EN
CALSCALE:GREGORIAN
METHOD:PUBLISH
X-ORIGINAL-URL:https://diosohio.org
X-WR-CALDESC:Events for Diocese of Southern Ohio
REFRESH-INTERVAL;VALUE=DURATION:PT1H
X-Robots-Tag:noindex
X-PUBLISHED-TTL:PT1H
BEGIN:VTIMEZONE
TZID:America/New_York
BEGIN:DAYLIGHT
TZOFFSETFROM:-0500
TZOFFSETTO:-0400
TZNAME:EDT
DTSTART:20230312T070000
END:DAYLIGHT
BEGIN:STANDARD
TZOFFSETFROM:-0400
TZOFFSETTO:-0500
TZNAME:EST
DTSTART:20231105T060000
END:STANDARD
BEGIN:DAYLIGHT
TZOFFSETFROM:-0500
TZOFFSETTO:-0400
TZNAME:EDT
DTSTART:20240310T070000
END:DAYLIGHT
BEGIN:STANDARD
TZOFFSETFROM:-0400
TZOFFSETTO:-0500
TZNAME:EST
DTSTART:20241103T060000
END:STANDARD
BEGIN:DAYLIGHT
TZOFFSETFROM:-0500
TZOFFSETTO:-0400
TZNAME:EDT
DTSTART:20250309T070000
END:DAYLIGHT
BEGIN:STANDARD
TZOFFSETFROM:-0400
TZOFFSETTO:-0500
TZNAME:EST
DTSTART:20251102T060000
END:STANDARD
BEGIN:DAYLIGHT
TZOFFSETFROM:-0500
TZOFFSETTO:-0400
TZNAME:EDT
DTSTART:20260308T070000
END:DAYLIGHT
BEGIN:STANDARD
TZOFFSETFROM:-0400
TZOFFSETTO:-0500
TZNAME:EST
DTSTART:20261101T060000
END:STANDARD
END:VTIMEZONE
BEGIN:VEVENT
DTSTART;TZID=America/New_York:20250607T150000
DTEND;TZID=America/New_York:20250607T200000
DTSTAMP:20260424T115319
CREATED:20250311T172842Z
LAST-MODIFIED:20250311T172842Z
UID:10001966-1749308400-1749326400@diosohio.org
SUMMARY:Hillsboro Pride
DESCRIPTION:More information TBA.
URL:https://diosohio.org/event/hillsboro-pride-2/
LOCATION:Liberty Park\, 201 Diamond Dr\, Hillsboro\, 45133\, United States
CATEGORIES:LGBTQ+ Ministry,Pride
ATTACH;FMTTYPE=image/png:https://diosohio.org/wp-content/uploads/2023/03/default-featured-image.png
END:VEVENT
BEGIN:VEVENT
DTSTART;TZID=America/New_York:20240608T150000
DTEND;TZID=America/New_York:20240608T200000
DTSTAMP:20260424T115319
CREATED:20240508T160352Z
LAST-MODIFIED:20240516T173255Z
UID:10001488-1717858800-1717876800@diosohio.org
SUMMARY:Hillsboro Pride
DESCRIPTION:Hillsboro Pride will be held on Saturday\, June 8 from 3 to 8 p.m. at Liberty Park. Learn more here. \nTo volunteer to be a part of the Episcopal Church presence\, click here.
URL:https://diosohio.org/event/hillsboro-pride/
LOCATION:Liberty Park\, 201 Diamond Dr\, Hillsboro\, 45133\, United States
CATEGORIES:LGBTQ+ Ministry,Pride
ATTACH;FMTTYPE=image/jpeg:https://diosohio.org/wp-content/uploads/2024/05/Hillsboro-Pride.jpg
END:VEVENT
END:VCALENDAR