BEGIN:VCALENDAR
VERSION:2.0
PRODID:-//Diocese of Southern Ohio - ECPv6.15.20//NONSGML v1.0//EN
CALSCALE:GREGORIAN
METHOD:PUBLISH
X-ORIGINAL-URL:https://diosohio.org
X-WR-CALDESC:Events for Diocese of Southern Ohio
REFRESH-INTERVAL;VALUE=DURATION:PT1H
X-Robots-Tag:noindex
X-PUBLISHED-TTL:PT1H
BEGIN:VTIMEZONE
TZID:America/New_York
BEGIN:DAYLIGHT
TZOFFSETFROM:-0500
TZOFFSETTO:-0400
TZNAME:EDT
DTSTART:20250309T070000
END:DAYLIGHT
BEGIN:STANDARD
TZOFFSETFROM:-0400
TZOFFSETTO:-0500
TZNAME:EST
DTSTART:20251102T060000
END:STANDARD
BEGIN:DAYLIGHT
TZOFFSETFROM:-0500
TZOFFSETTO:-0400
TZNAME:EDT
DTSTART:20260308T070000
END:DAYLIGHT
BEGIN:STANDARD
TZOFFSETFROM:-0400
TZOFFSETTO:-0500
TZNAME:EST
DTSTART:20261101T060000
END:STANDARD
BEGIN:DAYLIGHT
TZOFFSETFROM:-0500
TZOFFSETTO:-0400
TZNAME:EDT
DTSTART:20270314T070000
END:DAYLIGHT
BEGIN:STANDARD
TZOFFSETFROM:-0400
TZOFFSETTO:-0500
TZNAME:EST
DTSTART:20271107T060000
END:STANDARD
END:VTIMEZONE
BEGIN:VEVENT
DTSTART;TZID=America/New_York:20260606T150000
DTEND;TZID=America/New_York:20260606T200000
DTSTAMP:20260424T103557
CREATED:20260423T165059Z
LAST-MODIFIED:20260423T174904Z
UID:10002917-1780758000-1780776000@diosohio.org
SUMMARY:Hillsboro Pride
DESCRIPTION:Be a part of the Episcopal Church presence at Hillsboro Pride! To volunteer\, contact the office at St. Mary’s at stmaryshillsboro@gmail.com.
URL:https://diosohio.org/event/hillsboro-pride-3/
LOCATION:Liberty Park\, 201 Diamond Dr\, Hillsboro\, 45133\, United States
CATEGORIES:LGBTQ+ Ministry,Pride
ATTACH;FMTTYPE=image/jpeg:https://diosohio.org/wp-content/uploads/2026/04/Hillsboro-Pride-e1776963044459.jpg
END:VEVENT
END:VCALENDAR