BEGIN:VCALENDAR
VERSION:2.0
PRODID:-//Diocese of Southern Ohio - ECPv6.15.20//NONSGML v1.0//EN
CALSCALE:GREGORIAN
METHOD:PUBLISH
X-WR-CALNAME:Diocese of Southern Ohio
X-ORIGINAL-URL:https://diosohio.org
X-WR-CALDESC:Events for Diocese of Southern Ohio
REFRESH-INTERVAL;VALUE=DURATION:PT1H
X-Robots-Tag:noindex
X-PUBLISHED-TTL:PT1H
BEGIN:VTIMEZONE
TZID:America/New_York
BEGIN:DAYLIGHT
TZOFFSETFROM:-0500
TZOFFSETTO:-0400
TZNAME:EDT
DTSTART:20250309T070000
END:DAYLIGHT
BEGIN:STANDARD
TZOFFSETFROM:-0400
TZOFFSETTO:-0500
TZNAME:EST
DTSTART:20251102T060000
END:STANDARD
BEGIN:DAYLIGHT
TZOFFSETFROM:-0500
TZOFFSETTO:-0400
TZNAME:EDT
DTSTART:20260308T070000
END:DAYLIGHT
BEGIN:STANDARD
TZOFFSETFROM:-0400
TZOFFSETTO:-0500
TZNAME:EST
DTSTART:20261101T060000
END:STANDARD
BEGIN:DAYLIGHT
TZOFFSETFROM:-0500
TZOFFSETTO:-0400
TZNAME:EDT
DTSTART:20270314T070000
END:DAYLIGHT
BEGIN:STANDARD
TZOFFSETFROM:-0400
TZOFFSETTO:-0500
TZNAME:EST
DTSTART:20271107T060000
END:STANDARD
END:VTIMEZONE
BEGIN:VEVENT
DTSTART;TZID=America/New_York:20260215T140000
DTEND;TZID=America/New_York:20260215T150000
DTSTAMP:20260424T210446
CREATED:20260128T184253Z
LAST-MODIFIED:20260128T184253Z
UID:10002767-1771164000-1771167600@diosohio.org
SUMMARY:Interfaith Prayer Gathering for Healing and Peace
DESCRIPTION:A gathering to create space for us to come together across differences and to hold one another\, our communities\, and our world with care. Participants are invited to offer a brief spiritual contribution that speaks to healing and peace. This may take the form of a prayer\, poem\, reading\, song\, or reflection rooted in your tradition or lived experience. Listening is also a meaningful and complete way to participate. The gathering will last approximately one hour. Sponsored by EquaSion. \nAt EquaSion\, we believe healing happens when people show up with intention\, humility\, and care. By gathering across faiths and philosophies\, we strengthen our shared commitment to peace\, dignity\, and belonging for all people. \nPlease register with the link below to RSVP.\nWhether you choose to share or be present\, your participation helps expand the circle of care and deepen our collective work toward healing and peace. \nRegister here. \nMidpointe Library – West Chester\nWest Chester Community Room AB\n9363 Centre Pointe Dr\nWest Chester Township\, OH 45069
URL:https://diosohio.org/event/interfaith-prayer-gathering-for-healing-and-peace/
LOCATION:Midpointe Library\, 9363 Centre Pointe Dr Room AB\, West Chester\, 45069\, United States
CATEGORIES:Community
ATTACH;FMTTYPE=image/png:https://diosohio.org/wp-content/uploads/2026/01/ece74411-74a0-cecd-91dd-a3f05d738cc7-e1769625755677.png
END:VEVENT
END:VCALENDAR