BEGIN:VCALENDAR
VERSION:2.0
PRODID:-//Diocese of Southern Ohio - ECPv6.15.20//NONSGML v1.0//EN
CALSCALE:GREGORIAN
METHOD:PUBLISH
X-WR-CALNAME:Diocese of Southern Ohio
X-ORIGINAL-URL:https://diosohio.org
X-WR-CALDESC:Events for Diocese of Southern Ohio
REFRESH-INTERVAL;VALUE=DURATION:PT1H
X-Robots-Tag:noindex
X-PUBLISHED-TTL:PT1H
BEGIN:VTIMEZONE
TZID:America/New_York
BEGIN:DAYLIGHT
TZOFFSETFROM:-0500
TZOFFSETTO:-0400
TZNAME:EDT
DTSTART:20250309T070000
END:DAYLIGHT
BEGIN:STANDARD
TZOFFSETFROM:-0400
TZOFFSETTO:-0500
TZNAME:EST
DTSTART:20251102T060000
END:STANDARD
BEGIN:DAYLIGHT
TZOFFSETFROM:-0500
TZOFFSETTO:-0400
TZNAME:EDT
DTSTART:20260308T070000
END:DAYLIGHT
BEGIN:STANDARD
TZOFFSETFROM:-0400
TZOFFSETTO:-0500
TZNAME:EST
DTSTART:20261101T060000
END:STANDARD
BEGIN:DAYLIGHT
TZOFFSETFROM:-0500
TZOFFSETTO:-0400
TZNAME:EDT
DTSTART:20270314T070000
END:DAYLIGHT
BEGIN:STANDARD
TZOFFSETFROM:-0400
TZOFFSETTO:-0500
TZNAME:EST
DTSTART:20271107T060000
END:STANDARD
BEGIN:DAYLIGHT
TZOFFSETFROM:-0500
TZOFFSETTO:-0400
TZNAME:EDT
DTSTART:20280312T070000
END:DAYLIGHT
BEGIN:STANDARD
TZOFFSETFROM:-0400
TZOFFSETTO:-0500
TZNAME:EST
DTSTART:20281105T060000
END:STANDARD
END:VTIMEZONE
BEGIN:VEVENT
DTSTART;VALUE=DATE:20260911
DTEND;VALUE=DATE:20260914
DTSTAMP:20260424T050304
CREATED:20251020T194337Z
LAST-MODIFIED:20260319T155352Z
UID:10002636-1789084800-1789343999@diosohio.org
SUMMARY:Deacons' School
DESCRIPTION:Deacons’ School meets at Procter Center.
URL:https://diosohio.org/event/deacons-school-sept-2026/
LOCATION:Procter Center\, 11235 St. Rt. 38 SE\, London\, OH\, 43140\, United States
CATEGORIES:Deacons,Diocese,Ordination Process
ATTACH;FMTTYPE=image/png:https://diosohio.org/wp-content/uploads/2023/03/default-featured-image.png
END:VEVENT
BEGIN:VEVENT
DTSTART;VALUE=DATE:20260916
DTEND;VALUE=DATE:20260917
DTSTAMP:20260424T050304
CREATED:20250722T194411Z
LAST-MODIFIED:20250722T194411Z
UID:10002483-1789516800-1789603199@diosohio.org
SUMMARY:Holy Cross Clergy Day
DESCRIPTION:Clergy are invited to participate in a retreat day at Procter Center for Holy Cross Day. More information TBA.
URL:https://diosohio.org/event/holy-cross-clergy-day-2/
LOCATION:Procter Center\, 11235 St. Rt. 38 SE\, London\, OH\, 43140\, United States
CATEGORIES:Clergy
ATTACH;FMTTYPE=image/png:https://diosohio.org/wp-content/uploads/2023/03/default-featured-image.png
END:VEVENT
BEGIN:VEVENT
DTSTART;TZID=America/New_York:20260917T120000
DTEND;TZID=America/New_York:20260917T150000
DTSTAMP:20260424T050304
CREATED:20260129T164742Z
LAST-MODIFIED:20260129T180328Z
UID:10002776-1789646400-1789657200@diosohio.org
SUMMARY:Threshold
DESCRIPTION:Threshold is a fresh focus on leadership for priests who are new to the diocese\, and resident clergy who are transitioning into new leadership roles in one of our parishes. \nParticipants are invited to attend eight sessions that run on a rotating basis throughout the course of one year covering a wide range of topics to prepare you well to step into your new roles with confidence and care. \nIn our sessions\, we will cover: Trust Development\, Communication and Conflict Resolution\, Culture Building and Vision Casting\, Church Finances and Property Stewardship\, Who to Call on the Diocesan Staff\, Worship & Liturgy\, Collegial Relationships\, and Health and Wellness. To graduate from the program\, participants are asked to attend each of these eight sessions once.
URL:https://diosohio.org/event/threshold-2/2026-09-17/
LOCATION:Procter Center\, 11235 St. Rt. 38 SE\, London\, OH\, 43140\, United States
CATEGORIES:Clergy
ATTACH;FMTTYPE=image/png:https://diosohio.org/wp-content/uploads/2023/03/default-featured-image.png
END:VEVENT
BEGIN:VEVENT
DTSTART;VALUE=DATE:20260918
DTEND;VALUE=DATE:20260920
DTSTAMP:20260424T050304
CREATED:20251217T162506Z
LAST-MODIFIED:20251217T162506Z
UID:10002709-1789689600-1789862399@diosohio.org
SUMMARY:CoM Retreat for Postulants and Candidates
DESCRIPTION:Retreat for Postulants and Candidates at Procter Center. More information TBA.
URL:https://diosohio.org/event/com-retreat-for-postulants-and-candidates/
LOCATION:Procter Center\, 11235 St. Rt. 38 SE\, London\, OH\, 43140\, United States
CATEGORIES:Ordination Process
ATTACH;FMTTYPE=image/png:https://diosohio.org/wp-content/uploads/2023/03/default-featured-image.png
END:VEVENT
BEGIN:VEVENT
DTSTART;TZID=America/New_York:20260919T100000
DTEND;TZID=America/New_York:20260919T130000
DTSTAMP:20260424T050304
CREATED:20250717T151149Z
LAST-MODIFIED:20250717T151149Z
UID:10002078-1789812000-1789822800@diosohio.org
SUMMARY:Diocesan Council
DESCRIPTION:
URL:https://diosohio.org/event/diocesan-council-7/2026-09-19/
LOCATION:Procter Center\, 11235 St. Rt. 38 SE\, London\, OH\, 43140\, United States
CATEGORIES:Meeting
ATTACH;FMTTYPE=image/png:https://diosohio.org/wp-content/uploads/2023/03/default-featured-image.png
END:VEVENT
BEGIN:VEVENT
DTSTART;VALUE=DATE:20260923
DTEND;VALUE=DATE:20260927
DTSTAMP:20260424T050304
CREATED:20260129T203526Z
LAST-MODIFIED:20260319T203028Z
UID:10002835-1790121600-1790467199@diosohio.org
SUMMARY:Episcopal Creation Care gathering
DESCRIPTION:The Episcopal Creation Care Gathering invites Creation Care leaders and activists to spend time digging deep into the theological and practical ministry of Creation Care across the Episcopal Church. \nDuring this gathering\, you will have the opportunity to engage in conversation\, learning\, and practice as we explore the deep relationships that bind spirituality\, justice\, ecology\, discipleship\, and evangelism as we move into the next era of Christian faith. The event includes workshops\, plenaries\, outdoor recreation\, and intentional conversation. Participants can choose from a variety of lodging – from tent camping to hotel-style rooms at the Procter Center. Delicious seasonal meals that accommodate dietary needs are included in the all-inclusive package price. \nRegistration opens April 1\, 2026.
URL:https://diosohio.org/event/episcopal-creation-care-gathering/
LOCATION:Procter Center\, 11235 St. Rt. 38 SE\, London\, OH\, 43140\, United States
CATEGORIES:Procter Center
ATTACH;FMTTYPE=image/png:https://diosohio.org/wp-content/uploads/2023/03/default-featured-image.png
ORGANIZER;CN="Procter Center":MAILTO:info@proctercenter.org
END:VEVENT
BEGIN:VEVENT
DTSTART;VALUE=DATE:20261009
DTEND;VALUE=DATE:20261012
DTSTAMP:20260424T050304
CREATED:20260129T203822Z
LAST-MODIFIED:20260129T203822Z
UID:10002836-1791504000-1791763199@diosohio.org
SUMMARY:Fall Youth Retreat
DESCRIPTION:Fall youth retreat at Procter. More information TBA.
URL:https://diosohio.org/event/fall-youth-retreat-2/
LOCATION:Procter Center\, 11235 St. Rt. 38 SE\, London\, OH\, 43140\, United States
CATEGORIES:Children & Youth,Procter Center
ATTACH;FMTTYPE=image/png:https://diosohio.org/wp-content/uploads/2023/03/default-featured-image.png
ORGANIZER;CN="Procter Center":MAILTO:info@proctercenter.org
END:VEVENT
BEGIN:VEVENT
DTSTART;TZID=America/New_York:20261015T120000
DTEND;TZID=America/New_York:20261015T150000
DTSTAMP:20260424T050304
CREATED:20260129T164742Z
LAST-MODIFIED:20260129T180328Z
UID:10002777-1792065600-1792076400@diosohio.org
SUMMARY:Threshold
DESCRIPTION:Threshold is a fresh focus on leadership for priests who are new to the diocese\, and resident clergy who are transitioning into new leadership roles in one of our parishes. \nParticipants are invited to attend eight sessions that run on a rotating basis throughout the course of one year covering a wide range of topics to prepare you well to step into your new roles with confidence and care. \nIn our sessions\, we will cover: Trust Development\, Communication and Conflict Resolution\, Culture Building and Vision Casting\, Church Finances and Property Stewardship\, Who to Call on the Diocesan Staff\, Worship & Liturgy\, Collegial Relationships\, and Health and Wellness. To graduate from the program\, participants are asked to attend each of these eight sessions once.
URL:https://diosohio.org/event/threshold-2/2026-10-15/
LOCATION:Procter Center\, 11235 St. Rt. 38 SE\, London\, OH\, 43140\, United States
CATEGORIES:Clergy
ATTACH;FMTTYPE=image/png:https://diosohio.org/wp-content/uploads/2023/03/default-featured-image.png
END:VEVENT
BEGIN:VEVENT
DTSTART;TZID=America/New_York:20261017T100000
DTEND;TZID=America/New_York:20261017T130000
DTSTAMP:20260424T050304
CREATED:20250717T151149Z
LAST-MODIFIED:20250717T151149Z
UID:10002079-1792231200-1792242000@diosohio.org
SUMMARY:Diocesan Council
DESCRIPTION:
URL:https://diosohio.org/event/diocesan-council-7/2026-10-17/
LOCATION:Procter Center\, 11235 St. Rt. 38 SE\, London\, OH\, 43140\, United States
CATEGORIES:Meeting
ATTACH;FMTTYPE=image/png:https://diosohio.org/wp-content/uploads/2023/03/default-featured-image.png
END:VEVENT
BEGIN:VEVENT
DTSTART;VALUE=DATE:20261023
DTEND;VALUE=DATE:20261025
DTSTAMP:20260424T050304
CREATED:20251217T162326Z
LAST-MODIFIED:20251217T162326Z
UID:10002708-1792713600-1792886399@diosohio.org
SUMMARY:Commission on Ministry
DESCRIPTION:Commission on Ministry meets at Procter Center. Fall Meeting and Postulancy and Candidacy/Ordination Interviews.
URL:https://diosohio.org/event/commission-on-ministry-oct-2026/
LOCATION:Procter Center\, 11235 St. Rt. 38 SE\, London\, OH\, 43140\, United States
CATEGORIES:Meeting,Ordination Process
ATTACH;FMTTYPE=image/png:https://diosohio.org/wp-content/uploads/2023/03/default-featured-image.png
END:VEVENT
BEGIN:VEVENT
DTSTART;VALUE=DATE:20261106
DTEND;VALUE=DATE:20261109
DTSTAMP:20260424T050304
CREATED:20251020T194432Z
LAST-MODIFIED:20260319T155435Z
UID:10002637-1793923200-1794182399@diosohio.org
SUMMARY:Deacons' School
DESCRIPTION:Deacons’ School meets at Procter Center.
URL:https://diosohio.org/event/deacons-school-nov-2026/
LOCATION:Procter Center\, 11235 St. Rt. 38 SE\, London\, OH\, 43140\, United States
CATEGORIES:Deacons,Diocese,Ordination Process
ATTACH;FMTTYPE=image/png:https://diosohio.org/wp-content/uploads/2023/03/default-featured-image.png
END:VEVENT
BEGIN:VEVENT
DTSTART;TZID=America/New_York:20261119T120000
DTEND;TZID=America/New_York:20261119T150000
DTSTAMP:20260424T050304
CREATED:20260129T164742Z
LAST-MODIFIED:20260129T180328Z
UID:10002778-1795089600-1795100400@diosohio.org
SUMMARY:Threshold
DESCRIPTION:Threshold is a fresh focus on leadership for priests who are new to the diocese\, and resident clergy who are transitioning into new leadership roles in one of our parishes. \nParticipants are invited to attend eight sessions that run on a rotating basis throughout the course of one year covering a wide range of topics to prepare you well to step into your new roles with confidence and care. \nIn our sessions\, we will cover: Trust Development\, Communication and Conflict Resolution\, Culture Building and Vision Casting\, Church Finances and Property Stewardship\, Who to Call on the Diocesan Staff\, Worship & Liturgy\, Collegial Relationships\, and Health and Wellness. To graduate from the program\, participants are asked to attend each of these eight sessions once.
URL:https://diosohio.org/event/threshold-2/2026-11-19/
LOCATION:Procter Center\, 11235 St. Rt. 38 SE\, London\, OH\, 43140\, United States
CATEGORIES:Clergy
ATTACH;FMTTYPE=image/png:https://diosohio.org/wp-content/uploads/2023/03/default-featured-image.png
END:VEVENT
BEGIN:VEVENT
DTSTART;VALUE=DATE:20261211
DTEND;VALUE=DATE:20261213
DTSTAMP:20260424T050304
CREATED:20250717T151456Z
LAST-MODIFIED:20250717T151559Z
UID:10002080-1796947200-1797119999@diosohio.org
SUMMARY:Joint Governing Bodies Retreat
DESCRIPTION:
URL:https://diosohio.org/event/joint-governing-bodies-retreat/
LOCATION:Procter Center\, 11235 St. Rt. 38 SE\, London\, OH\, 43140\, United States
CATEGORIES:Meeting
ATTACH;FMTTYPE=image/png:https://diosohio.org/wp-content/uploads/2023/03/default-featured-image.png
END:VEVENT
BEGIN:VEVENT
DTSTART;TZID=America/New_York:20270218T120000
DTEND;TZID=America/New_York:20270218T150000
DTSTAMP:20260424T050304
CREATED:20260129T164742Z
LAST-MODIFIED:20260129T180328Z
UID:10002813-1802952000-1802962800@diosohio.org
SUMMARY:Threshold
DESCRIPTION:Threshold is a fresh focus on leadership for priests who are new to the diocese\, and resident clergy who are transitioning into new leadership roles in one of our parishes. \nParticipants are invited to attend eight sessions that run on a rotating basis throughout the course of one year covering a wide range of topics to prepare you well to step into your new roles with confidence and care. \nIn our sessions\, we will cover: Trust Development\, Communication and Conflict Resolution\, Culture Building and Vision Casting\, Church Finances and Property Stewardship\, Who to Call on the Diocesan Staff\, Worship & Liturgy\, Collegial Relationships\, and Health and Wellness. To graduate from the program\, participants are asked to attend each of these eight sessions once.
URL:https://diosohio.org/event/threshold-2/2027-02-18/
LOCATION:Procter Center\, 11235 St. Rt. 38 SE\, London\, OH\, 43140\, United States
CATEGORIES:Clergy
ATTACH;FMTTYPE=image/png:https://diosohio.org/wp-content/uploads/2023/03/default-featured-image.png
END:VEVENT
BEGIN:VEVENT
DTSTART;TZID=America/New_York:20270318T120000
DTEND;TZID=America/New_York:20270318T150000
DTSTAMP:20260424T050304
CREATED:20260129T164742Z
LAST-MODIFIED:20260129T180328Z
UID:10002814-1805371200-1805382000@diosohio.org
SUMMARY:Threshold
DESCRIPTION:Threshold is a fresh focus on leadership for priests who are new to the diocese\, and resident clergy who are transitioning into new leadership roles in one of our parishes. \nParticipants are invited to attend eight sessions that run on a rotating basis throughout the course of one year covering a wide range of topics to prepare you well to step into your new roles with confidence and care. \nIn our sessions\, we will cover: Trust Development\, Communication and Conflict Resolution\, Culture Building and Vision Casting\, Church Finances and Property Stewardship\, Who to Call on the Diocesan Staff\, Worship & Liturgy\, Collegial Relationships\, and Health and Wellness. To graduate from the program\, participants are asked to attend each of these eight sessions once.
URL:https://diosohio.org/event/threshold-2/2027-03-18/
LOCATION:Procter Center\, 11235 St. Rt. 38 SE\, London\, OH\, 43140\, United States
CATEGORIES:Clergy
ATTACH;FMTTYPE=image/png:https://diosohio.org/wp-content/uploads/2023/03/default-featured-image.png
END:VEVENT
BEGIN:VEVENT
DTSTART;TZID=America/New_York:20270415T120000
DTEND;TZID=America/New_York:20270415T150000
DTSTAMP:20260424T050304
CREATED:20260129T164742Z
LAST-MODIFIED:20260129T180328Z
UID:10002815-1807790400-1807801200@diosohio.org
SUMMARY:Threshold
DESCRIPTION:Threshold is a fresh focus on leadership for priests who are new to the diocese\, and resident clergy who are transitioning into new leadership roles in one of our parishes. \nParticipants are invited to attend eight sessions that run on a rotating basis throughout the course of one year covering a wide range of topics to prepare you well to step into your new roles with confidence and care. \nIn our sessions\, we will cover: Trust Development\, Communication and Conflict Resolution\, Culture Building and Vision Casting\, Church Finances and Property Stewardship\, Who to Call on the Diocesan Staff\, Worship & Liturgy\, Collegial Relationships\, and Health and Wellness. To graduate from the program\, participants are asked to attend each of these eight sessions once.
URL:https://diosohio.org/event/threshold-2/2027-04-15/
LOCATION:Procter Center\, 11235 St. Rt. 38 SE\, London\, OH\, 43140\, United States
CATEGORIES:Clergy
ATTACH;FMTTYPE=image/png:https://diosohio.org/wp-content/uploads/2023/03/default-featured-image.png
END:VEVENT
BEGIN:VEVENT
DTSTART;TZID=America/New_York:20270819T120000
DTEND;TZID=America/New_York:20270819T150000
DTSTAMP:20260424T050304
CREATED:20260129T164742Z
LAST-MODIFIED:20260129T180328Z
UID:10002816-1818676800-1818687600@diosohio.org
SUMMARY:Threshold
DESCRIPTION:Threshold is a fresh focus on leadership for priests who are new to the diocese\, and resident clergy who are transitioning into new leadership roles in one of our parishes. \nParticipants are invited to attend eight sessions that run on a rotating basis throughout the course of one year covering a wide range of topics to prepare you well to step into your new roles with confidence and care. \nIn our sessions\, we will cover: Trust Development\, Communication and Conflict Resolution\, Culture Building and Vision Casting\, Church Finances and Property Stewardship\, Who to Call on the Diocesan Staff\, Worship & Liturgy\, Collegial Relationships\, and Health and Wellness. To graduate from the program\, participants are asked to attend each of these eight sessions once.
URL:https://diosohio.org/event/threshold-2/2027-08-19/
LOCATION:Procter Center\, 11235 St. Rt. 38 SE\, London\, OH\, 43140\, United States
CATEGORIES:Clergy
ATTACH;FMTTYPE=image/png:https://diosohio.org/wp-content/uploads/2023/03/default-featured-image.png
END:VEVENT
BEGIN:VEVENT
DTSTART;TZID=America/New_York:20270916T120000
DTEND;TZID=America/New_York:20270916T150000
DTSTAMP:20260424T050304
CREATED:20260129T164742Z
LAST-MODIFIED:20260129T180328Z
UID:10002817-1821096000-1821106800@diosohio.org
SUMMARY:Threshold
DESCRIPTION:Threshold is a fresh focus on leadership for priests who are new to the diocese\, and resident clergy who are transitioning into new leadership roles in one of our parishes. \nParticipants are invited to attend eight sessions that run on a rotating basis throughout the course of one year covering a wide range of topics to prepare you well to step into your new roles with confidence and care. \nIn our sessions\, we will cover: Trust Development\, Communication and Conflict Resolution\, Culture Building and Vision Casting\, Church Finances and Property Stewardship\, Who to Call on the Diocesan Staff\, Worship & Liturgy\, Collegial Relationships\, and Health and Wellness. To graduate from the program\, participants are asked to attend each of these eight sessions once.
URL:https://diosohio.org/event/threshold-2/2027-09-16/
LOCATION:Procter Center\, 11235 St. Rt. 38 SE\, London\, OH\, 43140\, United States
CATEGORIES:Clergy
ATTACH;FMTTYPE=image/png:https://diosohio.org/wp-content/uploads/2023/03/default-featured-image.png
END:VEVENT
BEGIN:VEVENT
DTSTART;TZID=America/New_York:20271021T120000
DTEND;TZID=America/New_York:20271021T150000
DTSTAMP:20260424T050304
CREATED:20260129T164742Z
LAST-MODIFIED:20260129T180328Z
UID:10002818-1824120000-1824130800@diosohio.org
SUMMARY:Threshold
DESCRIPTION:Threshold is a fresh focus on leadership for priests who are new to the diocese\, and resident clergy who are transitioning into new leadership roles in one of our parishes. \nParticipants are invited to attend eight sessions that run on a rotating basis throughout the course of one year covering a wide range of topics to prepare you well to step into your new roles with confidence and care. \nIn our sessions\, we will cover: Trust Development\, Communication and Conflict Resolution\, Culture Building and Vision Casting\, Church Finances and Property Stewardship\, Who to Call on the Diocesan Staff\, Worship & Liturgy\, Collegial Relationships\, and Health and Wellness. To graduate from the program\, participants are asked to attend each of these eight sessions once.
URL:https://diosohio.org/event/threshold-2/2027-10-21/
LOCATION:Procter Center\, 11235 St. Rt. 38 SE\, London\, OH\, 43140\, United States
CATEGORIES:Clergy
ATTACH;FMTTYPE=image/png:https://diosohio.org/wp-content/uploads/2023/03/default-featured-image.png
END:VEVENT
BEGIN:VEVENT
DTSTART;TZID=America/New_York:20271118T120000
DTEND;TZID=America/New_York:20271118T150000
DTSTAMP:20260424T050304
CREATED:20260129T164742Z
LAST-MODIFIED:20260129T180328Z
UID:10002819-1826539200-1826550000@diosohio.org
SUMMARY:Threshold
DESCRIPTION:Threshold is a fresh focus on leadership for priests who are new to the diocese\, and resident clergy who are transitioning into new leadership roles in one of our parishes. \nParticipants are invited to attend eight sessions that run on a rotating basis throughout the course of one year covering a wide range of topics to prepare you well to step into your new roles with confidence and care. \nIn our sessions\, we will cover: Trust Development\, Communication and Conflict Resolution\, Culture Building and Vision Casting\, Church Finances and Property Stewardship\, Who to Call on the Diocesan Staff\, Worship & Liturgy\, Collegial Relationships\, and Health and Wellness. To graduate from the program\, participants are asked to attend each of these eight sessions once.
URL:https://diosohio.org/event/threshold-2/2027-11-18/
LOCATION:Procter Center\, 11235 St. Rt. 38 SE\, London\, OH\, 43140\, United States
CATEGORIES:Clergy
ATTACH;FMTTYPE=image/png:https://diosohio.org/wp-content/uploads/2023/03/default-featured-image.png
END:VEVENT
END:VCALENDAR