BEGIN:VCALENDAR
VERSION:2.0
PRODID:-//Diocese of Southern Ohio - ECPv6.15.20//NONSGML v1.0//EN
CALSCALE:GREGORIAN
METHOD:PUBLISH
X-WR-CALNAME:Diocese of Southern Ohio
X-ORIGINAL-URL:https://diosohio.org
X-WR-CALDESC:Events for Diocese of Southern Ohio
REFRESH-INTERVAL;VALUE=DURATION:PT1H
X-Robots-Tag:noindex
X-PUBLISHED-TTL:PT1H
BEGIN:VTIMEZONE
TZID:America/New_York
BEGIN:DAYLIGHT
TZOFFSETFROM:-0500
TZOFFSETTO:-0400
TZNAME:EDT
DTSTART:20220313T070000
END:DAYLIGHT
BEGIN:STANDARD
TZOFFSETFROM:-0400
TZOFFSETTO:-0500
TZNAME:EST
DTSTART:20221106T060000
END:STANDARD
BEGIN:DAYLIGHT
TZOFFSETFROM:-0500
TZOFFSETTO:-0400
TZNAME:EDT
DTSTART:20230312T070000
END:DAYLIGHT
BEGIN:STANDARD
TZOFFSETFROM:-0400
TZOFFSETTO:-0500
TZNAME:EST
DTSTART:20231105T060000
END:STANDARD
BEGIN:DAYLIGHT
TZOFFSETFROM:-0500
TZOFFSETTO:-0400
TZNAME:EDT
DTSTART:20240310T070000
END:DAYLIGHT
BEGIN:STANDARD
TZOFFSETFROM:-0400
TZOFFSETTO:-0500
TZNAME:EST
DTSTART:20241103T060000
END:STANDARD
BEGIN:DAYLIGHT
TZOFFSETFROM:-0500
TZOFFSETTO:-0400
TZNAME:EDT
DTSTART:20250309T070000
END:DAYLIGHT
BEGIN:STANDARD
TZOFFSETFROM:-0400
TZOFFSETTO:-0500
TZNAME:EST
DTSTART:20251102T060000
END:STANDARD
BEGIN:DAYLIGHT
TZOFFSETFROM:-0500
TZOFFSETTO:-0400
TZNAME:EDT
DTSTART:20260308T070000
END:DAYLIGHT
BEGIN:STANDARD
TZOFFSETFROM:-0400
TZOFFSETTO:-0500
TZNAME:EST
DTSTART:20261101T060000
END:STANDARD
BEGIN:DAYLIGHT
TZOFFSETFROM:-0500
TZOFFSETTO:-0400
TZNAME:EDT
DTSTART:20270314T070000
END:DAYLIGHT
BEGIN:STANDARD
TZOFFSETFROM:-0400
TZOFFSETTO:-0500
TZNAME:EST
DTSTART:20271107T060000
END:STANDARD
END:VTIMEZONE
BEGIN:VEVENT
DTSTART;TZID=America/New_York:20260424T100000
DTEND;TZID=America/New_York:20260424T150000
DTSTAMP:20260425T063532
CREATED:20260113T201044Z
LAST-MODIFIED:20260302T160345Z
UID:10002746-1777024800-1777042800@diosohio.org
SUMMARY:Central Regional Staff Work Day
DESCRIPTION:In 2025\, we took important steps in reinvigorating connections across churches at the regional level in the Diocese of Southern Ohio. We experimented with Regional Staff Work Days\, in which diocesan staff traveled together to sites around the diocese\, increasing access to in-person meetings and fellowship with local leaders. At the same time\, a task force met and gathered with lay and clergy leaders for conversation and input about the ways we gather across geography\, a process that resulted in the creation of four new regions. \nAs a continuation of that investment in accessibility and connection\, the diocesan staff will once again hit the road in 2026\, offering opportunities to meet\, learn\, celebrate\, and connect beyond the walls of your own church. \nIn each region of the diocese\, the diocesan staff will be present for Staff Work Days\, offering the opportunity for drop-in fellowship and appointments with local leaders\, reducing barriers for face-to-face connection. \nCentral Region: Friday\, April 24 \n10-11 am – Drop-in Fellowship Hour with light snacks and coffee.\n11-3 pm – Staff available for pre-made appointments. \nNo RSVP required to join the Regional Staff Days\, but please make an appointment if wanting to meet with staff. \nSchedule with staff member
URL:https://diosohio.org/event/central-regional-staff-work-day/
LOCATION:St Mark’s Columbus\, 2151 Dorset Rd\, Columbus\, OH\, 43221-3103\, US
CATEGORIES:Diocese
ATTACH;FMTTYPE=image/png:https://diosohio.org/wp-content/uploads/2023/03/default-featured-image.png
END:VEVENT
BEGIN:VEVENT
DTSTART;VALUE=DATE:20250518
DTEND;VALUE=DATE:20250519
DTSTAMP:20260425T063532
CREATED:20241011T160349Z
LAST-MODIFIED:20241011T160349Z
UID:10001691-1747526400-1747612799@diosohio.org
SUMMARY:Episcopal visitation: St.Mark's\, Columbus
DESCRIPTION:Bishop White visitation to St. Mark’s\, Columbus (Upper Arlington)
URL:https://diosohio.org/event/episcopal-visitation-st-marks-columbus/
LOCATION:St Mark’s Columbus\, 2151 Dorset Rd\, Columbus\, OH\, 43221-3103\, US
CATEGORIES:Bishop
ATTACH;FMTTYPE=image/png:https://diosohio.org/wp-content/uploads/2023/03/default-featured-image.png
END:VEVENT
BEGIN:VEVENT
DTSTART;TZID=America/New_York:20250503T100000
DTEND;TZID=America/New_York:20250503T150000
DTSTAMP:20260425T063532
CREATED:20250414T151404Z
LAST-MODIFIED:20250414T151404Z
UID:10002015-1746266400-1746284400@diosohio.org
SUMMARY:Upper Arlington Culture and Artisans Fair
DESCRIPTION:Saint Mark’s\, Columbus\, is hosting the third annual UA Culture and Artisans Fair on Saturday May 3 from 10 am to 3 pm. The event will feature approximately 20 artisans from all over the world\, showcasing and selling their handmade items\, as well as delicious food and live music\, and an opportunity to interact with the artisans and hear their stories. \nThe Fair is being presented in partnership with CRIS (Community Refugee and Immigration Services) and many of the artisans will be refugees\, asylum seekers and others building a new life in the Central Ohio area. \nCome and explore a variety of arts and crafts from all over the world\, have fun\, and help us welcome and support some of our new neighbors. \nThe Culture and Artisans Fair is sponsored by the City of Upper Arlington’s Community Relations Innovation Small Grant Program and is part of the Community Relation Committee’s (CRC) UA Welcome Series. \nThe fair will take place on the front lawn of church\, at the corner of Dorset and Tremont Roads. Rain or shine.
URL:https://diosohio.org/event/upper-arlington-culture-and-artisans-fair/
LOCATION:St Mark’s Columbus\, 2151 Dorset Rd\, Columbus\, OH\, 43221-3103\, US
CATEGORIES:Community
ATTACH;FMTTYPE=image/jpeg:https://diosohio.org/wp-content/uploads/2025/04/culture-fair-graphic-for-web-e1744643624536.jpg
END:VEVENT
BEGIN:VEVENT
DTSTART;TZID=America/New_York:20250129T100000
DTEND;TZID=America/New_York:20250129T150000
DTSTAMP:20260425T063532
CREATED:20250122T184747Z
LAST-MODIFIED:20250122T184747Z
UID:10001905-1738144800-1738162800@diosohio.org
SUMMARY:Regional Staff Day - St. Mark's\, Columbus
DESCRIPTION:Bishop White invites leaders and people of the diocese to join her and the diocesan staff at regional staff days taking place throughout 2025. These regional days are intended to bring the diocesan staff — a team of people charged with empowering local leaders and building capacity for congregational ministry — physically closer to all corners of our diocese to reduce barriers for face-to-face connection. \nEach regional staff day will include an hour of drop-in fellowship and conversation from 10 to 11 am with snacks and coffee. Following that time\, all traveling staff members are available by appointment. Learn more.
URL:https://diosohio.org/event/regional-staff-day-st-marks-columbus/
LOCATION:St Mark’s Columbus\, 2151 Dorset Rd\, Columbus\, OH\, 43221-3103\, US
CATEGORIES:Diocese
ATTACH;FMTTYPE=image/png:https://diosohio.org/wp-content/uploads/2023/03/default-featured-image.png
END:VEVENT
BEGIN:VEVENT
DTSTART;TZID=America/New_York:20240504T100000
DTEND;TZID=America/New_York:20240504T150000
DTSTAMP:20260425T063532
CREATED:20240415T160723Z
LAST-MODIFIED:20240415T160723Z
UID:10001446-1714816800-1714834800@diosohio.org
SUMMARY:Culture and Artisans Fair
DESCRIPTION:Saint Mark’s\, Columbus\, will host its second annual Culture and Artisans Fair on Saturday\, May 4\, from 10 a.m. to 3 p.m. The event will feature approximately 20 artisans from all over the world\, showcasing and selling their handmade items\, as well as delicious food and live music\, and an opportunity to interact with the artisans and hear their stories. \nThe Fair is being presented in partnership with CRIS (Community Refugee and Immigration Services) and many of the artisans will be refugees\, asylum seekers and others building a new life in the Central Ohio area. \nCome and explore a variety of arts and crafts from all over the world\, have fun\, and help us welcome and support some of our new neighbors. \nThe Culture and Artisans Fair is sponsored by the City of Upper Arlington’s Community Relations Innovation Small Grant Program and is part of the Community Relation Committee’s (CRC) UA Welcome Series.
URL:https://diosohio.org/event/culture-and-artisans-fair/
LOCATION:St Mark’s Columbus\, 2151 Dorset Rd\, Columbus\, OH\, 43221-3103\, US
CATEGORIES:Community
ATTACH;FMTTYPE=image/jpeg:https://diosohio.org/wp-content/uploads/2024/04/Artisans-Fair.jpg
END:VEVENT
BEGIN:VEVENT
DTSTART;TZID=America/New_York:20240430T170000
DTEND;TZID=America/New_York:20240430T180000
DTSTAMP:20260425T063532
CREATED:20240408T151500Z
LAST-MODIFIED:20240429T161853Z
UID:10001426-1714496400-1714500000@diosohio.org
SUMMARY:Discernment Gathering - St Mark's\, Columbus
DESCRIPTION:In a letter to the diocese on April 6\, Bishop White announced that she has called for consultants from Ministry Architects to facilitate six days of discernment gatherings from April 29 to May 1 and May 6 to May 8\, to begin to shape a vision for our ministry together. \nEach one-hour gathering will be led by two Ministry Architects consultants\, and sessions will be capped at 15 participants to ensure everyone has a chance to be heard. Everyone in the diocese is invited to attend one of the meetings so that your voice and experience can inform the future. \nWeek One gatherings \nMonday\, April 29: Church of the Good Shepherd\, Athens \nTuesday\, April 30: All Saints\, New Albany and St. Mark’s Upper Arlington (2:30 p.m. session full) \nWednesday\, May 1: Procter Center \nLearn more and sign up at this link. \n\n\nIf you are unable to attend a discernment gathering\, please click here to provide your thoughts\, insights\, and observations about our common life in the Diocese of Southern Ohio. Ministry Architects will be incorporating all responses submitted between April 29-May 8 into their final report.
URL:https://diosohio.org/event/discernment-gathering-st-mark-columbus/2024-04-30/3/
LOCATION:St Mark’s Columbus\, 2151 Dorset Rd\, Columbus\, OH\, 43221-3103\, US
CATEGORIES:Diocese
ATTACH;FMTTYPE=image/png:https://diosohio.org/wp-content/uploads/2023/03/default-featured-image.png
END:VEVENT
BEGIN:VEVENT
DTSTART;TZID=America/New_York:20240430T154500
DTEND;TZID=America/New_York:20240430T164500
DTSTAMP:20260425T063532
CREATED:20240408T151500Z
LAST-MODIFIED:20240429T161853Z
UID:10001425-1714491900-1714495500@diosohio.org
SUMMARY:Discernment Gathering - St Mark's\, Columbus
DESCRIPTION:In a letter to the diocese on April 6\, Bishop White announced that she has called for consultants from Ministry Architects to facilitate six days of discernment gatherings from April 29 to May 1 and May 6 to May 8\, to begin to shape a vision for our ministry together. \nEach one-hour gathering will be led by two Ministry Architects consultants\, and sessions will be capped at 15 participants to ensure everyone has a chance to be heard. Everyone in the diocese is invited to attend one of the meetings so that your voice and experience can inform the future. \nWeek One gatherings \nMonday\, April 29: Church of the Good Shepherd\, Athens \nTuesday\, April 30: All Saints\, New Albany and St. Mark’s Upper Arlington (2:30 p.m. session full) \nWednesday\, May 1: Procter Center \nLearn more and sign up at this link. \n\n\nIf you are unable to attend a discernment gathering\, please click here to provide your thoughts\, insights\, and observations about our common life in the Diocese of Southern Ohio. Ministry Architects will be incorporating all responses submitted between April 29-May 8 into their final report.
URL:https://diosohio.org/event/discernment-gathering-st-mark-columbus/2024-04-30/2/
LOCATION:St Mark’s Columbus\, 2151 Dorset Rd\, Columbus\, OH\, 43221-3103\, US
CATEGORIES:Diocese
ATTACH;FMTTYPE=image/png:https://diosohio.org/wp-content/uploads/2023/03/default-featured-image.png
END:VEVENT
BEGIN:VEVENT
DTSTART;TZID=America/New_York:20240430T143000
DTEND;TZID=America/New_York:20240430T153000
DTSTAMP:20260425T063532
CREATED:20240408T151500Z
LAST-MODIFIED:20240429T161853Z
UID:10001424-1714487400-1714491000@diosohio.org
SUMMARY:Discernment Gathering - St Mark's\, Columbus
DESCRIPTION:In a letter to the diocese on April 6\, Bishop White announced that she has called for consultants from Ministry Architects to facilitate six days of discernment gatherings from April 29 to May 1 and May 6 to May 8\, to begin to shape a vision for our ministry together. \nEach one-hour gathering will be led by two Ministry Architects consultants\, and sessions will be capped at 15 participants to ensure everyone has a chance to be heard. Everyone in the diocese is invited to attend one of the meetings so that your voice and experience can inform the future. \nWeek One gatherings \nMonday\, April 29: Church of the Good Shepherd\, Athens \nTuesday\, April 30: All Saints\, New Albany and St. Mark’s Upper Arlington (2:30 p.m. session full) \nWednesday\, May 1: Procter Center \nLearn more and sign up at this link. \n\n\nIf you are unable to attend a discernment gathering\, please click here to provide your thoughts\, insights\, and observations about our common life in the Diocese of Southern Ohio. Ministry Architects will be incorporating all responses submitted between April 29-May 8 into their final report.
URL:https://diosohio.org/event/discernment-gathering-st-mark-columbus/2024-04-30/1/
LOCATION:St Mark’s Columbus\, 2151 Dorset Rd\, Columbus\, OH\, 43221-3103\, US
CATEGORIES:Diocese
ATTACH;FMTTYPE=image/png:https://diosohio.org/wp-content/uploads/2023/03/default-featured-image.png
END:VEVENT
BEGIN:VEVENT
DTSTART;TZID=America/New_York:20230305T160000
DTEND;TZID=America/New_York:20230305T173000
DTSTAMP:20260425T063532
CREATED:20230221T173644Z
LAST-MODIFIED:20230221T173644Z
UID:10000114-1678032000-1678037400@diosohio.org
SUMMARY:Choral Evensong
DESCRIPTION:Saint Mark’s\, Upper Arlington\, will offer a service of Choral Evensong\, with music by the St. Mark’s Choir\, on Sunday\, March 5 at 4 p.m. Music will include the Second Service by William Byrd\, responses by Bernard Rose\, and anthems by Johannes Brahms and Martin Lauridsen. Admission is free. Donations will be gratefully received in support of the Special Music Fund at Saint Mark’s. A reception will follow. All are welcome! \nChoral Evensong is a service of sung Evening Prayer that began during the English Reformation of the 1500s. It combines elements from several older evening services that had been prayed daily in monasteries throughout the Middle Ages. The service is contemplative and includes prayers (both spoken and sung)\, readings from scripture\, hymns\, and choral anthems. \nSaint Mark’s is located at 2151 Dorset Rd in Upper Arlington\, across from the Tremont Center shopping center and the Upper Arlington Public Library. Parking is available on the street and in the Tremont Center parking lot.
URL:https://diosohio.org/event/choral-evensong-2/
LOCATION:St Mark’s Columbus\, 2151 Dorset Rd\, Columbus\, OH\, 43221-3103\, US
CATEGORIES:Community,Music
ATTACH;FMTTYPE=image/png:https://diosohio.org/wp-content/uploads/2023/03/default-featured-image.png
END:VEVENT
BEGIN:VEVENT
DTSTART;VALUE=DATE:20230223
DTEND;VALUE=DATE:20230226
DTSTAMP:20260425T063532
CREATED:20230214T204831Z
LAST-MODIFIED:20230214T204831Z
UID:10000113-1677110400-1677369599@diosohio.org
SUMMARY:Godly Play Core Training
DESCRIPTION:St. Mark’s\, Upper Arlington\, and St. John’s\, Worthington\, will co-host Godly Play Core training Feb 23-25 at St. Mark’s. \nGodly Play Core Training is the recommended training for every adult leading Godly Play sessions (years 1-3 of practice)\, for administrators\, and for clergy. Over the course of three days (minimum 18 contact hours)\, participants experience all aspects of the Godly Play method and begin to become fluent in the Godly Play core stories and fundamental practices. \nMore information and registration here.
URL:https://diosohio.org/event/godly-play-core-training/
LOCATION:St Mark’s Columbus\, 2151 Dorset Rd\, Columbus\, OH\, 43221-3103\, US
CATEGORIES:Community
ATTACH;FMTTYPE=image/png:https://diosohio.org/wp-content/uploads/2023/03/default-featured-image.png
END:VEVENT
END:VCALENDAR