BEGIN:VCALENDAR
VERSION:2.0
PRODID:-//Diocese of Southern Ohio - ECPv6.15.20//NONSGML v1.0//EN
CALSCALE:GREGORIAN
METHOD:PUBLISH
X-ORIGINAL-URL:https://diosohio.org
X-WR-CALDESC:Events for Diocese of Southern Ohio
REFRESH-INTERVAL;VALUE=DURATION:PT1H
X-Robots-Tag:noindex
X-PUBLISHED-TTL:PT1H
BEGIN:VTIMEZONE
TZID:America/New_York
BEGIN:DAYLIGHT
TZOFFSETFROM:-0500
TZOFFSETTO:-0400
TZNAME:EDT
DTSTART:20220313T070000
END:DAYLIGHT
BEGIN:STANDARD
TZOFFSETFROM:-0400
TZOFFSETTO:-0500
TZNAME:EST
DTSTART:20221106T060000
END:STANDARD
BEGIN:DAYLIGHT
TZOFFSETFROM:-0500
TZOFFSETTO:-0400
TZNAME:EDT
DTSTART:20230312T070000
END:DAYLIGHT
BEGIN:STANDARD
TZOFFSETFROM:-0400
TZOFFSETTO:-0500
TZNAME:EST
DTSTART:20231105T060000
END:STANDARD
BEGIN:DAYLIGHT
TZOFFSETFROM:-0500
TZOFFSETTO:-0400
TZNAME:EDT
DTSTART:20240310T070000
END:DAYLIGHT
BEGIN:STANDARD
TZOFFSETFROM:-0400
TZOFFSETTO:-0500
TZNAME:EST
DTSTART:20241103T060000
END:STANDARD
BEGIN:DAYLIGHT
TZOFFSETFROM:-0500
TZOFFSETTO:-0400
TZNAME:EDT
DTSTART:20250309T070000
END:DAYLIGHT
BEGIN:STANDARD
TZOFFSETFROM:-0400
TZOFFSETTO:-0500
TZNAME:EST
DTSTART:20251102T060000
END:STANDARD
BEGIN:DAYLIGHT
TZOFFSETFROM:-0500
TZOFFSETTO:-0400
TZNAME:EDT
DTSTART:20260308T070000
END:DAYLIGHT
BEGIN:STANDARD
TZOFFSETFROM:-0400
TZOFFSETTO:-0500
TZNAME:EST
DTSTART:20261101T060000
END:STANDARD
END:VTIMEZONE
BEGIN:VEVENT
DTSTART;TZID=America/New_York:20250829T170000
DTEND;TZID=America/New_York:20250829T220000
DTSTAMP:20260425T135241
CREATED:20250805T152503Z
LAST-MODIFIED:20250805T152820Z
UID:10002491-1756486800-1756504800@diosohio.org
SUMMARY:Westwood Pride (rescheduled)
DESCRIPTION:Westwood Pride was cancelled in June due to poor weather\, but has been rescheduled for Friday\, August 29 from 5 to 10 pm. at Westwood Town Hall. Join folks from St. James\, Westwood\, to be an Episcopal Church presence at the festival.
URL:https://diosohio.org/event/westwood-pride-rescheduled/
LOCATION:Westwood Town Hall\, 3017 Harrison Avenue\, Cincinnati\, 45211
CATEGORIES:LGBTQ+ Ministry,Pride
ATTACH;FMTTYPE=image/png:https://diosohio.org/wp-content/uploads/2025/04/DSO_Pride_SHIELD_thumbnail.png
END:VEVENT
BEGIN:VEVENT
DTSTART;TZID=America/New_York:20250614T170000
DTEND;TZID=America/New_York:20250614T220000
DTSTAMP:20260425T135241
CREATED:20250311T173131Z
LAST-MODIFIED:20250311T173131Z
UID:10001968-1749920400-1749938400@diosohio.org
SUMMARY:Westwood Pride
DESCRIPTION:More information TBA
URL:https://diosohio.org/event/westwood-pride-3/
LOCATION:Westwood Town Hall\, 3017 Harrison Avenue\, Cincinnati\, 45211
CATEGORIES:LGBTQ+ Ministry,Pride
ATTACH;FMTTYPE=image/png:https://diosohio.org/wp-content/uploads/2023/03/default-featured-image.png
END:VEVENT
BEGIN:VEVENT
DTSTART;TZID=America/New_York:20240608T170000
DTEND;TZID=America/New_York:20240608T220000
DTSTAMP:20260425T135241
CREATED:20240508T154922Z
LAST-MODIFIED:20240516T173224Z
UID:10001487-1717866000-1717884000@diosohio.org
SUMMARY:Westwood Pride
DESCRIPTION:Westwood Pride will be held on Saturday\, June 8 from 5 to 10 p.m. at Westwood Town Hall. See more information here. \nTo volunteer to be a part of the Episcopal Church presence\, click here.
URL:https://diosohio.org/event/westwood-pride-2/
LOCATION:Westwood Town Hall\, 3017 Harrison Avenue\, Cincinnati\, 45211
CATEGORIES:LGBTQ+ Ministry,Pride
ATTACH;FMTTYPE=image/jpeg:https://diosohio.org/wp-content/uploads/2024/05/Westwood-Pride.jpg
END:VEVENT
BEGIN:VEVENT
DTSTART;TZID=America/New_York:20231021T180000
DTEND;TZID=America/New_York:20231021T210000
DTSTAMP:20260425T135241
CREATED:20231006T151231Z
LAST-MODIFIED:20231006T151231Z
UID:10001077-1697911200-1697922000@diosohio.org
SUMMARY:Jammin' at the James
DESCRIPTION:Jammin’ at the James is a free community concert series sponsored by St. James\, Westwood. Join us at the Westwood Town Hall amphitheater on Saturday\, October 21\, for an evening of rock n’ roll with ToneYard. Enjoy the free concert with your friends and neighbors while enjoying food and drinks from the fine establishments in the DORA district. Come early with your furry family members for a blessings of pets from 5 to 6 p.m. Music starts at 6 p.m. See you there!
URL:https://diosohio.org/event/jammin-at-the-james-3/
LOCATION:Westwood Town Hall\, 3017 Harrison Avenue\, Cincinnati\, 45211
CATEGORIES:Community
ATTACH;FMTTYPE=image/png:https://diosohio.org/wp-content/uploads/2023/10/ToneYard.png
END:VEVENT
BEGIN:VEVENT
DTSTART;TZID=America/New_York:20230916T190000
DTEND;TZID=America/New_York:20230916T220000
DTSTAMP:20260425T135241
CREATED:20230816T174350Z
LAST-MODIFIED:20230816T174430Z
UID:10000939-1694890800-1694901600@diosohio.org
SUMMARY:Jammin' at the James
DESCRIPTION:Jammin’ at the James is a free summer concert series sponsored by St. James\, Westwood. Join us at the Westwood Town Hall amphitheater on Saturday\, September 16 for an evening of great bluegrass and gospel tunes with My Brother’s Keeper! Enjoy the free concert with your friends and neighbors while enjoying food and drinks from the fine establishments in the DORA district. Music starts at 7 p.m. See you there!
URL:https://diosohio.org/event/jammin-at-the-james-2/
LOCATION:Westwood Town Hall\, 3017 Harrison Avenue\, Cincinnati\, 45211
CATEGORIES:Community
ATTACH;FMTTYPE=image/png:https://diosohio.org/wp-content/uploads/2023/08/MBK-e1692207813731.png
END:VEVENT
BEGIN:VEVENT
DTSTART;TZID=America/New_York:20230819T190000
DTEND;TZID=America/New_York:20230819T220000
DTSTAMP:20260425T135241
CREATED:20230816T173545Z
LAST-MODIFIED:20230816T173812Z
UID:10000938-1692471600-1692482400@diosohio.org
SUMMARY:Jammin' at the James
DESCRIPTION:Jammin’ at the James\, a free summer concert series presented by St. James\, Westwood\, is back for 2023 with a new name and a new location – we’re moving the fun to Westwood Town Hall and the DORA district!\n\nJoin us at the Town Hall amphitheater on Saturday\, August 19 for an evening of great music and fun with Saffire Express! Groove to the concert with your friends and neighbors while enjoying food and drinks from the fine establishments in the DORA district. Music starts at 7 p.m. See you there!
URL:https://diosohio.org/event/jammin-at-the-james/
LOCATION:Westwood Town Hall\, 3017 Harrison Avenue\, Cincinnati\, 45211
CATEGORIES:Community
ATTACH;FMTTYPE=image/png:https://diosohio.org/wp-content/uploads/2023/08/Saffire-Express-e1692207480325.png
END:VEVENT
END:VCALENDAR